BEGIN:VCALENDAR
VERSION:2.0
PRODID:-//St Paul&#039;s Episcopal Church in Stockbridge - ECPv6.15.20//NONSGML v1.0//EN
CALSCALE:GREGORIAN
METHOD:PUBLISH
X-ORIGINAL-URL:https://stpaulsstockbridge.org
X-WR-CALDESC:Events for St Paul&#039;s Episcopal Church in Stockbridge
REFRESH-INTERVAL;VALUE=DURATION:PT1H
X-Robots-Tag:noindex
X-PUBLISHED-TTL:PT1H
BEGIN:VTIMEZONE
TZID:America/New_York
BEGIN:DAYLIGHT
TZOFFSETFROM:-0500
TZOFFSETTO:-0400
TZNAME:EDT
DTSTART:20230312T070000
END:DAYLIGHT
BEGIN:STANDARD
TZOFFSETFROM:-0400
TZOFFSETTO:-0500
TZNAME:EST
DTSTART:20231105T060000
END:STANDARD
BEGIN:DAYLIGHT
TZOFFSETFROM:-0500
TZOFFSETTO:-0400
TZNAME:EDT
DTSTART:20240310T070000
END:DAYLIGHT
BEGIN:STANDARD
TZOFFSETFROM:-0400
TZOFFSETTO:-0500
TZNAME:EST
DTSTART:20241103T060000
END:STANDARD
BEGIN:DAYLIGHT
TZOFFSETFROM:-0500
TZOFFSETTO:-0400
TZNAME:EDT
DTSTART:20250309T070000
END:DAYLIGHT
BEGIN:STANDARD
TZOFFSETFROM:-0400
TZOFFSETTO:-0500
TZNAME:EST
DTSTART:20251102T060000
END:STANDARD
END:VTIMEZONE
BEGIN:VEVENT
DTSTART;TZID=America/New_York:20241006T150000
DTEND;TZID=America/New_York:20241006T170000
DTSTAMP:20260425T172620
CREATED:20240913T141407Z
LAST-MODIFIED:20240916T003804Z
UID:10001472-1728226800-1728234000@stpaulsstockbridge.org
SUMMARY:Blessing of the Animals: Sunday\, October 6th at 3:00 PM
DESCRIPTION:In honor of the Feast Day of St. Francis\, patron saint of animals and ecology\, we will bless our lovable creatures on the church lawn.  This service acknowledges our belief that our loving Creator fashioned not just human beings\, but also the birds of the air\, the fish of the sea\, and the creatures of the forests and fields.  It also acknowledges our calling to be stewards and caretakers of all God’s creatures.
URL:https://stpaulsstockbridge.org/event/blessing-of-the-animals-sunday-october-6th-at-300-pm/
LOCATION:St. Paul’s Episcopal Church\, 29 Main Street\, Stockbridge\, MA\, 01262\, United States
CATEGORIES:Community,Prayer,Worship
ORGANIZER;CN="St. Paul's Episcopal Church":MAILTO:stpaulsstockbridge@gmail.com
END:VEVENT
END:VCALENDAR