BEGIN:VCALENDAR
VERSION:2.0
PRODID:-//St Paul&#039;s Episcopal Church in Stockbridge - ECPv6.15.20//NONSGML v1.0//EN
CALSCALE:GREGORIAN
METHOD:PUBLISH
X-WR-CALNAME:St Paul&#039;s Episcopal Church in Stockbridge
X-ORIGINAL-URL:https://stpaulsstockbridge.org
X-WR-CALDESC:Events for St Paul&#039;s Episcopal Church in Stockbridge
REFRESH-INTERVAL;VALUE=DURATION:PT1H
X-Robots-Tag:noindex
X-PUBLISHED-TTL:PT1H
BEGIN:VTIMEZONE
TZID:America/New_York
BEGIN:DAYLIGHT
TZOFFSETFROM:-0500
TZOFFSETTO:-0400
TZNAME:EDT
DTSTART:20230312T070000
END:DAYLIGHT
BEGIN:STANDARD
TZOFFSETFROM:-0400
TZOFFSETTO:-0500
TZNAME:EST
DTSTART:20231105T060000
END:STANDARD
BEGIN:DAYLIGHT
TZOFFSETFROM:-0500
TZOFFSETTO:-0400
TZNAME:EDT
DTSTART:20240310T070000
END:DAYLIGHT
BEGIN:STANDARD
TZOFFSETFROM:-0400
TZOFFSETTO:-0500
TZNAME:EST
DTSTART:20241103T060000
END:STANDARD
BEGIN:DAYLIGHT
TZOFFSETFROM:-0500
TZOFFSETTO:-0400
TZNAME:EDT
DTSTART:20250309T070000
END:DAYLIGHT
BEGIN:STANDARD
TZOFFSETFROM:-0400
TZOFFSETTO:-0500
TZNAME:EST
DTSTART:20251102T060000
END:STANDARD
END:VTIMEZONE
BEGIN:VEVENT
DTSTART;TZID=America/New_York:20241103T113000
DTEND;TZID=America/New_York:20241103T123000
DTSTAMP:20260425T155159
CREATED:20241025T012339Z
LAST-MODIFIED:20241025T012339Z
UID:10001519-1730633400-1730637000@stpaulsstockbridge.org
SUMMARY:Newcomer's Lunch
DESCRIPTION:
URL:https://stpaulsstockbridge.org/event/newcomers-lunch-3/
CATEGORIES:Community,Food
ORGANIZER;CN="St. Paul's Episcopal Church":MAILTO:stpaulsstockbridge@gmail.com
END:VEVENT
BEGIN:VEVENT
DTSTART;VALUE=DATE:20241105
DTEND;VALUE=DATE:20241106
DTSTAMP:20260425T155159
CREATED:20241025T012518Z
LAST-MODIFIED:20241025T012518Z
UID:10001520-1730764800-1730851199@stpaulsstockbridge.org
SUMMARY:Election Day: Church Open for Prayer
DESCRIPTION:Church open for prayer on Election Day; special prayers for the nation offered at 9:00 a.m.\, 12:00 p.m.\, 3:00 p.m.\, and 6:00 p.m.
URL:https://stpaulsstockbridge.org/event/election-day-church-open-for-prayer/
CATEGORIES:Community,Prayer,Worship
ORGANIZER;CN="St. Paul's Episcopal Church":MAILTO:stpaulsstockbridge@gmail.com
END:VEVENT
BEGIN:VEVENT
DTSTART;TZID=America/New_York:20241106T180000
DTEND;TZID=America/New_York:20241106T193000
DTSTAMP:20260425T155159
CREATED:20241025T012616Z
LAST-MODIFIED:20241025T012616Z
UID:10001521-1730916000-1730921400@stpaulsstockbridge.org
SUMMARY:Post-election Prayers and Holy Eucharist
DESCRIPTION:Post-election Prayers and Holy Eucharist in the Church
URL:https://stpaulsstockbridge.org/event/post-election-prayers-and-holy-eucharist/
LOCATION:St. Paul’s Episcopal Church\, 29 Main Street\, Stockbridge\, MA\, 01262\, United States
CATEGORIES:Community,Prayer,Worship
ORGANIZER;CN="St. Paul's Episcopal Church":MAILTO:stpaulsstockbridge@gmail.com
END:VEVENT
BEGIN:VEVENT
DTSTART;TZID=America/New_York:20241116T100000
DTEND;TZID=America/New_York:20241116T113000
DTSTAMP:20260425T155159
CREATED:20241025T012726Z
LAST-MODIFIED:20241025T012736Z
UID:10001522-1731751200-1731756600@stpaulsstockbridge.org
SUMMARY:Training for Sunday Servers
DESCRIPTION:Lectors/Intercessors at 10:00 a.m \nGreeters at 10:30 a.m.  \nAcolytes at 11:00 a.m.
URL:https://stpaulsstockbridge.org/event/training-for-sunday-servers/
LOCATION:St. Paul’s Episcopal Church\, 29 Main Street\, Stockbridge\, MA\, 01262\, United States
CATEGORIES:Community
ORGANIZER;CN="St. Paul's Episcopal Church":MAILTO:stpaulsstockbridge@gmail.com
END:VEVENT
END:VCALENDAR