BEGIN:VCALENDAR
VERSION:2.0
PRODID:-//St Paul&#039;s Episcopal Church in Stockbridge - ECPv6.15.20//NONSGML v1.0//EN
CALSCALE:GREGORIAN
METHOD:PUBLISH
X-WR-CALNAME:St Paul&#039;s Episcopal Church in Stockbridge
X-ORIGINAL-URL:https://stpaulsstockbridge.org
X-WR-CALDESC:Events for St Paul&#039;s Episcopal Church in Stockbridge
REFRESH-INTERVAL;VALUE=DURATION:PT1H
X-Robots-Tag:noindex
X-PUBLISHED-TTL:PT1H
BEGIN:VTIMEZONE
TZID:America/New_York
BEGIN:DAYLIGHT
TZOFFSETFROM:-0500
TZOFFSETTO:-0400
TZNAME:EDT
DTSTART:20220313T070000
END:DAYLIGHT
BEGIN:STANDARD
TZOFFSETFROM:-0400
TZOFFSETTO:-0500
TZNAME:EST
DTSTART:20221106T060000
END:STANDARD
BEGIN:DAYLIGHT
TZOFFSETFROM:-0500
TZOFFSETTO:-0400
TZNAME:EDT
DTSTART:20230312T070000
END:DAYLIGHT
BEGIN:STANDARD
TZOFFSETFROM:-0400
TZOFFSETTO:-0500
TZNAME:EST
DTSTART:20231105T060000
END:STANDARD
BEGIN:DAYLIGHT
TZOFFSETFROM:-0500
TZOFFSETTO:-0400
TZNAME:EDT
DTSTART:20240310T070000
END:DAYLIGHT
BEGIN:STANDARD
TZOFFSETFROM:-0400
TZOFFSETTO:-0500
TZNAME:EST
DTSTART:20241103T060000
END:STANDARD
BEGIN:DAYLIGHT
TZOFFSETFROM:-0500
TZOFFSETTO:-0400
TZNAME:EDT
DTSTART:20250309T070000
END:DAYLIGHT
BEGIN:STANDARD
TZOFFSETFROM:-0400
TZOFFSETTO:-0500
TZNAME:EST
DTSTART:20251102T060000
END:STANDARD
END:VTIMEZONE
BEGIN:VEVENT
DTSTART;TZID=America/New_York:20240331T113000
DTEND;TZID=America/New_York:20240331T123000
DTSTAMP:20260424T180212
CREATED:20240318T001850Z
LAST-MODIFIED:20240318T001850Z
UID:10001370-1711884600-1711888200@stpaulsstockbridge.org
SUMMARY:Easter Egg Hunt
DESCRIPTION:Will you have children or grandchildren with you on Easter Day? On Sunday\, March 31\, we’ll joyfully celebrate Easter with an egg hunt in the churchyard for children after the 10 a.m. Eucharist! If you’ll have children present\, Martha Bodine would love a heads up so that we can plan to have an appropriate number of eggs (you can email her at marthabodine@yahoo.com). Stay tuned for more information\, including how you can help stuff eggs after church on Palm Sunday.
URL:https://stpaulsstockbridge.org/event/easter-egg-hunt/
CATEGORIES:Community
ORGANIZER;CN="St. Paul's Episcopal Church":MAILTO:stpaulsstockbridge@gmail.com
END:VEVENT
BEGIN:VEVENT
DTSTART;TZID=America/New_York:20240303T113000
DTEND;TZID=America/New_York:20240303T113000
DTSTAMP:20260424T180212
CREATED:20240228T150713Z
LAST-MODIFIED:20240228T150850Z
UID:10001290-1709465400-1709465400@stpaulsstockbridge.org
SUMMARY:Newcomer's Lunch
DESCRIPTION:Are you new at St. Paul’s? Have you been around for a few months\, or weeks\, and are looking to meet more people and get involved? Join Father Sam for lunch after service to learn more about the parish and how you can make a home in this community of faith. We’ll meet after the 10:00 Holy Eucharist in the tower room and walk over to the upper level of the Parish House to share lunch and conversation. All are welcome!
URL:https://stpaulsstockbridge.org/event/newcomers-lunch/2024-03-03/
LOCATION:St. Paul’s Episcopal Church\, 29 Main Street\, Stockbridge\, MA\, 01262\, United States
CATEGORIES:Community,Food
ORGANIZER;CN="St. Paul's Episcopal Church":MAILTO:stpaulsstockbridge@gmail.com
END:VEVENT
BEGIN:VEVENT
DTSTART;TZID=America/New_York:20231112T160000
DTEND;TZID=America/New_York:20231112T180000
DTSTAMP:20260424T180212
CREATED:20231027T021703Z
LAST-MODIFIED:20231030T153744Z
UID:10000955-1699804800-1699812000@stpaulsstockbridge.org
SUMMARY:French Wine Tasting Fundraiser
DESCRIPTION:
URL:https://stpaulsstockbridge.org/event/wine-tasting-in-the-rectory-and-at-the-red-lion-inn/
LOCATION:St. Paul’s Episcopal Church\, 29 Main Street\, Stockbridge\, MA\, 01262\, United States
CATEGORIES:Community,Food
ORGANIZER;CN="St. Paul's Episcopal Church":MAILTO:stpaulsstockbridge@gmail.com
END:VEVENT
BEGIN:VEVENT
DTSTART;TZID=America/New_York:20231016T143000
DTEND;TZID=America/New_York:20231016T163000
DTSTAMP:20260424T180212
CREATED:20231006T012051Z
LAST-MODIFIED:20231006T012051Z
UID:10000952-1697466600-1697473800@stpaulsstockbridge.org
SUMMARY:The Kindness Bench with JoAnne Spies
DESCRIPTION:The Kindness Bench is a place to slow down… pause…. listen and if you like\, do nothing. It can be a place to share news of your day\, news from your heart …your joy and your sorrows are welcome. The Kindness Bench is a no judgment zone. Singer songwriter JoAnne Spies (more info on the bench and JoAnne here) will bring different musical instruments\, poems and creative prompts as well as the time to share silence. You may choose to listen to soothing sounds or collaborate on a song\, a poem or a prayer. JoAnne is an interfaith minister and may bring prayers from different traditions to share. Make time for kindness and schedule a visit. Or just amble by and have a seat. \n       WHERE: The bench is located on the east side of the church.\nOr you may see JoAnne and her instruments on one of the brightly colored chairs.\nIn inclement weather come inside.
URL:https://stpaulsstockbridge.org/event/the-kindness-bench-with-joanne-spies/
CATEGORIES:Community,Music
ORGANIZER;CN="St. Paul's Episcopal Church":MAILTO:stpaulsstockbridge@gmail.com
END:VEVENT
BEGIN:VEVENT
DTSTART;TZID=America/New_York:20231008T150000
DTEND;TZID=America/New_York:20231008T163000
DTSTAMP:20260424T180212
CREATED:20230918T010707Z
LAST-MODIFIED:20230919T181759Z
UID:10000950-1696777200-1696782600@stpaulsstockbridge.org
SUMMARY:Blessing of the Animals
DESCRIPTION:Celebrating the Feast of St. Francis\, on the St. Paul’s lawn at 3:00 PM
URL:https://stpaulsstockbridge.org/event/blessing-of-the-animals/
LOCATION:St. Paul’s Episcopal Church\, 29 Main Street\, Stockbridge\, MA\, 01262\, United States
CATEGORIES:Community,Outreach,Prayer
ORGANIZER;CN="St. Paul's Episcopal Church":MAILTO:stpaulsstockbridge@gmail.com
END:VEVENT
BEGIN:VEVENT
DTSTART;TZID=America/New_York:20230813T103000
DTEND;TZID=America/New_York:20230813T120000
DTSTAMP:20260424T180212
CREATED:20230725T181234Z
LAST-MODIFIED:20230725T195732Z
UID:10000355-1691922600-1691928000@stpaulsstockbridge.org
SUMMARY:Weeding Day after Church
DESCRIPTION:Join us following the service for a quick weed of the church garden.
URL:https://stpaulsstockbridge.org/event/august-13th-weeding-day-after-church/
LOCATION:St. Paul’s Episcopal Church\, 29 Main Street\, Stockbridge\, MA\, 01262\, United States
CATEGORIES:Community,Worship
ATTACH;FMTTYPE=image/png:https://stpaulsstockbridge.org/wp-content/uploads/2023/06/Picture1.png
ORGANIZER;CN="St. Paul's Episcopal Church":MAILTO:stpaulsstockbridge@gmail.com
END:VEVENT
END:VCALENDAR