BEGIN:VCALENDAR
VERSION:2.0
PRODID:-//St Paul&#039;s Episcopal Church in Stockbridge - ECPv6.15.20//NONSGML v1.0//EN
CALSCALE:GREGORIAN
METHOD:PUBLISH
X-ORIGINAL-URL:https://stpaulsstockbridge.org
X-WR-CALDESC:Events for St Paul&#039;s Episcopal Church in Stockbridge
REFRESH-INTERVAL;VALUE=DURATION:PT1H
X-Robots-Tag:noindex
X-PUBLISHED-TTL:PT1H
BEGIN:VTIMEZONE
TZID:America/New_York
BEGIN:DAYLIGHT
TZOFFSETFROM:-0500
TZOFFSETTO:-0400
TZNAME:EDT
DTSTART:20250309T070000
END:DAYLIGHT
BEGIN:STANDARD
TZOFFSETFROM:-0400
TZOFFSETTO:-0500
TZNAME:EST
DTSTART:20251102T060000
END:STANDARD
BEGIN:DAYLIGHT
TZOFFSETFROM:-0500
TZOFFSETTO:-0400
TZNAME:EDT
DTSTART:20260308T070000
END:DAYLIGHT
BEGIN:STANDARD
TZOFFSETFROM:-0400
TZOFFSETTO:-0500
TZNAME:EST
DTSTART:20261101T060000
END:STANDARD
BEGIN:DAYLIGHT
TZOFFSETFROM:-0500
TZOFFSETTO:-0400
TZNAME:EDT
DTSTART:20270314T070000
END:DAYLIGHT
BEGIN:STANDARD
TZOFFSETFROM:-0400
TZOFFSETTO:-0500
TZNAME:EST
DTSTART:20271107T060000
END:STANDARD
BEGIN:DAYLIGHT
TZOFFSETFROM:-0500
TZOFFSETTO:-0400
TZNAME:EDT
DTSTART:20280312T070000
END:DAYLIGHT
BEGIN:STANDARD
TZOFFSETFROM:-0400
TZOFFSETTO:-0500
TZNAME:EST
DTSTART:20281105T060000
END:STANDARD
END:VTIMEZONE
BEGIN:VEVENT
DTSTART;TZID=America/New_York:20261021T180000
DTEND;TZID=America/New_York:20261021T193000
DTSTAMP:20260425T114436
CREATED:20260305T002042Z
LAST-MODIFIED:20260305T004733Z
UID:10003448-1792605600-1792611000@stpaulsstockbridge.org
SUMMARY:Lenten Supper in the Rectory
DESCRIPTION:
URL:https://stpaulsstockbridge.org/event/lenten-supper-in-the-rectory/2026-10-21/
LOCATION:St. Paul’s Rectory\, 29 Main Street\, Stockbridge\, United States
CATEGORIES:Community,Food
ORGANIZER;CN="St. Paul's Episcopal Church":MAILTO:stpaulsstockbridge@gmail.com
END:VEVENT
BEGIN:VEVENT
DTSTART;TZID=America/New_York:20261028T180000
DTEND;TZID=America/New_York:20261028T193000
DTSTAMP:20260425T114436
CREATED:20260305T002042Z
LAST-MODIFIED:20260305T004733Z
UID:10003449-1793210400-1793215800@stpaulsstockbridge.org
SUMMARY:Lenten Supper in the Rectory
DESCRIPTION:
URL:https://stpaulsstockbridge.org/event/lenten-supper-in-the-rectory/2026-10-28/
LOCATION:St. Paul’s Rectory\, 29 Main Street\, Stockbridge\, United States
CATEGORIES:Community,Food
ORGANIZER;CN="St. Paul's Episcopal Church":MAILTO:stpaulsstockbridge@gmail.com
END:VEVENT
BEGIN:VEVENT
DTSTART;TZID=America/New_York:20261104T180000
DTEND;TZID=America/New_York:20261104T193000
DTSTAMP:20260425T114436
CREATED:20260305T002042Z
LAST-MODIFIED:20260305T004733Z
UID:10003450-1793815200-1793820600@stpaulsstockbridge.org
SUMMARY:Lenten Supper in the Rectory
DESCRIPTION:
URL:https://stpaulsstockbridge.org/event/lenten-supper-in-the-rectory/2026-11-04/
LOCATION:St. Paul’s Rectory\, 29 Main Street\, Stockbridge\, United States
CATEGORIES:Community,Food
ORGANIZER;CN="St. Paul's Episcopal Church":MAILTO:stpaulsstockbridge@gmail.com
END:VEVENT
BEGIN:VEVENT
DTSTART;TZID=America/New_York:20261111T180000
DTEND;TZID=America/New_York:20261111T193000
DTSTAMP:20260425T114436
CREATED:20260305T002042Z
LAST-MODIFIED:20260305T004733Z
UID:10003451-1794420000-1794425400@stpaulsstockbridge.org
SUMMARY:Lenten Supper in the Rectory
DESCRIPTION:
URL:https://stpaulsstockbridge.org/event/lenten-supper-in-the-rectory/2026-11-11/
LOCATION:St. Paul’s Rectory\, 29 Main Street\, Stockbridge\, United States
CATEGORIES:Community,Food
ORGANIZER;CN="St. Paul's Episcopal Church":MAILTO:stpaulsstockbridge@gmail.com
END:VEVENT
BEGIN:VEVENT
DTSTART;TZID=America/New_York:20261118T180000
DTEND;TZID=America/New_York:20261118T193000
DTSTAMP:20260425T114436
CREATED:20260305T002042Z
LAST-MODIFIED:20260305T004733Z
UID:10003452-1795024800-1795030200@stpaulsstockbridge.org
SUMMARY:Lenten Supper in the Rectory
DESCRIPTION:
URL:https://stpaulsstockbridge.org/event/lenten-supper-in-the-rectory/2026-11-18/
LOCATION:St. Paul’s Rectory\, 29 Main Street\, Stockbridge\, United States
CATEGORIES:Community,Food
ORGANIZER;CN="St. Paul's Episcopal Church":MAILTO:stpaulsstockbridge@gmail.com
END:VEVENT
BEGIN:VEVENT
DTSTART;TZID=America/New_York:20261125T180000
DTEND;TZID=America/New_York:20261125T193000
DTSTAMP:20260425T114436
CREATED:20260305T002042Z
LAST-MODIFIED:20260305T004733Z
UID:10003453-1795629600-1795635000@stpaulsstockbridge.org
SUMMARY:Lenten Supper in the Rectory
DESCRIPTION:
URL:https://stpaulsstockbridge.org/event/lenten-supper-in-the-rectory/2026-11-25/
LOCATION:St. Paul’s Rectory\, 29 Main Street\, Stockbridge\, United States
CATEGORIES:Community,Food
ORGANIZER;CN="St. Paul's Episcopal Church":MAILTO:stpaulsstockbridge@gmail.com
END:VEVENT
BEGIN:VEVENT
DTSTART;TZID=America/New_York:20261202T180000
DTEND;TZID=America/New_York:20261202T193000
DTSTAMP:20260425T114436
CREATED:20260305T002042Z
LAST-MODIFIED:20260305T004733Z
UID:10003454-1796234400-1796239800@stpaulsstockbridge.org
SUMMARY:Lenten Supper in the Rectory
DESCRIPTION:
URL:https://stpaulsstockbridge.org/event/lenten-supper-in-the-rectory/2026-12-02/
LOCATION:St. Paul’s Rectory\, 29 Main Street\, Stockbridge\, United States
CATEGORIES:Community,Food
ORGANIZER;CN="St. Paul's Episcopal Church":MAILTO:stpaulsstockbridge@gmail.com
END:VEVENT
BEGIN:VEVENT
DTSTART;TZID=America/New_York:20261209T180000
DTEND;TZID=America/New_York:20261209T193000
DTSTAMP:20260425T114436
CREATED:20260305T002042Z
LAST-MODIFIED:20260305T004733Z
UID:10003455-1796839200-1796844600@stpaulsstockbridge.org
SUMMARY:Lenten Supper in the Rectory
DESCRIPTION:
URL:https://stpaulsstockbridge.org/event/lenten-supper-in-the-rectory/2026-12-09/
LOCATION:St. Paul’s Rectory\, 29 Main Street\, Stockbridge\, United States
CATEGORIES:Community,Food
ORGANIZER;CN="St. Paul's Episcopal Church":MAILTO:stpaulsstockbridge@gmail.com
END:VEVENT
BEGIN:VEVENT
DTSTART;TZID=America/New_York:20261216T180000
DTEND;TZID=America/New_York:20261216T193000
DTSTAMP:20260425T114436
CREATED:20260305T002042Z
LAST-MODIFIED:20260305T004733Z
UID:10003456-1797444000-1797449400@stpaulsstockbridge.org
SUMMARY:Lenten Supper in the Rectory
DESCRIPTION:
URL:https://stpaulsstockbridge.org/event/lenten-supper-in-the-rectory/2026-12-16/
LOCATION:St. Paul’s Rectory\, 29 Main Street\, Stockbridge\, United States
CATEGORIES:Community,Food
ORGANIZER;CN="St. Paul's Episcopal Church":MAILTO:stpaulsstockbridge@gmail.com
END:VEVENT
BEGIN:VEVENT
DTSTART;TZID=America/New_York:20261223T180000
DTEND;TZID=America/New_York:20261223T193000
DTSTAMP:20260425T114436
CREATED:20260305T002042Z
LAST-MODIFIED:20260305T004733Z
UID:10003457-1798048800-1798054200@stpaulsstockbridge.org
SUMMARY:Lenten Supper in the Rectory
DESCRIPTION:
URL:https://stpaulsstockbridge.org/event/lenten-supper-in-the-rectory/2026-12-23/
LOCATION:St. Paul’s Rectory\, 29 Main Street\, Stockbridge\, United States
CATEGORIES:Community,Food
ORGANIZER;CN="St. Paul's Episcopal Church":MAILTO:stpaulsstockbridge@gmail.com
END:VEVENT
BEGIN:VEVENT
DTSTART;TZID=America/New_York:20261230T180000
DTEND;TZID=America/New_York:20261230T193000
DTSTAMP:20260425T114436
CREATED:20260305T002042Z
LAST-MODIFIED:20260305T004733Z
UID:10003458-1798653600-1798659000@stpaulsstockbridge.org
SUMMARY:Lenten Supper in the Rectory
DESCRIPTION:
URL:https://stpaulsstockbridge.org/event/lenten-supper-in-the-rectory/2026-12-30/
LOCATION:St. Paul’s Rectory\, 29 Main Street\, Stockbridge\, United States
CATEGORIES:Community,Food
ORGANIZER;CN="St. Paul's Episcopal Church":MAILTO:stpaulsstockbridge@gmail.com
END:VEVENT
BEGIN:VEVENT
DTSTART;TZID=America/New_York:20270106T180000
DTEND;TZID=America/New_York:20270106T193000
DTSTAMP:20260425T114436
CREATED:20260305T002042Z
LAST-MODIFIED:20260305T004733Z
UID:10003459-1799258400-1799263800@stpaulsstockbridge.org
SUMMARY:Lenten Supper in the Rectory
DESCRIPTION:
URL:https://stpaulsstockbridge.org/event/lenten-supper-in-the-rectory/2027-01-06/
LOCATION:St. Paul’s Rectory\, 29 Main Street\, Stockbridge\, United States
CATEGORIES:Community,Food
ORGANIZER;CN="St. Paul's Episcopal Church":MAILTO:stpaulsstockbridge@gmail.com
END:VEVENT
BEGIN:VEVENT
DTSTART;TZID=America/New_York:20270113T180000
DTEND;TZID=America/New_York:20270113T193000
DTSTAMP:20260425T114436
CREATED:20260305T002042Z
LAST-MODIFIED:20260305T004733Z
UID:10003460-1799863200-1799868600@stpaulsstockbridge.org
SUMMARY:Lenten Supper in the Rectory
DESCRIPTION:
URL:https://stpaulsstockbridge.org/event/lenten-supper-in-the-rectory/2027-01-13/
LOCATION:St. Paul’s Rectory\, 29 Main Street\, Stockbridge\, United States
CATEGORIES:Community,Food
ORGANIZER;CN="St. Paul's Episcopal Church":MAILTO:stpaulsstockbridge@gmail.com
END:VEVENT
BEGIN:VEVENT
DTSTART;TZID=America/New_York:20270120T180000
DTEND;TZID=America/New_York:20270120T193000
DTSTAMP:20260425T114436
CREATED:20260305T002042Z
LAST-MODIFIED:20260305T004733Z
UID:10003461-1800468000-1800473400@stpaulsstockbridge.org
SUMMARY:Lenten Supper in the Rectory
DESCRIPTION:
URL:https://stpaulsstockbridge.org/event/lenten-supper-in-the-rectory/2027-01-20/
LOCATION:St. Paul’s Rectory\, 29 Main Street\, Stockbridge\, United States
CATEGORIES:Community,Food
ORGANIZER;CN="St. Paul's Episcopal Church":MAILTO:stpaulsstockbridge@gmail.com
END:VEVENT
BEGIN:VEVENT
DTSTART;TZID=America/New_York:20270127T180000
DTEND;TZID=America/New_York:20270127T193000
DTSTAMP:20260425T114436
CREATED:20260305T002042Z
LAST-MODIFIED:20260305T004733Z
UID:10003462-1801072800-1801078200@stpaulsstockbridge.org
SUMMARY:Lenten Supper in the Rectory
DESCRIPTION:
URL:https://stpaulsstockbridge.org/event/lenten-supper-in-the-rectory/2027-01-27/
LOCATION:St. Paul’s Rectory\, 29 Main Street\, Stockbridge\, United States
CATEGORIES:Community,Food
ORGANIZER;CN="St. Paul's Episcopal Church":MAILTO:stpaulsstockbridge@gmail.com
END:VEVENT
BEGIN:VEVENT
DTSTART;TZID=America/New_York:20270203T180000
DTEND;TZID=America/New_York:20270203T193000
DTSTAMP:20260425T114436
CREATED:20260305T002042Z
LAST-MODIFIED:20260305T004733Z
UID:10003463-1801677600-1801683000@stpaulsstockbridge.org
SUMMARY:Lenten Supper in the Rectory
DESCRIPTION:
URL:https://stpaulsstockbridge.org/event/lenten-supper-in-the-rectory/2027-02-03/
LOCATION:St. Paul’s Rectory\, 29 Main Street\, Stockbridge\, United States
CATEGORIES:Community,Food
ORGANIZER;CN="St. Paul's Episcopal Church":MAILTO:stpaulsstockbridge@gmail.com
END:VEVENT
BEGIN:VEVENT
DTSTART;TZID=America/New_York:20270210T180000
DTEND;TZID=America/New_York:20270210T193000
DTSTAMP:20260425T114436
CREATED:20260305T002042Z
LAST-MODIFIED:20260305T004733Z
UID:10003464-1802282400-1802287800@stpaulsstockbridge.org
SUMMARY:Lenten Supper in the Rectory
DESCRIPTION:
URL:https://stpaulsstockbridge.org/event/lenten-supper-in-the-rectory/2027-02-10/
LOCATION:St. Paul’s Rectory\, 29 Main Street\, Stockbridge\, United States
CATEGORIES:Community,Food
ORGANIZER;CN="St. Paul's Episcopal Church":MAILTO:stpaulsstockbridge@gmail.com
END:VEVENT
BEGIN:VEVENT
DTSTART;TZID=America/New_York:20270217T180000
DTEND;TZID=America/New_York:20270217T193000
DTSTAMP:20260425T114436
CREATED:20260305T002042Z
LAST-MODIFIED:20260305T004733Z
UID:10003465-1802887200-1802892600@stpaulsstockbridge.org
SUMMARY:Lenten Supper in the Rectory
DESCRIPTION:
URL:https://stpaulsstockbridge.org/event/lenten-supper-in-the-rectory/2027-02-17/
LOCATION:St. Paul’s Rectory\, 29 Main Street\, Stockbridge\, United States
CATEGORIES:Community,Food
ORGANIZER;CN="St. Paul's Episcopal Church":MAILTO:stpaulsstockbridge@gmail.com
END:VEVENT
BEGIN:VEVENT
DTSTART;TZID=America/New_York:20270224T180000
DTEND;TZID=America/New_York:20270224T193000
DTSTAMP:20260425T114436
CREATED:20260305T002042Z
LAST-MODIFIED:20260305T004733Z
UID:10003466-1803492000-1803497400@stpaulsstockbridge.org
SUMMARY:Lenten Supper in the Rectory
DESCRIPTION:
URL:https://stpaulsstockbridge.org/event/lenten-supper-in-the-rectory/2027-02-24/
LOCATION:St. Paul’s Rectory\, 29 Main Street\, Stockbridge\, United States
CATEGORIES:Community,Food
ORGANIZER;CN="St. Paul's Episcopal Church":MAILTO:stpaulsstockbridge@gmail.com
END:VEVENT
BEGIN:VEVENT
DTSTART;TZID=America/New_York:20270303T180000
DTEND;TZID=America/New_York:20270303T193000
DTSTAMP:20260425T114436
CREATED:20260305T002042Z
LAST-MODIFIED:20260305T004733Z
UID:10003467-1804096800-1804102200@stpaulsstockbridge.org
SUMMARY:Lenten Supper in the Rectory
DESCRIPTION:
URL:https://stpaulsstockbridge.org/event/lenten-supper-in-the-rectory/2027-03-03/
LOCATION:St. Paul’s Rectory\, 29 Main Street\, Stockbridge\, United States
CATEGORIES:Community,Food
ORGANIZER;CN="St. Paul's Episcopal Church":MAILTO:stpaulsstockbridge@gmail.com
END:VEVENT
BEGIN:VEVENT
DTSTART;TZID=America/New_York:20270310T180000
DTEND;TZID=America/New_York:20270310T193000
DTSTAMP:20260425T114436
CREATED:20260305T002042Z
LAST-MODIFIED:20260305T004733Z
UID:10003468-1804701600-1804707000@stpaulsstockbridge.org
SUMMARY:Lenten Supper in the Rectory
DESCRIPTION:
URL:https://stpaulsstockbridge.org/event/lenten-supper-in-the-rectory/2027-03-10/
LOCATION:St. Paul’s Rectory\, 29 Main Street\, Stockbridge\, United States
CATEGORIES:Community,Food
ORGANIZER;CN="St. Paul's Episcopal Church":MAILTO:stpaulsstockbridge@gmail.com
END:VEVENT
BEGIN:VEVENT
DTSTART;TZID=America/New_York:20270317T180000
DTEND;TZID=America/New_York:20270317T193000
DTSTAMP:20260425T114436
CREATED:20260305T002042Z
LAST-MODIFIED:20260305T004733Z
UID:10003469-1805306400-1805311800@stpaulsstockbridge.org
SUMMARY:Lenten Supper in the Rectory
DESCRIPTION:
URL:https://stpaulsstockbridge.org/event/lenten-supper-in-the-rectory/2027-03-17/
LOCATION:St. Paul’s Rectory\, 29 Main Street\, Stockbridge\, United States
CATEGORIES:Community,Food
ORGANIZER;CN="St. Paul's Episcopal Church":MAILTO:stpaulsstockbridge@gmail.com
END:VEVENT
BEGIN:VEVENT
DTSTART;TZID=America/New_York:20270324T180000
DTEND;TZID=America/New_York:20270324T193000
DTSTAMP:20260425T114436
CREATED:20260305T002042Z
LAST-MODIFIED:20260305T004733Z
UID:10003470-1805911200-1805916600@stpaulsstockbridge.org
SUMMARY:Lenten Supper in the Rectory
DESCRIPTION:
URL:https://stpaulsstockbridge.org/event/lenten-supper-in-the-rectory/2027-03-24/
LOCATION:St. Paul’s Rectory\, 29 Main Street\, Stockbridge\, United States
CATEGORIES:Community,Food
ORGANIZER;CN="St. Paul's Episcopal Church":MAILTO:stpaulsstockbridge@gmail.com
END:VEVENT
BEGIN:VEVENT
DTSTART;TZID=America/New_York:20270331T180000
DTEND;TZID=America/New_York:20270331T193000
DTSTAMP:20260425T114436
CREATED:20260305T002042Z
LAST-MODIFIED:20260305T004733Z
UID:10003471-1806516000-1806521400@stpaulsstockbridge.org
SUMMARY:Lenten Supper in the Rectory
DESCRIPTION:
URL:https://stpaulsstockbridge.org/event/lenten-supper-in-the-rectory/2027-03-31/
LOCATION:St. Paul’s Rectory\, 29 Main Street\, Stockbridge\, United States
CATEGORIES:Community,Food
ORGANIZER;CN="St. Paul's Episcopal Church":MAILTO:stpaulsstockbridge@gmail.com
END:VEVENT
END:VCALENDAR