BEGIN:VCALENDAR
VERSION:2.0
PRODID:-//St Paul&#039;s Episcopal Church in Stockbridge - ECPv6.15.20//NONSGML v1.0//EN
CALSCALE:GREGORIAN
METHOD:PUBLISH
X-WR-CALNAME:St Paul&#039;s Episcopal Church in Stockbridge
X-ORIGINAL-URL:https://stpaulsstockbridge.org
X-WR-CALDESC:Events for St Paul&#039;s Episcopal Church in Stockbridge
REFRESH-INTERVAL;VALUE=DURATION:PT1H
X-Robots-Tag:noindex
X-PUBLISHED-TTL:PT1H
BEGIN:VTIMEZONE
TZID:America/New_York
BEGIN:DAYLIGHT
TZOFFSETFROM:-0500
TZOFFSETTO:-0400
TZNAME:EDT
DTSTART:20240310T070000
END:DAYLIGHT
BEGIN:STANDARD
TZOFFSETFROM:-0400
TZOFFSETTO:-0500
TZNAME:EST
DTSTART:20241103T060000
END:STANDARD
BEGIN:DAYLIGHT
TZOFFSETFROM:-0500
TZOFFSETTO:-0400
TZNAME:EDT
DTSTART:20250309T070000
END:DAYLIGHT
BEGIN:STANDARD
TZOFFSETFROM:-0400
TZOFFSETTO:-0500
TZNAME:EST
DTSTART:20251102T060000
END:STANDARD
BEGIN:DAYLIGHT
TZOFFSETFROM:-0500
TZOFFSETTO:-0400
TZNAME:EDT
DTSTART:20260308T070000
END:DAYLIGHT
BEGIN:STANDARD
TZOFFSETFROM:-0400
TZOFFSETTO:-0500
TZNAME:EST
DTSTART:20261101T060000
END:STANDARD
END:VTIMEZONE
BEGIN:VEVENT
DTSTART;VALUE=DATE:20250816
DTEND;VALUE=DATE:20250818
DTSTAMP:20260425T085527
CREATED:20250814T193430Z
LAST-MODIFIED:20250814T193430Z
UID:10003410-1755302400-1755475199@stpaulsstockbridge.org
SUMMARY:St. Paul's Creating Connections
DESCRIPTION:An open house celebration of art and music for all ages \nSaturday\, August 16- 11:00 AM – 3:00 PM \nSunday\, August 17th- 10:30 AM – 3:00 PM \nArt-making\, Music\, Story-walk \nGuided Tour of Art in the Church \nLemonade and Cookies\, and more… \n1:00-1:45\, Saturday\, August 16 A Sound Journey\nInside St. Paul’s church\, relax to the resonant\, healing sounds of the RAV drum and assorted\nchimes – a tapestry of sound created by JoAnne Spies. \n2:15-3:00\, Saturday\, August 16 The Kindness Bench\nWrite a song or poem with JoAnne Spies at the Kindness Bench on St. Paul’s front lawn.\nLook for a sign and join JoAnne in this judgment-free zone where you can create a connection\nor just enjoy the moment in peace. \nSunday\, 9:00 a.m. – Worship on the Lawn – All are Invited \n 
URL:https://stpaulsstockbridge.org/event/st-pauls-creating-connections/
LOCATION:St. Paul’s Episcopal Church\, 29 Main Street\, Stockbridge\, MA\, 01262\, United States
CATEGORIES:Community,Music
ORGANIZER;CN="St. Paul's Episcopal Church":MAILTO:stpaulsstockbridge@gmail.com
END:VEVENT
END:VCALENDAR