BEGIN:VCALENDAR
VERSION:2.0
PRODID:-//St Paul&#039;s Episcopal Church in Stockbridge - ECPv6.15.20//NONSGML v1.0//EN
CALSCALE:GREGORIAN
METHOD:PUBLISH
X-WR-CALNAME:St Paul&#039;s Episcopal Church in Stockbridge
X-ORIGINAL-URL:https://stpaulsstockbridge.org
X-WR-CALDESC:Events for St Paul&#039;s Episcopal Church in Stockbridge
REFRESH-INTERVAL;VALUE=DURATION:PT1H
X-Robots-Tag:noindex
X-PUBLISHED-TTL:PT1H
BEGIN:VTIMEZONE
TZID:America/New_York
BEGIN:DAYLIGHT
TZOFFSETFROM:-0500
TZOFFSETTO:-0400
TZNAME:EDT
DTSTART:20250309T070000
END:DAYLIGHT
BEGIN:STANDARD
TZOFFSETFROM:-0400
TZOFFSETTO:-0500
TZNAME:EST
DTSTART:20251102T060000
END:STANDARD
BEGIN:DAYLIGHT
TZOFFSETFROM:-0500
TZOFFSETTO:-0400
TZNAME:EDT
DTSTART:20260308T070000
END:DAYLIGHT
BEGIN:STANDARD
TZOFFSETFROM:-0400
TZOFFSETTO:-0500
TZNAME:EST
DTSTART:20261101T060000
END:STANDARD
BEGIN:DAYLIGHT
TZOFFSETFROM:-0500
TZOFFSETTO:-0400
TZNAME:EDT
DTSTART:20270314T070000
END:DAYLIGHT
BEGIN:STANDARD
TZOFFSETFROM:-0400
TZOFFSETTO:-0500
TZNAME:EST
DTSTART:20271107T060000
END:STANDARD
END:VTIMEZONE
BEGIN:VEVENT
DTSTART;TZID=America/New_York:20260415T080000
DTEND;TZID=America/New_York:20260415T083000
DTSTAMP:20260424T150606
CREATED:20250218T211611Z
LAST-MODIFIED:20250218T211626Z
UID:10001864-1776240000-1776241800@stpaulsstockbridge.org
SUMMARY:Morning Prayer
DESCRIPTION:
URL:https://stpaulsstockbridge.org/event/morning-prayer-2/2026-04-15/
LOCATION:St. Paul’s Episcopal Church\, 29 Main Street\, Stockbridge\, MA\, 01262\, United States
CATEGORIES:Prayer
ORGANIZER;CN="St. Paul's Episcopal Church":MAILTO:stpaulsstockbridge@gmail.com
END:VEVENT
BEGIN:VEVENT
DTSTART;TZID=America/New_York:20260414T170000
DTEND;TZID=America/New_York:20260414T173000
DTSTAMP:20260424T150606
CREATED:20250219T015939Z
LAST-MODIFIED:20250219T015939Z
UID:10002388-1776186000-1776187800@stpaulsstockbridge.org
SUMMARY:Evening Prayer
DESCRIPTION:
URL:https://stpaulsstockbridge.org/event/evening-prayer/2026-04-14/
LOCATION:MA
CATEGORIES:Prayer
ORGANIZER;CN="St. Paul's Episcopal Church":MAILTO:stpaulsstockbridge@gmail.com
END:VEVENT
BEGIN:VEVENT
DTSTART;TZID=America/New_York:20260414T080000
DTEND;TZID=America/New_York:20260414T083000
DTSTAMP:20260424T150606
CREATED:20250218T211535Z
LAST-MODIFIED:20250218T211535Z
UID:10001603-1776153600-1776155400@stpaulsstockbridge.org
SUMMARY:Morning Prayer
DESCRIPTION:
URL:https://stpaulsstockbridge.org/event/morning-prayer/2026-04-14/
LOCATION:St. Paul’s Episcopal Church\, 29 Main Street\, Stockbridge\, MA\, 01262\, United States
CATEGORIES:Prayer
ORGANIZER;CN="St. Paul's Episcopal Church":MAILTO:stpaulsstockbridge@gmail.com
END:VEVENT
BEGIN:VEVENT
DTSTART;TZID=America/New_York:20260410T170000
DTEND;TZID=America/New_York:20260410T173000
DTSTAMP:20260424T150606
CREATED:20250219T020137Z
LAST-MODIFIED:20250219T020137Z
UID:10002910-1775840400-1775842200@stpaulsstockbridge.org
SUMMARY:Evening Prayer
DESCRIPTION:
URL:https://stpaulsstockbridge.org/event/evening-prayer-4/2026-04-10/
LOCATION:St. Paul’s Episcopal Church\, 29 Main Street\, Stockbridge\, MA\, 01262\, United States
CATEGORIES:Prayer
ORGANIZER;CN="St. Paul's Episcopal Church":MAILTO:stpaulsstockbridge@gmail.com
END:VEVENT
BEGIN:VEVENT
DTSTART;TZID=America/New_York:20260410T083000
DTEND;TZID=America/New_York:20260410T090000
DTSTAMP:20260424T150606
CREATED:20240228T150038Z
LAST-MODIFIED:20240228T150038Z
UID:10001138-1775809800-1775811600@stpaulsstockbridge.org
SUMMARY:Intercessory Prayer in the Church
DESCRIPTION:Please join us to pray for those on our parish prayer list and others.
URL:https://stpaulsstockbridge.org/event/intercessory-prayer-in-the-church/2026-04-10/
LOCATION:St. Paul’s Episcopal Church\, 29 Main Street\, Stockbridge\, MA\, 01262\, United States
CATEGORIES:Prayer
ORGANIZER;CN="St. Paul's Episcopal Church":MAILTO:stpaulsstockbridge@gmail.com
END:VEVENT
BEGIN:VEVENT
DTSTART;TZID=America/New_York:20260410T080000
DTEND;TZID=America/New_York:20260410T083000
DTSTAMP:20260424T150606
CREATED:20250219T015857Z
LAST-MODIFIED:20250219T015857Z
UID:10002126-1775808000-1775809800@stpaulsstockbridge.org
SUMMARY:Morning Prayer
DESCRIPTION:
URL:https://stpaulsstockbridge.org/event/morning-prayer-4/2026-04-10/
LOCATION:St. Paul’s Episcopal Church\, 29 Main Street\, Stockbridge\, MA\, 01262\, United States
CATEGORIES:Prayer
ORGANIZER;CN="St. Paul's Episcopal Church":MAILTO:stpaulsstockbridge@gmail.com
END:VEVENT
BEGIN:VEVENT
DTSTART;TZID=America/New_York:20260409T170000
DTEND;TZID=America/New_York:20260409T173000
DTSTAMP:20260424T150606
CREATED:20250219T020057Z
LAST-MODIFIED:20250219T020057Z
UID:10002649-1775754000-1775755800@stpaulsstockbridge.org
SUMMARY:Evening Prayer
DESCRIPTION:
URL:https://stpaulsstockbridge.org/event/evening-prayer-3/2026-04-09/
LOCATION:MA
CATEGORIES:Prayer
ORGANIZER;CN="St. Paul's Episcopal Church":MAILTO:stpaulsstockbridge@gmail.com
END:VEVENT
BEGIN:VEVENT
DTSTART;TZID=America/New_York:20260409T080000
DTEND;TZID=America/New_York:20260409T083000
DTSTAMP:20260424T150606
CREATED:20250218T211705Z
LAST-MODIFIED:20250219T020339Z
UID:10003170-1775721600-1775723400@stpaulsstockbridge.org
SUMMARY:Morning Prayer
DESCRIPTION:
URL:https://stpaulsstockbridge.org/event/morning-prayer-3/2026-04-09/
LOCATION:St. Paul’s Episcopal Church\, 29 Main Street\, Stockbridge\, MA\, 01262\, United States
CATEGORIES:Prayer
ORGANIZER;CN="St. Paul's Episcopal Church":MAILTO:stpaulsstockbridge@gmail.com
END:VEVENT
BEGIN:VEVENT
DTSTART;TZID=America/New_York:20260408T080000
DTEND;TZID=America/New_York:20260408T083000
DTSTAMP:20260424T150606
CREATED:20250218T211611Z
LAST-MODIFIED:20250218T211626Z
UID:10001863-1775635200-1775637000@stpaulsstockbridge.org
SUMMARY:Morning Prayer
DESCRIPTION:
URL:https://stpaulsstockbridge.org/event/morning-prayer-2/2026-04-08/
LOCATION:St. Paul’s Episcopal Church\, 29 Main Street\, Stockbridge\, MA\, 01262\, United States
CATEGORIES:Prayer
ORGANIZER;CN="St. Paul's Episcopal Church":MAILTO:stpaulsstockbridge@gmail.com
END:VEVENT
BEGIN:VEVENT
DTSTART;TZID=America/New_York:20260407T170000
DTEND;TZID=America/New_York:20260407T173000
DTSTAMP:20260424T150606
CREATED:20250219T015939Z
LAST-MODIFIED:20250219T015939Z
UID:10002387-1775581200-1775583000@stpaulsstockbridge.org
SUMMARY:Evening Prayer
DESCRIPTION:
URL:https://stpaulsstockbridge.org/event/evening-prayer/2026-04-07/
LOCATION:MA
CATEGORIES:Prayer
ORGANIZER;CN="St. Paul's Episcopal Church":MAILTO:stpaulsstockbridge@gmail.com
END:VEVENT
BEGIN:VEVENT
DTSTART;TZID=America/New_York:20260407T080000
DTEND;TZID=America/New_York:20260407T083000
DTSTAMP:20260424T150606
CREATED:20250218T211535Z
LAST-MODIFIED:20250218T211535Z
UID:10001602-1775548800-1775550600@stpaulsstockbridge.org
SUMMARY:Morning Prayer
DESCRIPTION:
URL:https://stpaulsstockbridge.org/event/morning-prayer/2026-04-07/
LOCATION:St. Paul’s Episcopal Church\, 29 Main Street\, Stockbridge\, MA\, 01262\, United States
CATEGORIES:Prayer
ORGANIZER;CN="St. Paul's Episcopal Church":MAILTO:stpaulsstockbridge@gmail.com
END:VEVENT
BEGIN:VEVENT
DTSTART;TZID=America/New_York:20260403T170000
DTEND;TZID=America/New_York:20260403T173000
DTSTAMP:20260424T150606
CREATED:20250219T020137Z
LAST-MODIFIED:20250219T020137Z
UID:10002909-1775235600-1775237400@stpaulsstockbridge.org
SUMMARY:Evening Prayer
DESCRIPTION:
URL:https://stpaulsstockbridge.org/event/evening-prayer-4/2026-04-03/
LOCATION:St. Paul’s Episcopal Church\, 29 Main Street\, Stockbridge\, MA\, 01262\, United States
CATEGORIES:Prayer
ORGANIZER;CN="St. Paul's Episcopal Church":MAILTO:stpaulsstockbridge@gmail.com
END:VEVENT
BEGIN:VEVENT
DTSTART;TZID=America/New_York:20260403T120000
DTEND;TZID=America/New_York:20260403T150000
DTSTAMP:20260424T150606
CREATED:20260324T135911Z
LAST-MODIFIED:20260324T135911Z
UID:10003478-1775217600-1775228400@stpaulsstockbridge.org
SUMMARY:Good Friday Three Hours' Devotion at 12:00 PM
DESCRIPTION:
URL:https://stpaulsstockbridge.org/event/good-friday-three-hours-devotion-at-1200-pm/
LOCATION:MA
CATEGORIES:Prayer
ORGANIZER;CN="St. Paul's Episcopal Church":MAILTO:stpaulsstockbridge@gmail.com
END:VEVENT
BEGIN:VEVENT
DTSTART;TZID=America/New_York:20260403T083000
DTEND;TZID=America/New_York:20260403T090000
DTSTAMP:20260424T150606
CREATED:20240228T150038Z
LAST-MODIFIED:20240228T150038Z
UID:10001137-1775205000-1775206800@stpaulsstockbridge.org
SUMMARY:Intercessory Prayer in the Church
DESCRIPTION:Please join us to pray for those on our parish prayer list and others.
URL:https://stpaulsstockbridge.org/event/intercessory-prayer-in-the-church/2026-04-03/
LOCATION:St. Paul’s Episcopal Church\, 29 Main Street\, Stockbridge\, MA\, 01262\, United States
CATEGORIES:Prayer
ORGANIZER;CN="St. Paul's Episcopal Church":MAILTO:stpaulsstockbridge@gmail.com
END:VEVENT
BEGIN:VEVENT
DTSTART;TZID=America/New_York:20260403T080000
DTEND;TZID=America/New_York:20260403T083000
DTSTAMP:20260424T150606
CREATED:20250219T015857Z
LAST-MODIFIED:20250219T015857Z
UID:10002125-1775203200-1775205000@stpaulsstockbridge.org
SUMMARY:Morning Prayer
DESCRIPTION:
URL:https://stpaulsstockbridge.org/event/morning-prayer-4/2026-04-03/
LOCATION:St. Paul’s Episcopal Church\, 29 Main Street\, Stockbridge\, MA\, 01262\, United States
CATEGORIES:Prayer
ORGANIZER;CN="St. Paul's Episcopal Church":MAILTO:stpaulsstockbridge@gmail.com
END:VEVENT
BEGIN:VEVENT
DTSTART;TZID=America/New_York:20260402T180000
DTEND;TZID=America/New_York:20260402T190000
DTSTAMP:20260424T150607
CREATED:20260324T135823Z
LAST-MODIFIED:20260324T135823Z
UID:10003477-1775152800-1775156400@stpaulsstockbridge.org
SUMMARY:Maundy Thursday Holy Eucharist at 6:00 PM
DESCRIPTION:
URL:https://stpaulsstockbridge.org/event/maundy-thursday-holy-eucharist-at-600-pm/
LOCATION:MA
CATEGORIES:Prayer
ORGANIZER;CN="St. Paul's Episcopal Church":MAILTO:stpaulsstockbridge@gmail.com
END:VEVENT
BEGIN:VEVENT
DTSTART;TZID=America/New_York:20260402T170000
DTEND;TZID=America/New_York:20260402T173000
DTSTAMP:20260424T150607
CREATED:20250219T020057Z
LAST-MODIFIED:20250219T020057Z
UID:10002648-1775149200-1775151000@stpaulsstockbridge.org
SUMMARY:Evening Prayer
DESCRIPTION:
URL:https://stpaulsstockbridge.org/event/evening-prayer-3/2026-04-02/
LOCATION:MA
CATEGORIES:Prayer
ORGANIZER;CN="St. Paul's Episcopal Church":MAILTO:stpaulsstockbridge@gmail.com
END:VEVENT
BEGIN:VEVENT
DTSTART;TZID=America/New_York:20260402T080000
DTEND;TZID=America/New_York:20260402T083000
DTSTAMP:20260424T150607
CREATED:20250218T211705Z
LAST-MODIFIED:20250219T020339Z
UID:10003169-1775116800-1775118600@stpaulsstockbridge.org
SUMMARY:Morning Prayer
DESCRIPTION:
URL:https://stpaulsstockbridge.org/event/morning-prayer-3/2026-04-02/
LOCATION:St. Paul’s Episcopal Church\, 29 Main Street\, Stockbridge\, MA\, 01262\, United States
CATEGORIES:Prayer
ORGANIZER;CN="St. Paul's Episcopal Church":MAILTO:stpaulsstockbridge@gmail.com
END:VEVENT
BEGIN:VEVENT
DTSTART;TZID=America/New_York:20260401T080000
DTEND;TZID=America/New_York:20260401T083000
DTSTAMP:20260424T150607
CREATED:20250218T211611Z
LAST-MODIFIED:20250218T211626Z
UID:10001862-1775030400-1775032200@stpaulsstockbridge.org
SUMMARY:Morning Prayer
DESCRIPTION:
URL:https://stpaulsstockbridge.org/event/morning-prayer-2/2026-04-01/
LOCATION:St. Paul’s Episcopal Church\, 29 Main Street\, Stockbridge\, MA\, 01262\, United States
CATEGORIES:Prayer
ORGANIZER;CN="St. Paul's Episcopal Church":MAILTO:stpaulsstockbridge@gmail.com
END:VEVENT
BEGIN:VEVENT
DTSTART;TZID=America/New_York:20260331T170000
DTEND;TZID=America/New_York:20260331T173000
DTSTAMP:20260424T150607
CREATED:20250219T015939Z
LAST-MODIFIED:20250219T015939Z
UID:10002386-1774976400-1774978200@stpaulsstockbridge.org
SUMMARY:Evening Prayer
DESCRIPTION:
URL:https://stpaulsstockbridge.org/event/evening-prayer/2026-03-31/
LOCATION:MA
CATEGORIES:Prayer
ORGANIZER;CN="St. Paul's Episcopal Church":MAILTO:stpaulsstockbridge@gmail.com
END:VEVENT
BEGIN:VEVENT
DTSTART;TZID=America/New_York:20260331T080000
DTEND;TZID=America/New_York:20260331T083000
DTSTAMP:20260424T150607
CREATED:20250218T211535Z
LAST-MODIFIED:20250218T211535Z
UID:10001601-1774944000-1774945800@stpaulsstockbridge.org
SUMMARY:Morning Prayer
DESCRIPTION:
URL:https://stpaulsstockbridge.org/event/morning-prayer/2026-03-31/
LOCATION:St. Paul’s Episcopal Church\, 29 Main Street\, Stockbridge\, MA\, 01262\, United States
CATEGORIES:Prayer
ORGANIZER;CN="St. Paul's Episcopal Church":MAILTO:stpaulsstockbridge@gmail.com
END:VEVENT
BEGIN:VEVENT
DTSTART;TZID=America/New_York:20260327T170000
DTEND;TZID=America/New_York:20260327T173000
DTSTAMP:20260424T150607
CREATED:20250219T020137Z
LAST-MODIFIED:20250219T020137Z
UID:10002908-1774630800-1774632600@stpaulsstockbridge.org
SUMMARY:Evening Prayer
DESCRIPTION:
URL:https://stpaulsstockbridge.org/event/evening-prayer-4/2026-03-27/
LOCATION:St. Paul’s Episcopal Church\, 29 Main Street\, Stockbridge\, MA\, 01262\, United States
CATEGORIES:Prayer
ORGANIZER;CN="St. Paul's Episcopal Church":MAILTO:stpaulsstockbridge@gmail.com
END:VEVENT
BEGIN:VEVENT
DTSTART;TZID=America/New_York:20260327T083000
DTEND;TZID=America/New_York:20260327T090000
DTSTAMP:20260424T150607
CREATED:20240228T150038Z
LAST-MODIFIED:20240228T150038Z
UID:10001136-1774600200-1774602000@stpaulsstockbridge.org
SUMMARY:Intercessory Prayer in the Church
DESCRIPTION:Please join us to pray for those on our parish prayer list and others.
URL:https://stpaulsstockbridge.org/event/intercessory-prayer-in-the-church/2026-03-27/
LOCATION:St. Paul’s Episcopal Church\, 29 Main Street\, Stockbridge\, MA\, 01262\, United States
CATEGORIES:Prayer
ORGANIZER;CN="St. Paul's Episcopal Church":MAILTO:stpaulsstockbridge@gmail.com
END:VEVENT
BEGIN:VEVENT
DTSTART;TZID=America/New_York:20260327T080000
DTEND;TZID=America/New_York:20260327T083000
DTSTAMP:20260424T150607
CREATED:20250219T015857Z
LAST-MODIFIED:20250219T015857Z
UID:10002124-1774598400-1774600200@stpaulsstockbridge.org
SUMMARY:Morning Prayer
DESCRIPTION:
URL:https://stpaulsstockbridge.org/event/morning-prayer-4/2026-03-27/
LOCATION:St. Paul’s Episcopal Church\, 29 Main Street\, Stockbridge\, MA\, 01262\, United States
CATEGORIES:Prayer
ORGANIZER;CN="St. Paul's Episcopal Church":MAILTO:stpaulsstockbridge@gmail.com
END:VEVENT
BEGIN:VEVENT
DTSTART;TZID=America/New_York:20260326T170000
DTEND;TZID=America/New_York:20260326T173000
DTSTAMP:20260424T150607
CREATED:20250219T020057Z
LAST-MODIFIED:20250219T020057Z
UID:10002647-1774544400-1774546200@stpaulsstockbridge.org
SUMMARY:Evening Prayer
DESCRIPTION:
URL:https://stpaulsstockbridge.org/event/evening-prayer-3/2026-03-26/
LOCATION:MA
CATEGORIES:Prayer
ORGANIZER;CN="St. Paul's Episcopal Church":MAILTO:stpaulsstockbridge@gmail.com
END:VEVENT
BEGIN:VEVENT
DTSTART;TZID=America/New_York:20260326T080000
DTEND;TZID=America/New_York:20260326T083000
DTSTAMP:20260424T150607
CREATED:20250218T211705Z
LAST-MODIFIED:20250219T020339Z
UID:10003168-1774512000-1774513800@stpaulsstockbridge.org
SUMMARY:Morning Prayer
DESCRIPTION:
URL:https://stpaulsstockbridge.org/event/morning-prayer-3/2026-03-26/
LOCATION:St. Paul’s Episcopal Church\, 29 Main Street\, Stockbridge\, MA\, 01262\, United States
CATEGORIES:Prayer
ORGANIZER;CN="St. Paul's Episcopal Church":MAILTO:stpaulsstockbridge@gmail.com
END:VEVENT
BEGIN:VEVENT
DTSTART;TZID=America/New_York:20260325T080000
DTEND;TZID=America/New_York:20260325T083000
DTSTAMP:20260424T150607
CREATED:20250218T211611Z
LAST-MODIFIED:20250218T211626Z
UID:10001861-1774425600-1774427400@stpaulsstockbridge.org
SUMMARY:Morning Prayer
DESCRIPTION:
URL:https://stpaulsstockbridge.org/event/morning-prayer-2/2026-03-25/
LOCATION:St. Paul’s Episcopal Church\, 29 Main Street\, Stockbridge\, MA\, 01262\, United States
CATEGORIES:Prayer
ORGANIZER;CN="St. Paul's Episcopal Church":MAILTO:stpaulsstockbridge@gmail.com
END:VEVENT
BEGIN:VEVENT
DTSTART;TZID=America/New_York:20260324T170000
DTEND;TZID=America/New_York:20260324T173000
DTSTAMP:20260424T150607
CREATED:20250219T015939Z
LAST-MODIFIED:20250219T015939Z
UID:10002385-1774371600-1774373400@stpaulsstockbridge.org
SUMMARY:Evening Prayer
DESCRIPTION:
URL:https://stpaulsstockbridge.org/event/evening-prayer/2026-03-24/
LOCATION:MA
CATEGORIES:Prayer
ORGANIZER;CN="St. Paul's Episcopal Church":MAILTO:stpaulsstockbridge@gmail.com
END:VEVENT
BEGIN:VEVENT
DTSTART;TZID=America/New_York:20260324T080000
DTEND;TZID=America/New_York:20260324T083000
DTSTAMP:20260424T150607
CREATED:20250218T211535Z
LAST-MODIFIED:20250218T211535Z
UID:10001600-1774339200-1774341000@stpaulsstockbridge.org
SUMMARY:Morning Prayer
DESCRIPTION:
URL:https://stpaulsstockbridge.org/event/morning-prayer/2026-03-24/
LOCATION:St. Paul’s Episcopal Church\, 29 Main Street\, Stockbridge\, MA\, 01262\, United States
CATEGORIES:Prayer
ORGANIZER;CN="St. Paul's Episcopal Church":MAILTO:stpaulsstockbridge@gmail.com
END:VEVENT
BEGIN:VEVENT
DTSTART;TZID=America/New_York:20260320T170000
DTEND;TZID=America/New_York:20260320T173000
DTSTAMP:20260424T150607
CREATED:20250219T020137Z
LAST-MODIFIED:20250219T020137Z
UID:10002907-1774026000-1774027800@stpaulsstockbridge.org
SUMMARY:Evening Prayer
DESCRIPTION:
URL:https://stpaulsstockbridge.org/event/evening-prayer-4/2026-03-20/
LOCATION:St. Paul’s Episcopal Church\, 29 Main Street\, Stockbridge\, MA\, 01262\, United States
CATEGORIES:Prayer
ORGANIZER;CN="St. Paul's Episcopal Church":MAILTO:stpaulsstockbridge@gmail.com
END:VEVENT
END:VCALENDAR