BEGIN:VCALENDAR
VERSION:2.0
PRODID:-//St Paul&#039;s Episcopal Church in Stockbridge - ECPv6.15.20//NONSGML v1.0//EN
CALSCALE:GREGORIAN
METHOD:PUBLISH
X-ORIGINAL-URL:https://stpaulsstockbridge.org
X-WR-CALDESC:Events for St Paul&#039;s Episcopal Church in Stockbridge
REFRESH-INTERVAL;VALUE=DURATION:PT1H
X-Robots-Tag:noindex
X-PUBLISHED-TTL:PT1H
BEGIN:VTIMEZONE
TZID:America/New_York
BEGIN:DAYLIGHT
TZOFFSETFROM:-0500
TZOFFSETTO:-0400
TZNAME:EDT
DTSTART:20250309T070000
END:DAYLIGHT
BEGIN:STANDARD
TZOFFSETFROM:-0400
TZOFFSETTO:-0500
TZNAME:EST
DTSTART:20251102T060000
END:STANDARD
BEGIN:DAYLIGHT
TZOFFSETFROM:-0500
TZOFFSETTO:-0400
TZNAME:EDT
DTSTART:20260308T070000
END:DAYLIGHT
BEGIN:STANDARD
TZOFFSETFROM:-0400
TZOFFSETTO:-0500
TZNAME:EST
DTSTART:20261101T060000
END:STANDARD
BEGIN:DAYLIGHT
TZOFFSETFROM:-0500
TZOFFSETTO:-0400
TZNAME:EDT
DTSTART:20270314T070000
END:DAYLIGHT
BEGIN:STANDARD
TZOFFSETFROM:-0400
TZOFFSETTO:-0500
TZNAME:EST
DTSTART:20271107T060000
END:STANDARD
END:VTIMEZONE
BEGIN:VEVENT
DTSTART;TZID=America/New_York:20261203T170000
DTEND;TZID=America/New_York:20261203T173000
DTSTAMP:20260425T213043
CREATED:20250219T020057Z
LAST-MODIFIED:20250219T020057Z
UID:10002683-1796317200-1796319000@stpaulsstockbridge.org
SUMMARY:Evening Prayer
DESCRIPTION:
URL:https://stpaulsstockbridge.org/event/evening-prayer-3/2026-12-03/
LOCATION:MA
CATEGORIES:Prayer
ORGANIZER;CN="St. Paul's Episcopal Church":MAILTO:stpaulsstockbridge@gmail.com
END:VEVENT
BEGIN:VEVENT
DTSTART;TZID=America/New_York:20261204T080000
DTEND;TZID=America/New_York:20261204T083000
DTSTAMP:20260425T213043
CREATED:20250219T015857Z
LAST-MODIFIED:20250219T015857Z
UID:10002160-1796371200-1796373000@stpaulsstockbridge.org
SUMMARY:Morning Prayer
DESCRIPTION:
URL:https://stpaulsstockbridge.org/event/morning-prayer-4/2026-12-04/
LOCATION:St. Paul’s Episcopal Church\, 29 Main Street\, Stockbridge\, MA\, 01262\, United States
CATEGORIES:Prayer
ORGANIZER;CN="St. Paul's Episcopal Church":MAILTO:stpaulsstockbridge@gmail.com
END:VEVENT
BEGIN:VEVENT
DTSTART;TZID=America/New_York:20261204T083000
DTEND;TZID=America/New_York:20261204T090000
DTSTAMP:20260425T213043
CREATED:20240228T150038Z
LAST-MODIFIED:20240228T150038Z
UID:10001172-1796373000-1796374800@stpaulsstockbridge.org
SUMMARY:Intercessory Prayer in the Church
DESCRIPTION:Please join us to pray for those on our parish prayer list and others.
URL:https://stpaulsstockbridge.org/event/intercessory-prayer-in-the-church/2026-12-04/
LOCATION:St. Paul’s Episcopal Church\, 29 Main Street\, Stockbridge\, MA\, 01262\, United States
CATEGORIES:Prayer
ORGANIZER;CN="St. Paul's Episcopal Church":MAILTO:stpaulsstockbridge@gmail.com
END:VEVENT
BEGIN:VEVENT
DTSTART;TZID=America/New_York:20261204T170000
DTEND;TZID=America/New_York:20261204T173000
DTSTAMP:20260425T213043
CREATED:20250219T020137Z
LAST-MODIFIED:20250219T020137Z
UID:10002944-1796403600-1796405400@stpaulsstockbridge.org
SUMMARY:Evening Prayer
DESCRIPTION:
URL:https://stpaulsstockbridge.org/event/evening-prayer-4/2026-12-04/
LOCATION:St. Paul’s Episcopal Church\, 29 Main Street\, Stockbridge\, MA\, 01262\, United States
CATEGORIES:Prayer
ORGANIZER;CN="St. Paul's Episcopal Church":MAILTO:stpaulsstockbridge@gmail.com
END:VEVENT
BEGIN:VEVENT
DTSTART;TZID=America/New_York:20261208T080000
DTEND;TZID=America/New_York:20261208T083000
DTSTAMP:20260425T213043
CREATED:20250218T211535Z
LAST-MODIFIED:20250218T211535Z
UID:10001637-1796716800-1796718600@stpaulsstockbridge.org
SUMMARY:Morning Prayer
DESCRIPTION:
URL:https://stpaulsstockbridge.org/event/morning-prayer/2026-12-08/
LOCATION:St. Paul’s Episcopal Church\, 29 Main Street\, Stockbridge\, MA\, 01262\, United States
CATEGORIES:Prayer
ORGANIZER;CN="St. Paul's Episcopal Church":MAILTO:stpaulsstockbridge@gmail.com
END:VEVENT
BEGIN:VEVENT
DTSTART;TZID=America/New_York:20261208T170000
DTEND;TZID=America/New_York:20261208T173000
DTSTAMP:20260425T213043
CREATED:20250219T015939Z
LAST-MODIFIED:20250219T015939Z
UID:10002422-1796749200-1796751000@stpaulsstockbridge.org
SUMMARY:Evening Prayer
DESCRIPTION:
URL:https://stpaulsstockbridge.org/event/evening-prayer/2026-12-08/
LOCATION:MA
CATEGORIES:Prayer
ORGANIZER;CN="St. Paul's Episcopal Church":MAILTO:stpaulsstockbridge@gmail.com
END:VEVENT
BEGIN:VEVENT
DTSTART;TZID=America/New_York:20261209T080000
DTEND;TZID=America/New_York:20261209T083000
DTSTAMP:20260425T213043
CREATED:20250218T211611Z
LAST-MODIFIED:20250218T211626Z
UID:10001898-1796803200-1796805000@stpaulsstockbridge.org
SUMMARY:Morning Prayer
DESCRIPTION:
URL:https://stpaulsstockbridge.org/event/morning-prayer-2/2026-12-09/
LOCATION:St. Paul’s Episcopal Church\, 29 Main Street\, Stockbridge\, MA\, 01262\, United States
CATEGORIES:Prayer
ORGANIZER;CN="St. Paul's Episcopal Church":MAILTO:stpaulsstockbridge@gmail.com
END:VEVENT
BEGIN:VEVENT
DTSTART;TZID=America/New_York:20261210T080000
DTEND;TZID=America/New_York:20261210T083000
DTSTAMP:20260425T213043
CREATED:20250218T211705Z
LAST-MODIFIED:20250219T020339Z
UID:10003205-1796889600-1796891400@stpaulsstockbridge.org
SUMMARY:Morning Prayer
DESCRIPTION:
URL:https://stpaulsstockbridge.org/event/morning-prayer-3/2026-12-10/
LOCATION:St. Paul’s Episcopal Church\, 29 Main Street\, Stockbridge\, MA\, 01262\, United States
CATEGORIES:Prayer
ORGANIZER;CN="St. Paul's Episcopal Church":MAILTO:stpaulsstockbridge@gmail.com
END:VEVENT
BEGIN:VEVENT
DTSTART;TZID=America/New_York:20261210T170000
DTEND;TZID=America/New_York:20261210T173000
DTSTAMP:20260425T213043
CREATED:20250219T020057Z
LAST-MODIFIED:20250219T020057Z
UID:10002684-1796922000-1796923800@stpaulsstockbridge.org
SUMMARY:Evening Prayer
DESCRIPTION:
URL:https://stpaulsstockbridge.org/event/evening-prayer-3/2026-12-10/
LOCATION:MA
CATEGORIES:Prayer
ORGANIZER;CN="St. Paul's Episcopal Church":MAILTO:stpaulsstockbridge@gmail.com
END:VEVENT
BEGIN:VEVENT
DTSTART;TZID=America/New_York:20261211T080000
DTEND;TZID=America/New_York:20261211T083000
DTSTAMP:20260425T213043
CREATED:20250219T015857Z
LAST-MODIFIED:20250219T015857Z
UID:10002161-1796976000-1796977800@stpaulsstockbridge.org
SUMMARY:Morning Prayer
DESCRIPTION:
URL:https://stpaulsstockbridge.org/event/morning-prayer-4/2026-12-11/
LOCATION:St. Paul’s Episcopal Church\, 29 Main Street\, Stockbridge\, MA\, 01262\, United States
CATEGORIES:Prayer
ORGANIZER;CN="St. Paul's Episcopal Church":MAILTO:stpaulsstockbridge@gmail.com
END:VEVENT
BEGIN:VEVENT
DTSTART;TZID=America/New_York:20261211T083000
DTEND;TZID=America/New_York:20261211T090000
DTSTAMP:20260425T213043
CREATED:20240228T150038Z
LAST-MODIFIED:20240228T150038Z
UID:10001173-1796977800-1796979600@stpaulsstockbridge.org
SUMMARY:Intercessory Prayer in the Church
DESCRIPTION:Please join us to pray for those on our parish prayer list and others.
URL:https://stpaulsstockbridge.org/event/intercessory-prayer-in-the-church/2026-12-11/
LOCATION:St. Paul’s Episcopal Church\, 29 Main Street\, Stockbridge\, MA\, 01262\, United States
CATEGORIES:Prayer
ORGANIZER;CN="St. Paul's Episcopal Church":MAILTO:stpaulsstockbridge@gmail.com
END:VEVENT
BEGIN:VEVENT
DTSTART;TZID=America/New_York:20261211T170000
DTEND;TZID=America/New_York:20261211T173000
DTSTAMP:20260425T213043
CREATED:20250219T020137Z
LAST-MODIFIED:20250219T020137Z
UID:10002945-1797008400-1797010200@stpaulsstockbridge.org
SUMMARY:Evening Prayer
DESCRIPTION:
URL:https://stpaulsstockbridge.org/event/evening-prayer-4/2026-12-11/
LOCATION:St. Paul’s Episcopal Church\, 29 Main Street\, Stockbridge\, MA\, 01262\, United States
CATEGORIES:Prayer
ORGANIZER;CN="St. Paul's Episcopal Church":MAILTO:stpaulsstockbridge@gmail.com
END:VEVENT
BEGIN:VEVENT
DTSTART;TZID=America/New_York:20261215T080000
DTEND;TZID=America/New_York:20261215T083000
DTSTAMP:20260425T213043
CREATED:20250218T211535Z
LAST-MODIFIED:20250218T211535Z
UID:10001638-1797321600-1797323400@stpaulsstockbridge.org
SUMMARY:Morning Prayer
DESCRIPTION:
URL:https://stpaulsstockbridge.org/event/morning-prayer/2026-12-15/
LOCATION:St. Paul’s Episcopal Church\, 29 Main Street\, Stockbridge\, MA\, 01262\, United States
CATEGORIES:Prayer
ORGANIZER;CN="St. Paul's Episcopal Church":MAILTO:stpaulsstockbridge@gmail.com
END:VEVENT
BEGIN:VEVENT
DTSTART;TZID=America/New_York:20261215T170000
DTEND;TZID=America/New_York:20261215T173000
DTSTAMP:20260425T213043
CREATED:20250219T015939Z
LAST-MODIFIED:20250219T015939Z
UID:10002423-1797354000-1797355800@stpaulsstockbridge.org
SUMMARY:Evening Prayer
DESCRIPTION:
URL:https://stpaulsstockbridge.org/event/evening-prayer/2026-12-15/
LOCATION:MA
CATEGORIES:Prayer
ORGANIZER;CN="St. Paul's Episcopal Church":MAILTO:stpaulsstockbridge@gmail.com
END:VEVENT
BEGIN:VEVENT
DTSTART;TZID=America/New_York:20261216T080000
DTEND;TZID=America/New_York:20261216T083000
DTSTAMP:20260425T213043
CREATED:20250218T211611Z
LAST-MODIFIED:20250218T211626Z
UID:10001899-1797408000-1797409800@stpaulsstockbridge.org
SUMMARY:Morning Prayer
DESCRIPTION:
URL:https://stpaulsstockbridge.org/event/morning-prayer-2/2026-12-16/
LOCATION:St. Paul’s Episcopal Church\, 29 Main Street\, Stockbridge\, MA\, 01262\, United States
CATEGORIES:Prayer
ORGANIZER;CN="St. Paul's Episcopal Church":MAILTO:stpaulsstockbridge@gmail.com
END:VEVENT
BEGIN:VEVENT
DTSTART;TZID=America/New_York:20261217T080000
DTEND;TZID=America/New_York:20261217T083000
DTSTAMP:20260425T213043
CREATED:20250218T211705Z
LAST-MODIFIED:20250219T020339Z
UID:10003206-1797494400-1797496200@stpaulsstockbridge.org
SUMMARY:Morning Prayer
DESCRIPTION:
URL:https://stpaulsstockbridge.org/event/morning-prayer-3/2026-12-17/
LOCATION:St. Paul’s Episcopal Church\, 29 Main Street\, Stockbridge\, MA\, 01262\, United States
CATEGORIES:Prayer
ORGANIZER;CN="St. Paul's Episcopal Church":MAILTO:stpaulsstockbridge@gmail.com
END:VEVENT
BEGIN:VEVENT
DTSTART;TZID=America/New_York:20261217T170000
DTEND;TZID=America/New_York:20261217T173000
DTSTAMP:20260425T213043
CREATED:20250219T020057Z
LAST-MODIFIED:20250219T020057Z
UID:10002685-1797526800-1797528600@stpaulsstockbridge.org
SUMMARY:Evening Prayer
DESCRIPTION:
URL:https://stpaulsstockbridge.org/event/evening-prayer-3/2026-12-17/
LOCATION:MA
CATEGORIES:Prayer
ORGANIZER;CN="St. Paul's Episcopal Church":MAILTO:stpaulsstockbridge@gmail.com
END:VEVENT
BEGIN:VEVENT
DTSTART;TZID=America/New_York:20261218T080000
DTEND;TZID=America/New_York:20261218T083000
DTSTAMP:20260425T213043
CREATED:20250219T015857Z
LAST-MODIFIED:20250219T015857Z
UID:10002162-1797580800-1797582600@stpaulsstockbridge.org
SUMMARY:Morning Prayer
DESCRIPTION:
URL:https://stpaulsstockbridge.org/event/morning-prayer-4/2026-12-18/
LOCATION:St. Paul’s Episcopal Church\, 29 Main Street\, Stockbridge\, MA\, 01262\, United States
CATEGORIES:Prayer
ORGANIZER;CN="St. Paul's Episcopal Church":MAILTO:stpaulsstockbridge@gmail.com
END:VEVENT
BEGIN:VEVENT
DTSTART;TZID=America/New_York:20261218T083000
DTEND;TZID=America/New_York:20261218T090000
DTSTAMP:20260425T213043
CREATED:20240228T150038Z
LAST-MODIFIED:20240228T150038Z
UID:10001174-1797582600-1797584400@stpaulsstockbridge.org
SUMMARY:Intercessory Prayer in the Church
DESCRIPTION:Please join us to pray for those on our parish prayer list and others.
URL:https://stpaulsstockbridge.org/event/intercessory-prayer-in-the-church/2026-12-18/
LOCATION:St. Paul’s Episcopal Church\, 29 Main Street\, Stockbridge\, MA\, 01262\, United States
CATEGORIES:Prayer
ORGANIZER;CN="St. Paul's Episcopal Church":MAILTO:stpaulsstockbridge@gmail.com
END:VEVENT
BEGIN:VEVENT
DTSTART;TZID=America/New_York:20261218T170000
DTEND;TZID=America/New_York:20261218T173000
DTSTAMP:20260425T213043
CREATED:20250219T020137Z
LAST-MODIFIED:20250219T020137Z
UID:10002946-1797613200-1797615000@stpaulsstockbridge.org
SUMMARY:Evening Prayer
DESCRIPTION:
URL:https://stpaulsstockbridge.org/event/evening-prayer-4/2026-12-18/
LOCATION:St. Paul’s Episcopal Church\, 29 Main Street\, Stockbridge\, MA\, 01262\, United States
CATEGORIES:Prayer
ORGANIZER;CN="St. Paul's Episcopal Church":MAILTO:stpaulsstockbridge@gmail.com
END:VEVENT
BEGIN:VEVENT
DTSTART;TZID=America/New_York:20261222T080000
DTEND;TZID=America/New_York:20261222T083000
DTSTAMP:20260425T213043
CREATED:20250218T211535Z
LAST-MODIFIED:20250218T211535Z
UID:10001639-1797926400-1797928200@stpaulsstockbridge.org
SUMMARY:Morning Prayer
DESCRIPTION:
URL:https://stpaulsstockbridge.org/event/morning-prayer/2026-12-22/
LOCATION:St. Paul’s Episcopal Church\, 29 Main Street\, Stockbridge\, MA\, 01262\, United States
CATEGORIES:Prayer
ORGANIZER;CN="St. Paul's Episcopal Church":MAILTO:stpaulsstockbridge@gmail.com
END:VEVENT
BEGIN:VEVENT
DTSTART;TZID=America/New_York:20261222T170000
DTEND;TZID=America/New_York:20261222T173000
DTSTAMP:20260425T213043
CREATED:20250219T015939Z
LAST-MODIFIED:20250219T015939Z
UID:10002424-1797958800-1797960600@stpaulsstockbridge.org
SUMMARY:Evening Prayer
DESCRIPTION:
URL:https://stpaulsstockbridge.org/event/evening-prayer/2026-12-22/
LOCATION:MA
CATEGORIES:Prayer
ORGANIZER;CN="St. Paul's Episcopal Church":MAILTO:stpaulsstockbridge@gmail.com
END:VEVENT
BEGIN:VEVENT
DTSTART;TZID=America/New_York:20261223T080000
DTEND;TZID=America/New_York:20261223T083000
DTSTAMP:20260425T213043
CREATED:20250218T211611Z
LAST-MODIFIED:20250218T211626Z
UID:10001900-1798012800-1798014600@stpaulsstockbridge.org
SUMMARY:Morning Prayer
DESCRIPTION:
URL:https://stpaulsstockbridge.org/event/morning-prayer-2/2026-12-23/
LOCATION:St. Paul’s Episcopal Church\, 29 Main Street\, Stockbridge\, MA\, 01262\, United States
CATEGORIES:Prayer
ORGANIZER;CN="St. Paul's Episcopal Church":MAILTO:stpaulsstockbridge@gmail.com
END:VEVENT
BEGIN:VEVENT
DTSTART;TZID=America/New_York:20261224T080000
DTEND;TZID=America/New_York:20261224T083000
DTSTAMP:20260425T213043
CREATED:20250218T211705Z
LAST-MODIFIED:20250219T020339Z
UID:10003207-1798099200-1798101000@stpaulsstockbridge.org
SUMMARY:Morning Prayer
DESCRIPTION:
URL:https://stpaulsstockbridge.org/event/morning-prayer-3/2026-12-24/
LOCATION:St. Paul’s Episcopal Church\, 29 Main Street\, Stockbridge\, MA\, 01262\, United States
CATEGORIES:Prayer
ORGANIZER;CN="St. Paul's Episcopal Church":MAILTO:stpaulsstockbridge@gmail.com
END:VEVENT
BEGIN:VEVENT
DTSTART;TZID=America/New_York:20261224T170000
DTEND;TZID=America/New_York:20261224T173000
DTSTAMP:20260425T213043
CREATED:20250219T020057Z
LAST-MODIFIED:20250219T020057Z
UID:10002686-1798131600-1798133400@stpaulsstockbridge.org
SUMMARY:Evening Prayer
DESCRIPTION:
URL:https://stpaulsstockbridge.org/event/evening-prayer-3/2026-12-24/
LOCATION:MA
CATEGORIES:Prayer
ORGANIZER;CN="St. Paul's Episcopal Church":MAILTO:stpaulsstockbridge@gmail.com
END:VEVENT
BEGIN:VEVENT
DTSTART;TZID=America/New_York:20261225T080000
DTEND;TZID=America/New_York:20261225T083000
DTSTAMP:20260425T213043
CREATED:20250219T015857Z
LAST-MODIFIED:20250219T015857Z
UID:10002163-1798185600-1798187400@stpaulsstockbridge.org
SUMMARY:Morning Prayer
DESCRIPTION:
URL:https://stpaulsstockbridge.org/event/morning-prayer-4/2026-12-25/
LOCATION:St. Paul’s Episcopal Church\, 29 Main Street\, Stockbridge\, MA\, 01262\, United States
CATEGORIES:Prayer
ORGANIZER;CN="St. Paul's Episcopal Church":MAILTO:stpaulsstockbridge@gmail.com
END:VEVENT
BEGIN:VEVENT
DTSTART;TZID=America/New_York:20261225T083000
DTEND;TZID=America/New_York:20261225T090000
DTSTAMP:20260425T213043
CREATED:20240228T150038Z
LAST-MODIFIED:20240228T150038Z
UID:10001175-1798187400-1798189200@stpaulsstockbridge.org
SUMMARY:Intercessory Prayer in the Church
DESCRIPTION:Please join us to pray for those on our parish prayer list and others.
URL:https://stpaulsstockbridge.org/event/intercessory-prayer-in-the-church/2026-12-25/
LOCATION:St. Paul’s Episcopal Church\, 29 Main Street\, Stockbridge\, MA\, 01262\, United States
CATEGORIES:Prayer
ORGANIZER;CN="St. Paul's Episcopal Church":MAILTO:stpaulsstockbridge@gmail.com
END:VEVENT
BEGIN:VEVENT
DTSTART;TZID=America/New_York:20261225T170000
DTEND;TZID=America/New_York:20261225T173000
DTSTAMP:20260425T213043
CREATED:20250219T020137Z
LAST-MODIFIED:20250219T020137Z
UID:10002947-1798218000-1798219800@stpaulsstockbridge.org
SUMMARY:Evening Prayer
DESCRIPTION:
URL:https://stpaulsstockbridge.org/event/evening-prayer-4/2026-12-25/
LOCATION:St. Paul’s Episcopal Church\, 29 Main Street\, Stockbridge\, MA\, 01262\, United States
CATEGORIES:Prayer
ORGANIZER;CN="St. Paul's Episcopal Church":MAILTO:stpaulsstockbridge@gmail.com
END:VEVENT
BEGIN:VEVENT
DTSTART;TZID=America/New_York:20261229T080000
DTEND;TZID=America/New_York:20261229T083000
DTSTAMP:20260425T213043
CREATED:20250218T211535Z
LAST-MODIFIED:20250218T211535Z
UID:10001640-1798531200-1798533000@stpaulsstockbridge.org
SUMMARY:Morning Prayer
DESCRIPTION:
URL:https://stpaulsstockbridge.org/event/morning-prayer/2026-12-29/
LOCATION:St. Paul’s Episcopal Church\, 29 Main Street\, Stockbridge\, MA\, 01262\, United States
CATEGORIES:Prayer
ORGANIZER;CN="St. Paul's Episcopal Church":MAILTO:stpaulsstockbridge@gmail.com
END:VEVENT
BEGIN:VEVENT
DTSTART;TZID=America/New_York:20261229T170000
DTEND;TZID=America/New_York:20261229T173000
DTSTAMP:20260425T213043
CREATED:20250219T015939Z
LAST-MODIFIED:20250219T015939Z
UID:10002425-1798563600-1798565400@stpaulsstockbridge.org
SUMMARY:Evening Prayer
DESCRIPTION:
URL:https://stpaulsstockbridge.org/event/evening-prayer/2026-12-29/
LOCATION:MA
CATEGORIES:Prayer
ORGANIZER;CN="St. Paul's Episcopal Church":MAILTO:stpaulsstockbridge@gmail.com
END:VEVENT
END:VCALENDAR