BEGIN:VCALENDAR
VERSION:2.0
PRODID:-//St Paul&#039;s Episcopal Church in Stockbridge - ECPv6.15.20//NONSGML v1.0//EN
CALSCALE:GREGORIAN
METHOD:PUBLISH
X-WR-CALNAME:St Paul&#039;s Episcopal Church in Stockbridge
X-ORIGINAL-URL:https://stpaulsstockbridge.org
X-WR-CALDESC:Events for St Paul&#039;s Episcopal Church in Stockbridge
REFRESH-INTERVAL;VALUE=DURATION:PT1H
X-Robots-Tag:noindex
X-PUBLISHED-TTL:PT1H
BEGIN:VTIMEZONE
TZID:America/New_York
BEGIN:DAYLIGHT
TZOFFSETFROM:-0500
TZOFFSETTO:-0400
TZNAME:EDT
DTSTART:20250309T070000
END:DAYLIGHT
BEGIN:STANDARD
TZOFFSETFROM:-0400
TZOFFSETTO:-0500
TZNAME:EST
DTSTART:20251102T060000
END:STANDARD
BEGIN:DAYLIGHT
TZOFFSETFROM:-0500
TZOFFSETTO:-0400
TZNAME:EDT
DTSTART:20260308T070000
END:DAYLIGHT
BEGIN:STANDARD
TZOFFSETFROM:-0400
TZOFFSETTO:-0500
TZNAME:EST
DTSTART:20261101T060000
END:STANDARD
BEGIN:DAYLIGHT
TZOFFSETFROM:-0500
TZOFFSETTO:-0400
TZNAME:EDT
DTSTART:20270314T070000
END:DAYLIGHT
BEGIN:STANDARD
TZOFFSETFROM:-0400
TZOFFSETTO:-0500
TZNAME:EST
DTSTART:20271107T060000
END:STANDARD
END:VTIMEZONE
BEGIN:VEVENT
DTSTART;TZID=America/New_York:20260317T170000
DTEND;TZID=America/New_York:20260317T173000
DTSTAMP:20260424T190241
CREATED:20250219T015939Z
LAST-MODIFIED:20250219T015939Z
UID:10002384-1773766800-1773768600@stpaulsstockbridge.org
SUMMARY:Evening Prayer
DESCRIPTION:
URL:https://stpaulsstockbridge.org/event/evening-prayer/2026-03-17/
LOCATION:MA
CATEGORIES:Prayer
ORGANIZER;CN="St. Paul's Episcopal Church":MAILTO:stpaulsstockbridge@gmail.com
END:VEVENT
BEGIN:VEVENT
DTSTART;TZID=America/New_York:20260317T080000
DTEND;TZID=America/New_York:20260317T083000
DTSTAMP:20260424T190241
CREATED:20250218T211535Z
LAST-MODIFIED:20250218T211535Z
UID:10001599-1773734400-1773736200@stpaulsstockbridge.org
SUMMARY:Morning Prayer
DESCRIPTION:
URL:https://stpaulsstockbridge.org/event/morning-prayer/2026-03-17/
LOCATION:St. Paul’s Episcopal Church\, 29 Main Street\, Stockbridge\, MA\, 01262\, United States
CATEGORIES:Prayer
ORGANIZER;CN="St. Paul's Episcopal Church":MAILTO:stpaulsstockbridge@gmail.com
END:VEVENT
BEGIN:VEVENT
DTSTART;TZID=America/New_York:20260313T170000
DTEND;TZID=America/New_York:20260313T173000
DTSTAMP:20260424T190241
CREATED:20250219T020137Z
LAST-MODIFIED:20250219T020137Z
UID:10002906-1773421200-1773423000@stpaulsstockbridge.org
SUMMARY:Evening Prayer
DESCRIPTION:
URL:https://stpaulsstockbridge.org/event/evening-prayer-4/2026-03-13/
LOCATION:St. Paul’s Episcopal Church\, 29 Main Street\, Stockbridge\, MA\, 01262\, United States
CATEGORIES:Prayer
ORGANIZER;CN="St. Paul's Episcopal Church":MAILTO:stpaulsstockbridge@gmail.com
END:VEVENT
BEGIN:VEVENT
DTSTART;TZID=America/New_York:20260313T083000
DTEND;TZID=America/New_York:20260313T090000
DTSTAMP:20260424T190241
CREATED:20240228T150038Z
LAST-MODIFIED:20240228T150038Z
UID:10001134-1773390600-1773392400@stpaulsstockbridge.org
SUMMARY:Intercessory Prayer in the Church
DESCRIPTION:Please join us to pray for those on our parish prayer list and others.
URL:https://stpaulsstockbridge.org/event/intercessory-prayer-in-the-church/2026-03-13/
LOCATION:St. Paul’s Episcopal Church\, 29 Main Street\, Stockbridge\, MA\, 01262\, United States
CATEGORIES:Prayer
ORGANIZER;CN="St. Paul's Episcopal Church":MAILTO:stpaulsstockbridge@gmail.com
END:VEVENT
BEGIN:VEVENT
DTSTART;TZID=America/New_York:20260313T080000
DTEND;TZID=America/New_York:20260313T083000
DTSTAMP:20260424T190241
CREATED:20250219T015857Z
LAST-MODIFIED:20250219T015857Z
UID:10002122-1773388800-1773390600@stpaulsstockbridge.org
SUMMARY:Morning Prayer
DESCRIPTION:
URL:https://stpaulsstockbridge.org/event/morning-prayer-4/2026-03-13/
LOCATION:St. Paul’s Episcopal Church\, 29 Main Street\, Stockbridge\, MA\, 01262\, United States
CATEGORIES:Prayer
ORGANIZER;CN="St. Paul's Episcopal Church":MAILTO:stpaulsstockbridge@gmail.com
END:VEVENT
BEGIN:VEVENT
DTSTART;TZID=America/New_York:20260312T170000
DTEND;TZID=America/New_York:20260312T173000
DTSTAMP:20260424T190241
CREATED:20250219T020057Z
LAST-MODIFIED:20250219T020057Z
UID:10002645-1773334800-1773336600@stpaulsstockbridge.org
SUMMARY:Evening Prayer
DESCRIPTION:
URL:https://stpaulsstockbridge.org/event/evening-prayer-3/2026-03-12/
LOCATION:MA
CATEGORIES:Prayer
ORGANIZER;CN="St. Paul's Episcopal Church":MAILTO:stpaulsstockbridge@gmail.com
END:VEVENT
BEGIN:VEVENT
DTSTART;TZID=America/New_York:20260312T080000
DTEND;TZID=America/New_York:20260312T083000
DTSTAMP:20260424T190241
CREATED:20250218T211705Z
LAST-MODIFIED:20250219T020339Z
UID:10003166-1773302400-1773304200@stpaulsstockbridge.org
SUMMARY:Morning Prayer
DESCRIPTION:
URL:https://stpaulsstockbridge.org/event/morning-prayer-3/2026-03-12/
LOCATION:St. Paul’s Episcopal Church\, 29 Main Street\, Stockbridge\, MA\, 01262\, United States
CATEGORIES:Prayer
ORGANIZER;CN="St. Paul's Episcopal Church":MAILTO:stpaulsstockbridge@gmail.com
END:VEVENT
BEGIN:VEVENT
DTSTART;TZID=America/New_York:20260311T080000
DTEND;TZID=America/New_York:20260311T083000
DTSTAMP:20260424T190241
CREATED:20250218T211611Z
LAST-MODIFIED:20250218T211626Z
UID:10001859-1773216000-1773217800@stpaulsstockbridge.org
SUMMARY:Morning Prayer
DESCRIPTION:
URL:https://stpaulsstockbridge.org/event/morning-prayer-2/2026-03-11/
LOCATION:St. Paul’s Episcopal Church\, 29 Main Street\, Stockbridge\, MA\, 01262\, United States
CATEGORIES:Prayer
ORGANIZER;CN="St. Paul's Episcopal Church":MAILTO:stpaulsstockbridge@gmail.com
END:VEVENT
BEGIN:VEVENT
DTSTART;TZID=America/New_York:20260310T170000
DTEND;TZID=America/New_York:20260310T173000
DTSTAMP:20260424T190241
CREATED:20250219T015939Z
LAST-MODIFIED:20250219T015939Z
UID:10002383-1773162000-1773163800@stpaulsstockbridge.org
SUMMARY:Evening Prayer
DESCRIPTION:
URL:https://stpaulsstockbridge.org/event/evening-prayer/2026-03-10/
LOCATION:MA
CATEGORIES:Prayer
ORGANIZER;CN="St. Paul's Episcopal Church":MAILTO:stpaulsstockbridge@gmail.com
END:VEVENT
BEGIN:VEVENT
DTSTART;TZID=America/New_York:20260310T080000
DTEND;TZID=America/New_York:20260310T083000
DTSTAMP:20260424T190241
CREATED:20250218T211535Z
LAST-MODIFIED:20250218T211535Z
UID:10001598-1773129600-1773131400@stpaulsstockbridge.org
SUMMARY:Morning Prayer
DESCRIPTION:
URL:https://stpaulsstockbridge.org/event/morning-prayer/2026-03-10/
LOCATION:St. Paul’s Episcopal Church\, 29 Main Street\, Stockbridge\, MA\, 01262\, United States
CATEGORIES:Prayer
ORGANIZER;CN="St. Paul's Episcopal Church":MAILTO:stpaulsstockbridge@gmail.com
END:VEVENT
BEGIN:VEVENT
DTSTART;TZID=America/New_York:20260306T170000
DTEND;TZID=America/New_York:20260306T173000
DTSTAMP:20260424T190241
CREATED:20250219T020137Z
LAST-MODIFIED:20250219T020137Z
UID:10002905-1772816400-1772818200@stpaulsstockbridge.org
SUMMARY:Evening Prayer
DESCRIPTION:
URL:https://stpaulsstockbridge.org/event/evening-prayer-4/2026-03-06/
LOCATION:St. Paul’s Episcopal Church\, 29 Main Street\, Stockbridge\, MA\, 01262\, United States
CATEGORIES:Prayer
ORGANIZER;CN="St. Paul's Episcopal Church":MAILTO:stpaulsstockbridge@gmail.com
END:VEVENT
BEGIN:VEVENT
DTSTART;TZID=America/New_York:20260306T083000
DTEND;TZID=America/New_York:20260306T090000
DTSTAMP:20260424T190241
CREATED:20240228T150038Z
LAST-MODIFIED:20240228T150038Z
UID:10001133-1772785800-1772787600@stpaulsstockbridge.org
SUMMARY:Intercessory Prayer in the Church
DESCRIPTION:Please join us to pray for those on our parish prayer list and others.
URL:https://stpaulsstockbridge.org/event/intercessory-prayer-in-the-church/2026-03-06/
LOCATION:St. Paul’s Episcopal Church\, 29 Main Street\, Stockbridge\, MA\, 01262\, United States
CATEGORIES:Prayer
ORGANIZER;CN="St. Paul's Episcopal Church":MAILTO:stpaulsstockbridge@gmail.com
END:VEVENT
BEGIN:VEVENT
DTSTART;TZID=America/New_York:20260306T080000
DTEND;TZID=America/New_York:20260306T083000
DTSTAMP:20260424T190241
CREATED:20250219T015857Z
LAST-MODIFIED:20250219T015857Z
UID:10002121-1772784000-1772785800@stpaulsstockbridge.org
SUMMARY:Morning Prayer
DESCRIPTION:
URL:https://stpaulsstockbridge.org/event/morning-prayer-4/2026-03-06/
LOCATION:St. Paul’s Episcopal Church\, 29 Main Street\, Stockbridge\, MA\, 01262\, United States
CATEGORIES:Prayer
ORGANIZER;CN="St. Paul's Episcopal Church":MAILTO:stpaulsstockbridge@gmail.com
END:VEVENT
BEGIN:VEVENT
DTSTART;TZID=America/New_York:20260305T170000
DTEND;TZID=America/New_York:20260305T173000
DTSTAMP:20260424T190241
CREATED:20250219T020057Z
LAST-MODIFIED:20250219T020057Z
UID:10002644-1772730000-1772731800@stpaulsstockbridge.org
SUMMARY:Evening Prayer
DESCRIPTION:
URL:https://stpaulsstockbridge.org/event/evening-prayer-3/2026-03-05/
LOCATION:MA
CATEGORIES:Prayer
ORGANIZER;CN="St. Paul's Episcopal Church":MAILTO:stpaulsstockbridge@gmail.com
END:VEVENT
BEGIN:VEVENT
DTSTART;TZID=America/New_York:20260305T080000
DTEND;TZID=America/New_York:20260305T083000
DTSTAMP:20260424T190241
CREATED:20250218T211705Z
LAST-MODIFIED:20250219T020339Z
UID:10003165-1772697600-1772699400@stpaulsstockbridge.org
SUMMARY:Morning Prayer
DESCRIPTION:
URL:https://stpaulsstockbridge.org/event/morning-prayer-3/2026-03-05/
LOCATION:St. Paul’s Episcopal Church\, 29 Main Street\, Stockbridge\, MA\, 01262\, United States
CATEGORIES:Prayer
ORGANIZER;CN="St. Paul's Episcopal Church":MAILTO:stpaulsstockbridge@gmail.com
END:VEVENT
BEGIN:VEVENT
DTSTART;TZID=America/New_York:20260304T080000
DTEND;TZID=America/New_York:20260304T083000
DTSTAMP:20260424T190241
CREATED:20250218T211611Z
LAST-MODIFIED:20250218T211626Z
UID:10001858-1772611200-1772613000@stpaulsstockbridge.org
SUMMARY:Morning Prayer
DESCRIPTION:
URL:https://stpaulsstockbridge.org/event/morning-prayer-2/2026-03-04/
LOCATION:St. Paul’s Episcopal Church\, 29 Main Street\, Stockbridge\, MA\, 01262\, United States
CATEGORIES:Prayer
ORGANIZER;CN="St. Paul's Episcopal Church":MAILTO:stpaulsstockbridge@gmail.com
END:VEVENT
BEGIN:VEVENT
DTSTART;TZID=America/New_York:20260303T170000
DTEND;TZID=America/New_York:20260303T173000
DTSTAMP:20260424T190241
CREATED:20250219T015939Z
LAST-MODIFIED:20250219T015939Z
UID:10002382-1772557200-1772559000@stpaulsstockbridge.org
SUMMARY:Evening Prayer
DESCRIPTION:
URL:https://stpaulsstockbridge.org/event/evening-prayer/2026-03-03/
LOCATION:MA
CATEGORIES:Prayer
ORGANIZER;CN="St. Paul's Episcopal Church":MAILTO:stpaulsstockbridge@gmail.com
END:VEVENT
BEGIN:VEVENT
DTSTART;TZID=America/New_York:20260303T080000
DTEND;TZID=America/New_York:20260303T083000
DTSTAMP:20260424T190241
CREATED:20250218T211535Z
LAST-MODIFIED:20250218T211535Z
UID:10001597-1772524800-1772526600@stpaulsstockbridge.org
SUMMARY:Morning Prayer
DESCRIPTION:
URL:https://stpaulsstockbridge.org/event/morning-prayer/2026-03-03/
LOCATION:St. Paul’s Episcopal Church\, 29 Main Street\, Stockbridge\, MA\, 01262\, United States
CATEGORIES:Prayer
ORGANIZER;CN="St. Paul's Episcopal Church":MAILTO:stpaulsstockbridge@gmail.com
END:VEVENT
BEGIN:VEVENT
DTSTART;TZID=America/New_York:20260227T170000
DTEND;TZID=America/New_York:20260227T173000
DTSTAMP:20260424T190241
CREATED:20250219T020137Z
LAST-MODIFIED:20250219T020137Z
UID:10002904-1772211600-1772213400@stpaulsstockbridge.org
SUMMARY:Evening Prayer
DESCRIPTION:
URL:https://stpaulsstockbridge.org/event/evening-prayer-4/2026-02-27/
LOCATION:St. Paul’s Episcopal Church\, 29 Main Street\, Stockbridge\, MA\, 01262\, United States
CATEGORIES:Prayer
ORGANIZER;CN="St. Paul's Episcopal Church":MAILTO:stpaulsstockbridge@gmail.com
END:VEVENT
BEGIN:VEVENT
DTSTART;TZID=America/New_York:20260227T083000
DTEND;TZID=America/New_York:20260227T090000
DTSTAMP:20260424T190241
CREATED:20240228T150038Z
LAST-MODIFIED:20240228T150038Z
UID:10001132-1772181000-1772182800@stpaulsstockbridge.org
SUMMARY:Intercessory Prayer in the Church
DESCRIPTION:Please join us to pray for those on our parish prayer list and others.
URL:https://stpaulsstockbridge.org/event/intercessory-prayer-in-the-church/2026-02-27/
LOCATION:St. Paul’s Episcopal Church\, 29 Main Street\, Stockbridge\, MA\, 01262\, United States
CATEGORIES:Prayer
ORGANIZER;CN="St. Paul's Episcopal Church":MAILTO:stpaulsstockbridge@gmail.com
END:VEVENT
BEGIN:VEVENT
DTSTART;TZID=America/New_York:20260227T080000
DTEND;TZID=America/New_York:20260227T083000
DTSTAMP:20260424T190241
CREATED:20250219T015857Z
LAST-MODIFIED:20250219T015857Z
UID:10002120-1772179200-1772181000@stpaulsstockbridge.org
SUMMARY:Morning Prayer
DESCRIPTION:
URL:https://stpaulsstockbridge.org/event/morning-prayer-4/2026-02-27/
LOCATION:St. Paul’s Episcopal Church\, 29 Main Street\, Stockbridge\, MA\, 01262\, United States
CATEGORIES:Prayer
ORGANIZER;CN="St. Paul's Episcopal Church":MAILTO:stpaulsstockbridge@gmail.com
END:VEVENT
BEGIN:VEVENT
DTSTART;TZID=America/New_York:20260226T170000
DTEND;TZID=America/New_York:20260226T173000
DTSTAMP:20260424T190241
CREATED:20250219T020057Z
LAST-MODIFIED:20250219T020057Z
UID:10002643-1772125200-1772127000@stpaulsstockbridge.org
SUMMARY:Evening Prayer
DESCRIPTION:
URL:https://stpaulsstockbridge.org/event/evening-prayer-3/2026-02-26/
LOCATION:MA
CATEGORIES:Prayer
ORGANIZER;CN="St. Paul's Episcopal Church":MAILTO:stpaulsstockbridge@gmail.com
END:VEVENT
BEGIN:VEVENT
DTSTART;TZID=America/New_York:20260226T080000
DTEND;TZID=America/New_York:20260226T083000
DTSTAMP:20260424T190241
CREATED:20250218T211705Z
LAST-MODIFIED:20250219T020339Z
UID:10003164-1772092800-1772094600@stpaulsstockbridge.org
SUMMARY:Morning Prayer
DESCRIPTION:
URL:https://stpaulsstockbridge.org/event/morning-prayer-3/2026-02-26/
LOCATION:St. Paul’s Episcopal Church\, 29 Main Street\, Stockbridge\, MA\, 01262\, United States
CATEGORIES:Prayer
ORGANIZER;CN="St. Paul's Episcopal Church":MAILTO:stpaulsstockbridge@gmail.com
END:VEVENT
BEGIN:VEVENT
DTSTART;TZID=America/New_York:20260225T080000
DTEND;TZID=America/New_York:20260225T083000
DTSTAMP:20260424T190241
CREATED:20250218T211611Z
LAST-MODIFIED:20250218T211626Z
UID:10001857-1772006400-1772008200@stpaulsstockbridge.org
SUMMARY:Morning Prayer
DESCRIPTION:
URL:https://stpaulsstockbridge.org/event/morning-prayer-2/2026-02-25/
LOCATION:St. Paul’s Episcopal Church\, 29 Main Street\, Stockbridge\, MA\, 01262\, United States
CATEGORIES:Prayer
ORGANIZER;CN="St. Paul's Episcopal Church":MAILTO:stpaulsstockbridge@gmail.com
END:VEVENT
BEGIN:VEVENT
DTSTART;TZID=America/New_York:20260224T170000
DTEND;TZID=America/New_York:20260224T173000
DTSTAMP:20260424T190241
CREATED:20250219T015939Z
LAST-MODIFIED:20250219T015939Z
UID:10002381-1771952400-1771954200@stpaulsstockbridge.org
SUMMARY:Evening Prayer
DESCRIPTION:
URL:https://stpaulsstockbridge.org/event/evening-prayer/2026-02-24/
LOCATION:MA
CATEGORIES:Prayer
ORGANIZER;CN="St. Paul's Episcopal Church":MAILTO:stpaulsstockbridge@gmail.com
END:VEVENT
BEGIN:VEVENT
DTSTART;TZID=America/New_York:20260224T080000
DTEND;TZID=America/New_York:20260224T083000
DTSTAMP:20260424T190241
CREATED:20250218T211535Z
LAST-MODIFIED:20250218T211535Z
UID:10001596-1771920000-1771921800@stpaulsstockbridge.org
SUMMARY:Morning Prayer
DESCRIPTION:
URL:https://stpaulsstockbridge.org/event/morning-prayer/2026-02-24/
LOCATION:St. Paul’s Episcopal Church\, 29 Main Street\, Stockbridge\, MA\, 01262\, United States
CATEGORIES:Prayer
ORGANIZER;CN="St. Paul's Episcopal Church":MAILTO:stpaulsstockbridge@gmail.com
END:VEVENT
BEGIN:VEVENT
DTSTART;TZID=America/New_York:20260220T170000
DTEND;TZID=America/New_York:20260220T173000
DTSTAMP:20260424T190241
CREATED:20250219T020137Z
LAST-MODIFIED:20250219T020137Z
UID:10002903-1771606800-1771608600@stpaulsstockbridge.org
SUMMARY:Evening Prayer
DESCRIPTION:
URL:https://stpaulsstockbridge.org/event/evening-prayer-4/2026-02-20/
LOCATION:St. Paul’s Episcopal Church\, 29 Main Street\, Stockbridge\, MA\, 01262\, United States
CATEGORIES:Prayer
ORGANIZER;CN="St. Paul's Episcopal Church":MAILTO:stpaulsstockbridge@gmail.com
END:VEVENT
BEGIN:VEVENT
DTSTART;TZID=America/New_York:20260220T083000
DTEND;TZID=America/New_York:20260220T090000
DTSTAMP:20260424T190241
CREATED:20240228T150038Z
LAST-MODIFIED:20240228T150038Z
UID:10001131-1771576200-1771578000@stpaulsstockbridge.org
SUMMARY:Intercessory Prayer in the Church
DESCRIPTION:Please join us to pray for those on our parish prayer list and others.
URL:https://stpaulsstockbridge.org/event/intercessory-prayer-in-the-church/2026-02-20/
LOCATION:St. Paul’s Episcopal Church\, 29 Main Street\, Stockbridge\, MA\, 01262\, United States
CATEGORIES:Prayer
ORGANIZER;CN="St. Paul's Episcopal Church":MAILTO:stpaulsstockbridge@gmail.com
END:VEVENT
BEGIN:VEVENT
DTSTART;TZID=America/New_York:20260220T080000
DTEND;TZID=America/New_York:20260220T083000
DTSTAMP:20260424T190241
CREATED:20250219T015857Z
LAST-MODIFIED:20250219T015857Z
UID:10002119-1771574400-1771576200@stpaulsstockbridge.org
SUMMARY:Morning Prayer
DESCRIPTION:
URL:https://stpaulsstockbridge.org/event/morning-prayer-4/2026-02-20/
LOCATION:St. Paul’s Episcopal Church\, 29 Main Street\, Stockbridge\, MA\, 01262\, United States
CATEGORIES:Prayer
ORGANIZER;CN="St. Paul's Episcopal Church":MAILTO:stpaulsstockbridge@gmail.com
END:VEVENT
BEGIN:VEVENT
DTSTART;TZID=America/New_York:20260219T170000
DTEND;TZID=America/New_York:20260219T173000
DTSTAMP:20260424T190241
CREATED:20250219T020057Z
LAST-MODIFIED:20250219T020057Z
UID:10002642-1771520400-1771522200@stpaulsstockbridge.org
SUMMARY:Evening Prayer
DESCRIPTION:
URL:https://stpaulsstockbridge.org/event/evening-prayer-3/2026-02-19/
LOCATION:MA
CATEGORIES:Prayer
ORGANIZER;CN="St. Paul's Episcopal Church":MAILTO:stpaulsstockbridge@gmail.com
END:VEVENT
END:VCALENDAR