BEGIN:VCALENDAR
VERSION:2.0
PRODID:-//St Paul&#039;s Episcopal Church in Stockbridge - ECPv6.15.20//NONSGML v1.0//EN
CALSCALE:GREGORIAN
METHOD:PUBLISH
X-ORIGINAL-URL:https://stpaulsstockbridge.org
X-WR-CALDESC:Events for St Paul&#039;s Episcopal Church in Stockbridge
REFRESH-INTERVAL;VALUE=DURATION:PT1H
X-Robots-Tag:noindex
X-PUBLISHED-TTL:PT1H
BEGIN:VTIMEZONE
TZID:America/New_York
BEGIN:DAYLIGHT
TZOFFSETFROM:-0500
TZOFFSETTO:-0400
TZNAME:EDT
DTSTART:20250309T070000
END:DAYLIGHT
BEGIN:STANDARD
TZOFFSETFROM:-0400
TZOFFSETTO:-0500
TZNAME:EST
DTSTART:20251102T060000
END:STANDARD
BEGIN:DAYLIGHT
TZOFFSETFROM:-0500
TZOFFSETTO:-0400
TZNAME:EDT
DTSTART:20260308T070000
END:DAYLIGHT
BEGIN:STANDARD
TZOFFSETFROM:-0400
TZOFFSETTO:-0500
TZNAME:EST
DTSTART:20261101T060000
END:STANDARD
BEGIN:DAYLIGHT
TZOFFSETFROM:-0500
TZOFFSETTO:-0400
TZNAME:EDT
DTSTART:20270314T070000
END:DAYLIGHT
BEGIN:STANDARD
TZOFFSETFROM:-0400
TZOFFSETTO:-0500
TZNAME:EST
DTSTART:20271107T060000
END:STANDARD
END:VTIMEZONE
BEGIN:VEVENT
DTSTART;TZID=America/New_York:20260618T170000
DTEND;TZID=America/New_York:20260618T173000
DTSTAMP:20260424T190305
CREATED:20250219T020057Z
LAST-MODIFIED:20250219T020057Z
UID:10002659-1781802000-1781803800@stpaulsstockbridge.org
SUMMARY:Evening Prayer
DESCRIPTION:
URL:https://stpaulsstockbridge.org/event/evening-prayer-3/2026-06-18/
LOCATION:MA
CATEGORIES:Prayer
ORGANIZER;CN="St. Paul's Episcopal Church":MAILTO:stpaulsstockbridge@gmail.com
END:VEVENT
BEGIN:VEVENT
DTSTART;TZID=America/New_York:20260619T080000
DTEND;TZID=America/New_York:20260619T083000
DTSTAMP:20260424T190305
CREATED:20250219T015857Z
LAST-MODIFIED:20250219T015857Z
UID:10002136-1781856000-1781857800@stpaulsstockbridge.org
SUMMARY:Morning Prayer
DESCRIPTION:
URL:https://stpaulsstockbridge.org/event/morning-prayer-4/2026-06-19/
LOCATION:St. Paul’s Episcopal Church\, 29 Main Street\, Stockbridge\, MA\, 01262\, United States
CATEGORIES:Prayer
ORGANIZER;CN="St. Paul's Episcopal Church":MAILTO:stpaulsstockbridge@gmail.com
END:VEVENT
BEGIN:VEVENT
DTSTART;TZID=America/New_York:20260619T083000
DTEND;TZID=America/New_York:20260619T090000
DTSTAMP:20260424T190305
CREATED:20240228T150038Z
LAST-MODIFIED:20240228T150038Z
UID:10001148-1781857800-1781859600@stpaulsstockbridge.org
SUMMARY:Intercessory Prayer in the Church
DESCRIPTION:Please join us to pray for those on our parish prayer list and others.
URL:https://stpaulsstockbridge.org/event/intercessory-prayer-in-the-church/2026-06-19/
LOCATION:St. Paul’s Episcopal Church\, 29 Main Street\, Stockbridge\, MA\, 01262\, United States
CATEGORIES:Prayer
ORGANIZER;CN="St. Paul's Episcopal Church":MAILTO:stpaulsstockbridge@gmail.com
END:VEVENT
BEGIN:VEVENT
DTSTART;TZID=America/New_York:20260619T170000
DTEND;TZID=America/New_York:20260619T173000
DTSTAMP:20260424T190305
CREATED:20250219T020137Z
LAST-MODIFIED:20250219T020137Z
UID:10002920-1781888400-1781890200@stpaulsstockbridge.org
SUMMARY:Evening Prayer
DESCRIPTION:
URL:https://stpaulsstockbridge.org/event/evening-prayer-4/2026-06-19/
LOCATION:St. Paul’s Episcopal Church\, 29 Main Street\, Stockbridge\, MA\, 01262\, United States
CATEGORIES:Prayer
ORGANIZER;CN="St. Paul's Episcopal Church":MAILTO:stpaulsstockbridge@gmail.com
END:VEVENT
BEGIN:VEVENT
DTSTART;TZID=America/New_York:20260623T080000
DTEND;TZID=America/New_York:20260623T083000
DTSTAMP:20260424T190305
CREATED:20250218T211535Z
LAST-MODIFIED:20250218T211535Z
UID:10001613-1782201600-1782203400@stpaulsstockbridge.org
SUMMARY:Morning Prayer
DESCRIPTION:
URL:https://stpaulsstockbridge.org/event/morning-prayer/2026-06-23/
LOCATION:St. Paul’s Episcopal Church\, 29 Main Street\, Stockbridge\, MA\, 01262\, United States
CATEGORIES:Prayer
ORGANIZER;CN="St. Paul's Episcopal Church":MAILTO:stpaulsstockbridge@gmail.com
END:VEVENT
BEGIN:VEVENT
DTSTART;TZID=America/New_York:20260623T170000
DTEND;TZID=America/New_York:20260623T173000
DTSTAMP:20260424T190305
CREATED:20250219T015939Z
LAST-MODIFIED:20250219T015939Z
UID:10002398-1782234000-1782235800@stpaulsstockbridge.org
SUMMARY:Evening Prayer
DESCRIPTION:
URL:https://stpaulsstockbridge.org/event/evening-prayer/2026-06-23/
LOCATION:MA
CATEGORIES:Prayer
ORGANIZER;CN="St. Paul's Episcopal Church":MAILTO:stpaulsstockbridge@gmail.com
END:VEVENT
BEGIN:VEVENT
DTSTART;TZID=America/New_York:20260624T080000
DTEND;TZID=America/New_York:20260624T083000
DTSTAMP:20260424T190305
CREATED:20250218T211611Z
LAST-MODIFIED:20250218T211626Z
UID:10001874-1782288000-1782289800@stpaulsstockbridge.org
SUMMARY:Morning Prayer
DESCRIPTION:
URL:https://stpaulsstockbridge.org/event/morning-prayer-2/2026-06-24/
LOCATION:St. Paul’s Episcopal Church\, 29 Main Street\, Stockbridge\, MA\, 01262\, United States
CATEGORIES:Prayer
ORGANIZER;CN="St. Paul's Episcopal Church":MAILTO:stpaulsstockbridge@gmail.com
END:VEVENT
BEGIN:VEVENT
DTSTART;TZID=America/New_York:20260625T080000
DTEND;TZID=America/New_York:20260625T083000
DTSTAMP:20260424T190305
CREATED:20250218T211705Z
LAST-MODIFIED:20250219T020339Z
UID:10003181-1782374400-1782376200@stpaulsstockbridge.org
SUMMARY:Morning Prayer
DESCRIPTION:
URL:https://stpaulsstockbridge.org/event/morning-prayer-3/2026-06-25/
LOCATION:St. Paul’s Episcopal Church\, 29 Main Street\, Stockbridge\, MA\, 01262\, United States
CATEGORIES:Prayer
ORGANIZER;CN="St. Paul's Episcopal Church":MAILTO:stpaulsstockbridge@gmail.com
END:VEVENT
BEGIN:VEVENT
DTSTART;TZID=America/New_York:20260625T170000
DTEND;TZID=America/New_York:20260625T173000
DTSTAMP:20260424T190305
CREATED:20250219T020057Z
LAST-MODIFIED:20250219T020057Z
UID:10002660-1782406800-1782408600@stpaulsstockbridge.org
SUMMARY:Evening Prayer
DESCRIPTION:
URL:https://stpaulsstockbridge.org/event/evening-prayer-3/2026-06-25/
LOCATION:MA
CATEGORIES:Prayer
ORGANIZER;CN="St. Paul's Episcopal Church":MAILTO:stpaulsstockbridge@gmail.com
END:VEVENT
BEGIN:VEVENT
DTSTART;TZID=America/New_York:20260626T080000
DTEND;TZID=America/New_York:20260626T083000
DTSTAMP:20260424T190305
CREATED:20250219T015857Z
LAST-MODIFIED:20250219T015857Z
UID:10002137-1782460800-1782462600@stpaulsstockbridge.org
SUMMARY:Morning Prayer
DESCRIPTION:
URL:https://stpaulsstockbridge.org/event/morning-prayer-4/2026-06-26/
LOCATION:St. Paul’s Episcopal Church\, 29 Main Street\, Stockbridge\, MA\, 01262\, United States
CATEGORIES:Prayer
ORGANIZER;CN="St. Paul's Episcopal Church":MAILTO:stpaulsstockbridge@gmail.com
END:VEVENT
BEGIN:VEVENT
DTSTART;TZID=America/New_York:20260626T083000
DTEND;TZID=America/New_York:20260626T090000
DTSTAMP:20260424T190305
CREATED:20240228T150038Z
LAST-MODIFIED:20240228T150038Z
UID:10001149-1782462600-1782464400@stpaulsstockbridge.org
SUMMARY:Intercessory Prayer in the Church
DESCRIPTION:Please join us to pray for those on our parish prayer list and others.
URL:https://stpaulsstockbridge.org/event/intercessory-prayer-in-the-church/2026-06-26/
LOCATION:St. Paul’s Episcopal Church\, 29 Main Street\, Stockbridge\, MA\, 01262\, United States
CATEGORIES:Prayer
ORGANIZER;CN="St. Paul's Episcopal Church":MAILTO:stpaulsstockbridge@gmail.com
END:VEVENT
BEGIN:VEVENT
DTSTART;TZID=America/New_York:20260626T170000
DTEND;TZID=America/New_York:20260626T173000
DTSTAMP:20260424T190305
CREATED:20250219T020137Z
LAST-MODIFIED:20250219T020137Z
UID:10002921-1782493200-1782495000@stpaulsstockbridge.org
SUMMARY:Evening Prayer
DESCRIPTION:
URL:https://stpaulsstockbridge.org/event/evening-prayer-4/2026-06-26/
LOCATION:St. Paul’s Episcopal Church\, 29 Main Street\, Stockbridge\, MA\, 01262\, United States
CATEGORIES:Prayer
ORGANIZER;CN="St. Paul's Episcopal Church":MAILTO:stpaulsstockbridge@gmail.com
END:VEVENT
BEGIN:VEVENT
DTSTART;TZID=America/New_York:20260630T080000
DTEND;TZID=America/New_York:20260630T083000
DTSTAMP:20260424T190305
CREATED:20250218T211535Z
LAST-MODIFIED:20250218T211535Z
UID:10001614-1782806400-1782808200@stpaulsstockbridge.org
SUMMARY:Morning Prayer
DESCRIPTION:
URL:https://stpaulsstockbridge.org/event/morning-prayer/2026-06-30/
LOCATION:St. Paul’s Episcopal Church\, 29 Main Street\, Stockbridge\, MA\, 01262\, United States
CATEGORIES:Prayer
ORGANIZER;CN="St. Paul's Episcopal Church":MAILTO:stpaulsstockbridge@gmail.com
END:VEVENT
BEGIN:VEVENT
DTSTART;TZID=America/New_York:20260630T170000
DTEND;TZID=America/New_York:20260630T173000
DTSTAMP:20260424T190305
CREATED:20250219T015939Z
LAST-MODIFIED:20250219T015939Z
UID:10002399-1782838800-1782840600@stpaulsstockbridge.org
SUMMARY:Evening Prayer
DESCRIPTION:
URL:https://stpaulsstockbridge.org/event/evening-prayer/2026-06-30/
LOCATION:MA
CATEGORIES:Prayer
ORGANIZER;CN="St. Paul's Episcopal Church":MAILTO:stpaulsstockbridge@gmail.com
END:VEVENT
BEGIN:VEVENT
DTSTART;TZID=America/New_York:20260701T080000
DTEND;TZID=America/New_York:20260701T083000
DTSTAMP:20260424T190305
CREATED:20250218T211611Z
LAST-MODIFIED:20250218T211626Z
UID:10001875-1782892800-1782894600@stpaulsstockbridge.org
SUMMARY:Morning Prayer
DESCRIPTION:
URL:https://stpaulsstockbridge.org/event/morning-prayer-2/2026-07-01/
LOCATION:St. Paul’s Episcopal Church\, 29 Main Street\, Stockbridge\, MA\, 01262\, United States
CATEGORIES:Prayer
ORGANIZER;CN="St. Paul's Episcopal Church":MAILTO:stpaulsstockbridge@gmail.com
END:VEVENT
BEGIN:VEVENT
DTSTART;TZID=America/New_York:20260702T080000
DTEND;TZID=America/New_York:20260702T083000
DTSTAMP:20260424T190305
CREATED:20250218T211705Z
LAST-MODIFIED:20250219T020339Z
UID:10003182-1782979200-1782981000@stpaulsstockbridge.org
SUMMARY:Morning Prayer
DESCRIPTION:
URL:https://stpaulsstockbridge.org/event/morning-prayer-3/2026-07-02/
LOCATION:St. Paul’s Episcopal Church\, 29 Main Street\, Stockbridge\, MA\, 01262\, United States
CATEGORIES:Prayer
ORGANIZER;CN="St. Paul's Episcopal Church":MAILTO:stpaulsstockbridge@gmail.com
END:VEVENT
BEGIN:VEVENT
DTSTART;TZID=America/New_York:20260702T170000
DTEND;TZID=America/New_York:20260702T173000
DTSTAMP:20260424T190305
CREATED:20250219T020057Z
LAST-MODIFIED:20250219T020057Z
UID:10002661-1783011600-1783013400@stpaulsstockbridge.org
SUMMARY:Evening Prayer
DESCRIPTION:
URL:https://stpaulsstockbridge.org/event/evening-prayer-3/2026-07-02/
LOCATION:MA
CATEGORIES:Prayer
ORGANIZER;CN="St. Paul's Episcopal Church":MAILTO:stpaulsstockbridge@gmail.com
END:VEVENT
BEGIN:VEVENT
DTSTART;TZID=America/New_York:20260703T080000
DTEND;TZID=America/New_York:20260703T083000
DTSTAMP:20260424T190305
CREATED:20250219T015857Z
LAST-MODIFIED:20250219T015857Z
UID:10002138-1783065600-1783067400@stpaulsstockbridge.org
SUMMARY:Morning Prayer
DESCRIPTION:
URL:https://stpaulsstockbridge.org/event/morning-prayer-4/2026-07-03/
LOCATION:St. Paul’s Episcopal Church\, 29 Main Street\, Stockbridge\, MA\, 01262\, United States
CATEGORIES:Prayer
ORGANIZER;CN="St. Paul's Episcopal Church":MAILTO:stpaulsstockbridge@gmail.com
END:VEVENT
BEGIN:VEVENT
DTSTART;TZID=America/New_York:20260703T083000
DTEND;TZID=America/New_York:20260703T090000
DTSTAMP:20260424T190305
CREATED:20240228T150038Z
LAST-MODIFIED:20240228T150038Z
UID:10001150-1783067400-1783069200@stpaulsstockbridge.org
SUMMARY:Intercessory Prayer in the Church
DESCRIPTION:Please join us to pray for those on our parish prayer list and others.
URL:https://stpaulsstockbridge.org/event/intercessory-prayer-in-the-church/2026-07-03/
LOCATION:St. Paul’s Episcopal Church\, 29 Main Street\, Stockbridge\, MA\, 01262\, United States
CATEGORIES:Prayer
ORGANIZER;CN="St. Paul's Episcopal Church":MAILTO:stpaulsstockbridge@gmail.com
END:VEVENT
BEGIN:VEVENT
DTSTART;TZID=America/New_York:20260703T170000
DTEND;TZID=America/New_York:20260703T173000
DTSTAMP:20260424T190305
CREATED:20250219T020137Z
LAST-MODIFIED:20250219T020137Z
UID:10002922-1783098000-1783099800@stpaulsstockbridge.org
SUMMARY:Evening Prayer
DESCRIPTION:
URL:https://stpaulsstockbridge.org/event/evening-prayer-4/2026-07-03/
LOCATION:St. Paul’s Episcopal Church\, 29 Main Street\, Stockbridge\, MA\, 01262\, United States
CATEGORIES:Prayer
ORGANIZER;CN="St. Paul's Episcopal Church":MAILTO:stpaulsstockbridge@gmail.com
END:VEVENT
BEGIN:VEVENT
DTSTART;TZID=America/New_York:20260707T080000
DTEND;TZID=America/New_York:20260707T083000
DTSTAMP:20260424T190305
CREATED:20250218T211535Z
LAST-MODIFIED:20250218T211535Z
UID:10001615-1783411200-1783413000@stpaulsstockbridge.org
SUMMARY:Morning Prayer
DESCRIPTION:
URL:https://stpaulsstockbridge.org/event/morning-prayer/2026-07-07/
LOCATION:St. Paul’s Episcopal Church\, 29 Main Street\, Stockbridge\, MA\, 01262\, United States
CATEGORIES:Prayer
ORGANIZER;CN="St. Paul's Episcopal Church":MAILTO:stpaulsstockbridge@gmail.com
END:VEVENT
BEGIN:VEVENT
DTSTART;TZID=America/New_York:20260707T170000
DTEND;TZID=America/New_York:20260707T173000
DTSTAMP:20260424T190305
CREATED:20250219T015939Z
LAST-MODIFIED:20250219T015939Z
UID:10002400-1783443600-1783445400@stpaulsstockbridge.org
SUMMARY:Evening Prayer
DESCRIPTION:
URL:https://stpaulsstockbridge.org/event/evening-prayer/2026-07-07/
LOCATION:MA
CATEGORIES:Prayer
ORGANIZER;CN="St. Paul's Episcopal Church":MAILTO:stpaulsstockbridge@gmail.com
END:VEVENT
BEGIN:VEVENT
DTSTART;TZID=America/New_York:20260708T080000
DTEND;TZID=America/New_York:20260708T083000
DTSTAMP:20260424T190305
CREATED:20250218T211611Z
LAST-MODIFIED:20250218T211626Z
UID:10001876-1783497600-1783499400@stpaulsstockbridge.org
SUMMARY:Morning Prayer
DESCRIPTION:
URL:https://stpaulsstockbridge.org/event/morning-prayer-2/2026-07-08/
LOCATION:St. Paul’s Episcopal Church\, 29 Main Street\, Stockbridge\, MA\, 01262\, United States
CATEGORIES:Prayer
ORGANIZER;CN="St. Paul's Episcopal Church":MAILTO:stpaulsstockbridge@gmail.com
END:VEVENT
BEGIN:VEVENT
DTSTART;TZID=America/New_York:20260709T080000
DTEND;TZID=America/New_York:20260709T083000
DTSTAMP:20260424T190305
CREATED:20250218T211705Z
LAST-MODIFIED:20250219T020339Z
UID:10003183-1783584000-1783585800@stpaulsstockbridge.org
SUMMARY:Morning Prayer
DESCRIPTION:
URL:https://stpaulsstockbridge.org/event/morning-prayer-3/2026-07-09/
LOCATION:St. Paul’s Episcopal Church\, 29 Main Street\, Stockbridge\, MA\, 01262\, United States
CATEGORIES:Prayer
ORGANIZER;CN="St. Paul's Episcopal Church":MAILTO:stpaulsstockbridge@gmail.com
END:VEVENT
BEGIN:VEVENT
DTSTART;TZID=America/New_York:20260709T170000
DTEND;TZID=America/New_York:20260709T173000
DTSTAMP:20260424T190305
CREATED:20250219T020057Z
LAST-MODIFIED:20250219T020057Z
UID:10002662-1783616400-1783618200@stpaulsstockbridge.org
SUMMARY:Evening Prayer
DESCRIPTION:
URL:https://stpaulsstockbridge.org/event/evening-prayer-3/2026-07-09/
LOCATION:MA
CATEGORIES:Prayer
ORGANIZER;CN="St. Paul's Episcopal Church":MAILTO:stpaulsstockbridge@gmail.com
END:VEVENT
BEGIN:VEVENT
DTSTART;TZID=America/New_York:20260710T080000
DTEND;TZID=America/New_York:20260710T083000
DTSTAMP:20260424T190305
CREATED:20250219T015857Z
LAST-MODIFIED:20250219T015857Z
UID:10002139-1783670400-1783672200@stpaulsstockbridge.org
SUMMARY:Morning Prayer
DESCRIPTION:
URL:https://stpaulsstockbridge.org/event/morning-prayer-4/2026-07-10/
LOCATION:St. Paul’s Episcopal Church\, 29 Main Street\, Stockbridge\, MA\, 01262\, United States
CATEGORIES:Prayer
ORGANIZER;CN="St. Paul's Episcopal Church":MAILTO:stpaulsstockbridge@gmail.com
END:VEVENT
BEGIN:VEVENT
DTSTART;TZID=America/New_York:20260710T083000
DTEND;TZID=America/New_York:20260710T090000
DTSTAMP:20260424T190305
CREATED:20240228T150038Z
LAST-MODIFIED:20240228T150038Z
UID:10001151-1783672200-1783674000@stpaulsstockbridge.org
SUMMARY:Intercessory Prayer in the Church
DESCRIPTION:Please join us to pray for those on our parish prayer list and others.
URL:https://stpaulsstockbridge.org/event/intercessory-prayer-in-the-church/2026-07-10/
LOCATION:St. Paul’s Episcopal Church\, 29 Main Street\, Stockbridge\, MA\, 01262\, United States
CATEGORIES:Prayer
ORGANIZER;CN="St. Paul's Episcopal Church":MAILTO:stpaulsstockbridge@gmail.com
END:VEVENT
BEGIN:VEVENT
DTSTART;TZID=America/New_York:20260710T170000
DTEND;TZID=America/New_York:20260710T173000
DTSTAMP:20260424T190305
CREATED:20250219T020137Z
LAST-MODIFIED:20250219T020137Z
UID:10002923-1783702800-1783704600@stpaulsstockbridge.org
SUMMARY:Evening Prayer
DESCRIPTION:
URL:https://stpaulsstockbridge.org/event/evening-prayer-4/2026-07-10/
LOCATION:St. Paul’s Episcopal Church\, 29 Main Street\, Stockbridge\, MA\, 01262\, United States
CATEGORIES:Prayer
ORGANIZER;CN="St. Paul's Episcopal Church":MAILTO:stpaulsstockbridge@gmail.com
END:VEVENT
BEGIN:VEVENT
DTSTART;TZID=America/New_York:20260714T080000
DTEND;TZID=America/New_York:20260714T083000
DTSTAMP:20260424T190305
CREATED:20250218T211535Z
LAST-MODIFIED:20250218T211535Z
UID:10001616-1784016000-1784017800@stpaulsstockbridge.org
SUMMARY:Morning Prayer
DESCRIPTION:
URL:https://stpaulsstockbridge.org/event/morning-prayer/2026-07-14/
LOCATION:St. Paul’s Episcopal Church\, 29 Main Street\, Stockbridge\, MA\, 01262\, United States
CATEGORIES:Prayer
ORGANIZER;CN="St. Paul's Episcopal Church":MAILTO:stpaulsstockbridge@gmail.com
END:VEVENT
BEGIN:VEVENT
DTSTART;TZID=America/New_York:20260714T170000
DTEND;TZID=America/New_York:20260714T173000
DTSTAMP:20260424T190305
CREATED:20250219T015939Z
LAST-MODIFIED:20250219T015939Z
UID:10002401-1784048400-1784050200@stpaulsstockbridge.org
SUMMARY:Evening Prayer
DESCRIPTION:
URL:https://stpaulsstockbridge.org/event/evening-prayer/2026-07-14/
LOCATION:MA
CATEGORIES:Prayer
ORGANIZER;CN="St. Paul's Episcopal Church":MAILTO:stpaulsstockbridge@gmail.com
END:VEVENT
END:VCALENDAR