BEGIN:VCALENDAR
VERSION:2.0
PRODID:-//St Paul&#039;s Episcopal Church in Stockbridge - ECPv6.15.20//NONSGML v1.0//EN
CALSCALE:GREGORIAN
METHOD:PUBLISH
X-ORIGINAL-URL:https://stpaulsstockbridge.org
X-WR-CALDESC:Events for St Paul&#039;s Episcopal Church in Stockbridge
REFRESH-INTERVAL;VALUE=DURATION:PT1H
X-Robots-Tag:noindex
X-PUBLISHED-TTL:PT1H
BEGIN:VTIMEZONE
TZID:America/New_York
BEGIN:DAYLIGHT
TZOFFSETFROM:-0500
TZOFFSETTO:-0400
TZNAME:EDT
DTSTART:20240310T070000
END:DAYLIGHT
BEGIN:STANDARD
TZOFFSETFROM:-0400
TZOFFSETTO:-0500
TZNAME:EST
DTSTART:20241103T060000
END:STANDARD
BEGIN:DAYLIGHT
TZOFFSETFROM:-0500
TZOFFSETTO:-0400
TZNAME:EDT
DTSTART:20250309T070000
END:DAYLIGHT
BEGIN:STANDARD
TZOFFSETFROM:-0400
TZOFFSETTO:-0500
TZNAME:EST
DTSTART:20251102T060000
END:STANDARD
BEGIN:DAYLIGHT
TZOFFSETFROM:-0500
TZOFFSETTO:-0400
TZNAME:EDT
DTSTART:20260308T070000
END:DAYLIGHT
BEGIN:STANDARD
TZOFFSETFROM:-0400
TZOFFSETTO:-0500
TZNAME:EST
DTSTART:20261101T060000
END:STANDARD
BEGIN:DAYLIGHT
TZOFFSETFROM:-0500
TZOFFSETTO:-0400
TZNAME:EDT
DTSTART:20270314T070000
END:DAYLIGHT
BEGIN:STANDARD
TZOFFSETFROM:-0400
TZOFFSETTO:-0500
TZNAME:EST
DTSTART:20271107T060000
END:STANDARD
END:VTIMEZONE
BEGIN:VEVENT
DTSTART;TZID=America/New_York:20260101T080000
DTEND;TZID=America/New_York:20260101T083000
DTSTAMP:20260425T073703
CREATED:20250218T211705Z
LAST-MODIFIED:20250219T020339Z
UID:10003156-1767254400-1767256200@stpaulsstockbridge.org
SUMMARY:Morning Prayer
DESCRIPTION:
URL:https://stpaulsstockbridge.org/event/morning-prayer-3/2026-01-01/
LOCATION:St. Paul’s Episcopal Church\, 29 Main Street\, Stockbridge\, MA\, 01262\, United States
CATEGORIES:Prayer
ORGANIZER;CN="St. Paul's Episcopal Church":MAILTO:stpaulsstockbridge@gmail.com
END:VEVENT
BEGIN:VEVENT
DTSTART;TZID=America/New_York:20251231T080000
DTEND;TZID=America/New_York:20251231T083000
DTSTAMP:20260425T073703
CREATED:20250218T211611Z
LAST-MODIFIED:20250218T211626Z
UID:10001849-1767168000-1767169800@stpaulsstockbridge.org
SUMMARY:Morning Prayer
DESCRIPTION:
URL:https://stpaulsstockbridge.org/event/morning-prayer-2/2025-12-31/
LOCATION:St. Paul’s Episcopal Church\, 29 Main Street\, Stockbridge\, MA\, 01262\, United States
CATEGORIES:Prayer
ORGANIZER;CN="St. Paul's Episcopal Church":MAILTO:stpaulsstockbridge@gmail.com
END:VEVENT
BEGIN:VEVENT
DTSTART;TZID=America/New_York:20251230T170000
DTEND;TZID=America/New_York:20251230T173000
DTSTAMP:20260425T073703
CREATED:20250219T015939Z
LAST-MODIFIED:20250219T015939Z
UID:10002373-1767114000-1767115800@stpaulsstockbridge.org
SUMMARY:Evening Prayer
DESCRIPTION:
URL:https://stpaulsstockbridge.org/event/evening-prayer/2025-12-30/
LOCATION:MA
CATEGORIES:Prayer
ORGANIZER;CN="St. Paul's Episcopal Church":MAILTO:stpaulsstockbridge@gmail.com
END:VEVENT
BEGIN:VEVENT
DTSTART;TZID=America/New_York:20251230T080000
DTEND;TZID=America/New_York:20251230T083000
DTSTAMP:20260425T073703
CREATED:20250218T211535Z
LAST-MODIFIED:20250218T211535Z
UID:10001588-1767081600-1767083400@stpaulsstockbridge.org
SUMMARY:Morning Prayer
DESCRIPTION:
URL:https://stpaulsstockbridge.org/event/morning-prayer/2025-12-30/
LOCATION:St. Paul’s Episcopal Church\, 29 Main Street\, Stockbridge\, MA\, 01262\, United States
CATEGORIES:Prayer
ORGANIZER;CN="St. Paul's Episcopal Church":MAILTO:stpaulsstockbridge@gmail.com
END:VEVENT
BEGIN:VEVENT
DTSTART;TZID=America/New_York:20251226T170000
DTEND;TZID=America/New_York:20251226T173000
DTSTAMP:20260425T073703
CREATED:20250219T020137Z
LAST-MODIFIED:20250219T020137Z
UID:10002895-1766768400-1766770200@stpaulsstockbridge.org
SUMMARY:Evening Prayer
DESCRIPTION:
URL:https://stpaulsstockbridge.org/event/evening-prayer-4/2025-12-26/
LOCATION:St. Paul’s Episcopal Church\, 29 Main Street\, Stockbridge\, MA\, 01262\, United States
CATEGORIES:Prayer
ORGANIZER;CN="St. Paul's Episcopal Church":MAILTO:stpaulsstockbridge@gmail.com
END:VEVENT
BEGIN:VEVENT
DTSTART;TZID=America/New_York:20251226T083000
DTEND;TZID=America/New_York:20251226T090000
DTSTAMP:20260425T073703
CREATED:20240228T150038Z
LAST-MODIFIED:20240228T150038Z
UID:10001123-1766737800-1766739600@stpaulsstockbridge.org
SUMMARY:Intercessory Prayer in the Church
DESCRIPTION:Please join us to pray for those on our parish prayer list and others.
URL:https://stpaulsstockbridge.org/event/intercessory-prayer-in-the-church/2025-12-26/
LOCATION:St. Paul’s Episcopal Church\, 29 Main Street\, Stockbridge\, MA\, 01262\, United States
CATEGORIES:Prayer
ORGANIZER;CN="St. Paul's Episcopal Church":MAILTO:stpaulsstockbridge@gmail.com
END:VEVENT
BEGIN:VEVENT
DTSTART;TZID=America/New_York:20251226T080000
DTEND;TZID=America/New_York:20251226T083000
DTSTAMP:20260425T073703
CREATED:20250219T015857Z
LAST-MODIFIED:20250219T015857Z
UID:10002111-1766736000-1766737800@stpaulsstockbridge.org
SUMMARY:Morning Prayer
DESCRIPTION:
URL:https://stpaulsstockbridge.org/event/morning-prayer-4/2025-12-26/
LOCATION:St. Paul’s Episcopal Church\, 29 Main Street\, Stockbridge\, MA\, 01262\, United States
CATEGORIES:Prayer
ORGANIZER;CN="St. Paul's Episcopal Church":MAILTO:stpaulsstockbridge@gmail.com
END:VEVENT
BEGIN:VEVENT
DTSTART;TZID=America/New_York:20251225T170000
DTEND;TZID=America/New_York:20251225T173000
DTSTAMP:20260425T073703
CREATED:20250219T020057Z
LAST-MODIFIED:20250219T020057Z
UID:10002634-1766682000-1766683800@stpaulsstockbridge.org
SUMMARY:Evening Prayer
DESCRIPTION:
URL:https://stpaulsstockbridge.org/event/evening-prayer-3/2025-12-25/
LOCATION:MA
CATEGORIES:Prayer
ORGANIZER;CN="St. Paul's Episcopal Church":MAILTO:stpaulsstockbridge@gmail.com
END:VEVENT
BEGIN:VEVENT
DTSTART;TZID=America/New_York:20251225T080000
DTEND;TZID=America/New_York:20251225T083000
DTSTAMP:20260425T073703
CREATED:20250218T211705Z
LAST-MODIFIED:20250219T020339Z
UID:10003155-1766649600-1766651400@stpaulsstockbridge.org
SUMMARY:Morning Prayer
DESCRIPTION:
URL:https://stpaulsstockbridge.org/event/morning-prayer-3/2025-12-25/
LOCATION:St. Paul’s Episcopal Church\, 29 Main Street\, Stockbridge\, MA\, 01262\, United States
CATEGORIES:Prayer
ORGANIZER;CN="St. Paul's Episcopal Church":MAILTO:stpaulsstockbridge@gmail.com
END:VEVENT
BEGIN:VEVENT
DTSTART;TZID=America/New_York:20251224T080000
DTEND;TZID=America/New_York:20251224T083000
DTSTAMP:20260425T073703
CREATED:20250218T211611Z
LAST-MODIFIED:20250218T211626Z
UID:10001848-1766563200-1766565000@stpaulsstockbridge.org
SUMMARY:Morning Prayer
DESCRIPTION:
URL:https://stpaulsstockbridge.org/event/morning-prayer-2/2025-12-24/
LOCATION:St. Paul’s Episcopal Church\, 29 Main Street\, Stockbridge\, MA\, 01262\, United States
CATEGORIES:Prayer
ORGANIZER;CN="St. Paul's Episcopal Church":MAILTO:stpaulsstockbridge@gmail.com
END:VEVENT
BEGIN:VEVENT
DTSTART;TZID=America/New_York:20251223T170000
DTEND;TZID=America/New_York:20251223T173000
DTSTAMP:20260425T073703
CREATED:20250219T015939Z
LAST-MODIFIED:20250219T015939Z
UID:10002372-1766509200-1766511000@stpaulsstockbridge.org
SUMMARY:Evening Prayer
DESCRIPTION:
URL:https://stpaulsstockbridge.org/event/evening-prayer/2025-12-23/
LOCATION:MA
CATEGORIES:Prayer
ORGANIZER;CN="St. Paul's Episcopal Church":MAILTO:stpaulsstockbridge@gmail.com
END:VEVENT
BEGIN:VEVENT
DTSTART;TZID=America/New_York:20251223T080000
DTEND;TZID=America/New_York:20251223T083000
DTSTAMP:20260425T073703
CREATED:20250218T211535Z
LAST-MODIFIED:20250218T211535Z
UID:10001587-1766476800-1766478600@stpaulsstockbridge.org
SUMMARY:Morning Prayer
DESCRIPTION:
URL:https://stpaulsstockbridge.org/event/morning-prayer/2025-12-23/
LOCATION:St. Paul’s Episcopal Church\, 29 Main Street\, Stockbridge\, MA\, 01262\, United States
CATEGORIES:Prayer
ORGANIZER;CN="St. Paul's Episcopal Church":MAILTO:stpaulsstockbridge@gmail.com
END:VEVENT
BEGIN:VEVENT
DTSTART;TZID=America/New_York:20251219T170000
DTEND;TZID=America/New_York:20251219T173000
DTSTAMP:20260425T073703
CREATED:20250219T020137Z
LAST-MODIFIED:20250219T020137Z
UID:10002894-1766163600-1766165400@stpaulsstockbridge.org
SUMMARY:Evening Prayer
DESCRIPTION:
URL:https://stpaulsstockbridge.org/event/evening-prayer-4/2025-12-19/
LOCATION:St. Paul’s Episcopal Church\, 29 Main Street\, Stockbridge\, MA\, 01262\, United States
CATEGORIES:Prayer
ORGANIZER;CN="St. Paul's Episcopal Church":MAILTO:stpaulsstockbridge@gmail.com
END:VEVENT
BEGIN:VEVENT
DTSTART;TZID=America/New_York:20251219T083000
DTEND;TZID=America/New_York:20251219T090000
DTSTAMP:20260425T073703
CREATED:20240228T150038Z
LAST-MODIFIED:20240228T150038Z
UID:10001122-1766133000-1766134800@stpaulsstockbridge.org
SUMMARY:Intercessory Prayer in the Church
DESCRIPTION:Please join us to pray for those on our parish prayer list and others.
URL:https://stpaulsstockbridge.org/event/intercessory-prayer-in-the-church/2025-12-19/
LOCATION:St. Paul’s Episcopal Church\, 29 Main Street\, Stockbridge\, MA\, 01262\, United States
CATEGORIES:Prayer
ORGANIZER;CN="St. Paul's Episcopal Church":MAILTO:stpaulsstockbridge@gmail.com
END:VEVENT
BEGIN:VEVENT
DTSTART;TZID=America/New_York:20251219T080000
DTEND;TZID=America/New_York:20251219T083000
DTSTAMP:20260425T073703
CREATED:20250219T015857Z
LAST-MODIFIED:20250219T015857Z
UID:10002110-1766131200-1766133000@stpaulsstockbridge.org
SUMMARY:Morning Prayer
DESCRIPTION:
URL:https://stpaulsstockbridge.org/event/morning-prayer-4/2025-12-19/
LOCATION:St. Paul’s Episcopal Church\, 29 Main Street\, Stockbridge\, MA\, 01262\, United States
CATEGORIES:Prayer
ORGANIZER;CN="St. Paul's Episcopal Church":MAILTO:stpaulsstockbridge@gmail.com
END:VEVENT
BEGIN:VEVENT
DTSTART;TZID=America/New_York:20251218T170000
DTEND;TZID=America/New_York:20251218T173000
DTSTAMP:20260425T073703
CREATED:20250219T020057Z
LAST-MODIFIED:20250219T020057Z
UID:10002633-1766077200-1766079000@stpaulsstockbridge.org
SUMMARY:Evening Prayer
DESCRIPTION:
URL:https://stpaulsstockbridge.org/event/evening-prayer-3/2025-12-18/
LOCATION:MA
CATEGORIES:Prayer
ORGANIZER;CN="St. Paul's Episcopal Church":MAILTO:stpaulsstockbridge@gmail.com
END:VEVENT
BEGIN:VEVENT
DTSTART;TZID=America/New_York:20251218T080000
DTEND;TZID=America/New_York:20251218T083000
DTSTAMP:20260425T073703
CREATED:20250218T211705Z
LAST-MODIFIED:20250219T020339Z
UID:10003154-1766044800-1766046600@stpaulsstockbridge.org
SUMMARY:Morning Prayer
DESCRIPTION:
URL:https://stpaulsstockbridge.org/event/morning-prayer-3/2025-12-18/
LOCATION:St. Paul’s Episcopal Church\, 29 Main Street\, Stockbridge\, MA\, 01262\, United States
CATEGORIES:Prayer
ORGANIZER;CN="St. Paul's Episcopal Church":MAILTO:stpaulsstockbridge@gmail.com
END:VEVENT
BEGIN:VEVENT
DTSTART;TZID=America/New_York:20251217T080000
DTEND;TZID=America/New_York:20251217T083000
DTSTAMP:20260425T073703
CREATED:20250218T211611Z
LAST-MODIFIED:20250218T211626Z
UID:10001847-1765958400-1765960200@stpaulsstockbridge.org
SUMMARY:Morning Prayer
DESCRIPTION:
URL:https://stpaulsstockbridge.org/event/morning-prayer-2/2025-12-17/
LOCATION:St. Paul’s Episcopal Church\, 29 Main Street\, Stockbridge\, MA\, 01262\, United States
CATEGORIES:Prayer
ORGANIZER;CN="St. Paul's Episcopal Church":MAILTO:stpaulsstockbridge@gmail.com
END:VEVENT
BEGIN:VEVENT
DTSTART;TZID=America/New_York:20251216T170000
DTEND;TZID=America/New_York:20251216T173000
DTSTAMP:20260425T073703
CREATED:20250219T015939Z
LAST-MODIFIED:20250219T015939Z
UID:10002371-1765904400-1765906200@stpaulsstockbridge.org
SUMMARY:Evening Prayer
DESCRIPTION:
URL:https://stpaulsstockbridge.org/event/evening-prayer/2025-12-16/
LOCATION:MA
CATEGORIES:Prayer
ORGANIZER;CN="St. Paul's Episcopal Church":MAILTO:stpaulsstockbridge@gmail.com
END:VEVENT
BEGIN:VEVENT
DTSTART;TZID=America/New_York:20251216T080000
DTEND;TZID=America/New_York:20251216T083000
DTSTAMP:20260425T073703
CREATED:20250218T211535Z
LAST-MODIFIED:20250218T211535Z
UID:10001586-1765872000-1765873800@stpaulsstockbridge.org
SUMMARY:Morning Prayer
DESCRIPTION:
URL:https://stpaulsstockbridge.org/event/morning-prayer/2025-12-16/
LOCATION:St. Paul’s Episcopal Church\, 29 Main Street\, Stockbridge\, MA\, 01262\, United States
CATEGORIES:Prayer
ORGANIZER;CN="St. Paul's Episcopal Church":MAILTO:stpaulsstockbridge@gmail.com
END:VEVENT
BEGIN:VEVENT
DTSTART;TZID=America/New_York:20251213T093000
DTEND;TZID=America/New_York:20251213T120000
DTSTAMP:20260425T073703
CREATED:20240228T150508Z
LAST-MODIFIED:20240228T152442Z
UID:10001329-1765618200-1765627200@stpaulsstockbridge.org
SUMMARY:St. Pauls' team serves at the Lee Food Pantry
DESCRIPTION:Located at 45 Railroad Street in Lee.
URL:https://stpaulsstockbridge.org/event/st-pauls-team-serves-at-the-lee-food-pantry-3/2025-12-13/
LOCATION:MA
CATEGORIES:Outreach
ORGANIZER;CN="St. Paul's Episcopal Church":MAILTO:stpaulsstockbridge@gmail.com
END:VEVENT
BEGIN:VEVENT
DTSTART;TZID=America/New_York:20251212T170000
DTEND;TZID=America/New_York:20251212T173000
DTSTAMP:20260425T073703
CREATED:20250219T020137Z
LAST-MODIFIED:20250219T020137Z
UID:10002893-1765558800-1765560600@stpaulsstockbridge.org
SUMMARY:Evening Prayer
DESCRIPTION:
URL:https://stpaulsstockbridge.org/event/evening-prayer-4/2025-12-12/
LOCATION:St. Paul’s Episcopal Church\, 29 Main Street\, Stockbridge\, MA\, 01262\, United States
CATEGORIES:Prayer
ORGANIZER;CN="St. Paul's Episcopal Church":MAILTO:stpaulsstockbridge@gmail.com
END:VEVENT
BEGIN:VEVENT
DTSTART;TZID=America/New_York:20251212T083000
DTEND;TZID=America/New_York:20251212T090000
DTSTAMP:20260425T073703
CREATED:20240228T150038Z
LAST-MODIFIED:20240228T150038Z
UID:10001121-1765528200-1765530000@stpaulsstockbridge.org
SUMMARY:Intercessory Prayer in the Church
DESCRIPTION:Please join us to pray for those on our parish prayer list and others.
URL:https://stpaulsstockbridge.org/event/intercessory-prayer-in-the-church/2025-12-12/
LOCATION:St. Paul’s Episcopal Church\, 29 Main Street\, Stockbridge\, MA\, 01262\, United States
CATEGORIES:Prayer
ORGANIZER;CN="St. Paul's Episcopal Church":MAILTO:stpaulsstockbridge@gmail.com
END:VEVENT
BEGIN:VEVENT
DTSTART;TZID=America/New_York:20251212T080000
DTEND;TZID=America/New_York:20251212T083000
DTSTAMP:20260425T073703
CREATED:20250219T015857Z
LAST-MODIFIED:20250219T015857Z
UID:10002109-1765526400-1765528200@stpaulsstockbridge.org
SUMMARY:Morning Prayer
DESCRIPTION:
URL:https://stpaulsstockbridge.org/event/morning-prayer-4/2025-12-12/
LOCATION:St. Paul’s Episcopal Church\, 29 Main Street\, Stockbridge\, MA\, 01262\, United States
CATEGORIES:Prayer
ORGANIZER;CN="St. Paul's Episcopal Church":MAILTO:stpaulsstockbridge@gmail.com
END:VEVENT
BEGIN:VEVENT
DTSTART;TZID=America/New_York:20251211T170000
DTEND;TZID=America/New_York:20251211T173000
DTSTAMP:20260425T073703
CREATED:20250219T020057Z
LAST-MODIFIED:20250219T020057Z
UID:10002632-1765472400-1765474200@stpaulsstockbridge.org
SUMMARY:Evening Prayer
DESCRIPTION:
URL:https://stpaulsstockbridge.org/event/evening-prayer-3/2025-12-11/
LOCATION:MA
CATEGORIES:Prayer
ORGANIZER;CN="St. Paul's Episcopal Church":MAILTO:stpaulsstockbridge@gmail.com
END:VEVENT
BEGIN:VEVENT
DTSTART;TZID=America/New_York:20251211T080000
DTEND;TZID=America/New_York:20251211T083000
DTSTAMP:20260425T073703
CREATED:20250218T211705Z
LAST-MODIFIED:20250219T020339Z
UID:10003153-1765440000-1765441800@stpaulsstockbridge.org
SUMMARY:Morning Prayer
DESCRIPTION:
URL:https://stpaulsstockbridge.org/event/morning-prayer-3/2025-12-11/
LOCATION:St. Paul’s Episcopal Church\, 29 Main Street\, Stockbridge\, MA\, 01262\, United States
CATEGORIES:Prayer
ORGANIZER;CN="St. Paul's Episcopal Church":MAILTO:stpaulsstockbridge@gmail.com
END:VEVENT
BEGIN:VEVENT
DTSTART;TZID=America/New_York:20251210T080000
DTEND;TZID=America/New_York:20251210T083000
DTSTAMP:20260425T073703
CREATED:20250218T211611Z
LAST-MODIFIED:20250218T211626Z
UID:10001846-1765353600-1765355400@stpaulsstockbridge.org
SUMMARY:Morning Prayer
DESCRIPTION:
URL:https://stpaulsstockbridge.org/event/morning-prayer-2/2025-12-10/
LOCATION:St. Paul’s Episcopal Church\, 29 Main Street\, Stockbridge\, MA\, 01262\, United States
CATEGORIES:Prayer
ORGANIZER;CN="St. Paul's Episcopal Church":MAILTO:stpaulsstockbridge@gmail.com
END:VEVENT
BEGIN:VEVENT
DTSTART;TZID=America/New_York:20251209T170000
DTEND;TZID=America/New_York:20251209T173000
DTSTAMP:20260425T073703
CREATED:20250219T015939Z
LAST-MODIFIED:20250219T015939Z
UID:10002370-1765299600-1765301400@stpaulsstockbridge.org
SUMMARY:Evening Prayer
DESCRIPTION:
URL:https://stpaulsstockbridge.org/event/evening-prayer/2025-12-09/
LOCATION:MA
CATEGORIES:Prayer
ORGANIZER;CN="St. Paul's Episcopal Church":MAILTO:stpaulsstockbridge@gmail.com
END:VEVENT
BEGIN:VEVENT
DTSTART;TZID=America/New_York:20251209T080000
DTEND;TZID=America/New_York:20251209T083000
DTSTAMP:20260425T073703
CREATED:20250218T211535Z
LAST-MODIFIED:20250218T211535Z
UID:10001585-1765267200-1765269000@stpaulsstockbridge.org
SUMMARY:Morning Prayer
DESCRIPTION:
URL:https://stpaulsstockbridge.org/event/morning-prayer/2025-12-09/
LOCATION:St. Paul’s Episcopal Church\, 29 Main Street\, Stockbridge\, MA\, 01262\, United States
CATEGORIES:Prayer
ORGANIZER;CN="St. Paul's Episcopal Church":MAILTO:stpaulsstockbridge@gmail.com
END:VEVENT
BEGIN:VEVENT
DTSTART;TZID=America/New_York:20251205T170000
DTEND;TZID=America/New_York:20251205T173000
DTSTAMP:20260425T073703
CREATED:20250219T020137Z
LAST-MODIFIED:20250219T020137Z
UID:10002892-1764954000-1764955800@stpaulsstockbridge.org
SUMMARY:Evening Prayer
DESCRIPTION:
URL:https://stpaulsstockbridge.org/event/evening-prayer-4/2025-12-05/
LOCATION:St. Paul’s Episcopal Church\, 29 Main Street\, Stockbridge\, MA\, 01262\, United States
CATEGORIES:Prayer
ORGANIZER;CN="St. Paul's Episcopal Church":MAILTO:stpaulsstockbridge@gmail.com
END:VEVENT
END:VCALENDAR