BEGIN:VCALENDAR
VERSION:2.0
PRODID:-//St Paul&#039;s Episcopal Church in Stockbridge - ECPv6.15.20//NONSGML v1.0//EN
CALSCALE:GREGORIAN
METHOD:PUBLISH
X-WR-CALNAME:St Paul&#039;s Episcopal Church in Stockbridge
X-ORIGINAL-URL:https://stpaulsstockbridge.org
X-WR-CALDESC:Events for St Paul&#039;s Episcopal Church in Stockbridge
REFRESH-INTERVAL;VALUE=DURATION:PT1H
X-Robots-Tag:noindex
X-PUBLISHED-TTL:PT1H
BEGIN:VTIMEZONE
TZID:America/New_York
BEGIN:DAYLIGHT
TZOFFSETFROM:-0500
TZOFFSETTO:-0400
TZNAME:EDT
DTSTART:20250309T070000
END:DAYLIGHT
BEGIN:STANDARD
TZOFFSETFROM:-0400
TZOFFSETTO:-0500
TZNAME:EST
DTSTART:20251102T060000
END:STANDARD
BEGIN:DAYLIGHT
TZOFFSETFROM:-0500
TZOFFSETTO:-0400
TZNAME:EDT
DTSTART:20260308T070000
END:DAYLIGHT
BEGIN:STANDARD
TZOFFSETFROM:-0400
TZOFFSETTO:-0500
TZNAME:EST
DTSTART:20261101T060000
END:STANDARD
BEGIN:DAYLIGHT
TZOFFSETFROM:-0500
TZOFFSETTO:-0400
TZNAME:EDT
DTSTART:20270314T070000
END:DAYLIGHT
BEGIN:STANDARD
TZOFFSETFROM:-0400
TZOFFSETTO:-0500
TZNAME:EST
DTSTART:20271107T060000
END:STANDARD
END:VTIMEZONE
BEGIN:VEVENT
DTSTART;TZID=America/New_York:20261120T083000
DTEND;TZID=America/New_York:20261120T090000
DTSTAMP:20260425T184536
CREATED:20240228T150038Z
LAST-MODIFIED:20240228T150038Z
UID:10001170-1795163400-1795165200@stpaulsstockbridge.org
SUMMARY:Intercessory Prayer in the Church
DESCRIPTION:Please join us to pray for those on our parish prayer list and others.
URL:https://stpaulsstockbridge.org/event/intercessory-prayer-in-the-church/2026-11-20/
LOCATION:St. Paul’s Episcopal Church\, 29 Main Street\, Stockbridge\, MA\, 01262\, United States
CATEGORIES:Prayer
ORGANIZER;CN="St. Paul's Episcopal Church":MAILTO:stpaulsstockbridge@gmail.com
END:VEVENT
BEGIN:VEVENT
DTSTART;TZID=America/New_York:20261120T170000
DTEND;TZID=America/New_York:20261120T173000
DTSTAMP:20260425T184536
CREATED:20250219T020137Z
LAST-MODIFIED:20250219T020137Z
UID:10002942-1795194000-1795195800@stpaulsstockbridge.org
SUMMARY:Evening Prayer
DESCRIPTION:
URL:https://stpaulsstockbridge.org/event/evening-prayer-4/2026-11-20/
LOCATION:St. Paul’s Episcopal Church\, 29 Main Street\, Stockbridge\, MA\, 01262\, United States
CATEGORIES:Prayer
ORGANIZER;CN="St. Paul's Episcopal Church":MAILTO:stpaulsstockbridge@gmail.com
END:VEVENT
BEGIN:VEVENT
DTSTART;TZID=America/New_York:20261124T080000
DTEND;TZID=America/New_York:20261124T083000
DTSTAMP:20260425T184536
CREATED:20250218T211535Z
LAST-MODIFIED:20250218T211535Z
UID:10001635-1795507200-1795509000@stpaulsstockbridge.org
SUMMARY:Morning Prayer
DESCRIPTION:
URL:https://stpaulsstockbridge.org/event/morning-prayer/2026-11-24/
LOCATION:St. Paul’s Episcopal Church\, 29 Main Street\, Stockbridge\, MA\, 01262\, United States
CATEGORIES:Prayer
ORGANIZER;CN="St. Paul's Episcopal Church":MAILTO:stpaulsstockbridge@gmail.com
END:VEVENT
BEGIN:VEVENT
DTSTART;TZID=America/New_York:20261124T170000
DTEND;TZID=America/New_York:20261124T173000
DTSTAMP:20260425T184536
CREATED:20250219T015939Z
LAST-MODIFIED:20250219T015939Z
UID:10002420-1795539600-1795541400@stpaulsstockbridge.org
SUMMARY:Evening Prayer
DESCRIPTION:
URL:https://stpaulsstockbridge.org/event/evening-prayer/2026-11-24/
LOCATION:MA
CATEGORIES:Prayer
ORGANIZER;CN="St. Paul's Episcopal Church":MAILTO:stpaulsstockbridge@gmail.com
END:VEVENT
BEGIN:VEVENT
DTSTART;TZID=America/New_York:20261125T080000
DTEND;TZID=America/New_York:20261125T083000
DTSTAMP:20260425T184536
CREATED:20250218T211611Z
LAST-MODIFIED:20250218T211626Z
UID:10001896-1795593600-1795595400@stpaulsstockbridge.org
SUMMARY:Morning Prayer
DESCRIPTION:
URL:https://stpaulsstockbridge.org/event/morning-prayer-2/2026-11-25/
LOCATION:St. Paul’s Episcopal Church\, 29 Main Street\, Stockbridge\, MA\, 01262\, United States
CATEGORIES:Prayer
ORGANIZER;CN="St. Paul's Episcopal Church":MAILTO:stpaulsstockbridge@gmail.com
END:VEVENT
BEGIN:VEVENT
DTSTART;TZID=America/New_York:20261125T180000
DTEND;TZID=America/New_York:20261125T193000
DTSTAMP:20260425T184536
CREATED:20260305T002042Z
LAST-MODIFIED:20260305T004733Z
UID:10003453-1795629600-1795635000@stpaulsstockbridge.org
SUMMARY:Lenten Supper in the Rectory
DESCRIPTION:
URL:https://stpaulsstockbridge.org/event/lenten-supper-in-the-rectory/2026-11-25/
LOCATION:St. Paul’s Rectory\, 29 Main Street\, Stockbridge\, United States
CATEGORIES:Community,Food
ORGANIZER;CN="St. Paul's Episcopal Church":MAILTO:stpaulsstockbridge@gmail.com
END:VEVENT
BEGIN:VEVENT
DTSTART;TZID=America/New_York:20261126T080000
DTEND;TZID=America/New_York:20261126T083000
DTSTAMP:20260425T184536
CREATED:20250218T211705Z
LAST-MODIFIED:20250219T020339Z
UID:10003203-1795680000-1795681800@stpaulsstockbridge.org
SUMMARY:Morning Prayer
DESCRIPTION:
URL:https://stpaulsstockbridge.org/event/morning-prayer-3/2026-11-26/
LOCATION:St. Paul’s Episcopal Church\, 29 Main Street\, Stockbridge\, MA\, 01262\, United States
CATEGORIES:Prayer
ORGANIZER;CN="St. Paul's Episcopal Church":MAILTO:stpaulsstockbridge@gmail.com
END:VEVENT
BEGIN:VEVENT
DTSTART;TZID=America/New_York:20261126T170000
DTEND;TZID=America/New_York:20261126T173000
DTSTAMP:20260425T184536
CREATED:20250219T020057Z
LAST-MODIFIED:20250219T020057Z
UID:10002682-1795712400-1795714200@stpaulsstockbridge.org
SUMMARY:Evening Prayer
DESCRIPTION:
URL:https://stpaulsstockbridge.org/event/evening-prayer-3/2026-11-26/
LOCATION:MA
CATEGORIES:Prayer
ORGANIZER;CN="St. Paul's Episcopal Church":MAILTO:stpaulsstockbridge@gmail.com
END:VEVENT
BEGIN:VEVENT
DTSTART;TZID=America/New_York:20261127T080000
DTEND;TZID=America/New_York:20261127T083000
DTSTAMP:20260425T184536
CREATED:20250219T015857Z
LAST-MODIFIED:20250219T015857Z
UID:10002159-1795766400-1795768200@stpaulsstockbridge.org
SUMMARY:Morning Prayer
DESCRIPTION:
URL:https://stpaulsstockbridge.org/event/morning-prayer-4/2026-11-27/
LOCATION:St. Paul’s Episcopal Church\, 29 Main Street\, Stockbridge\, MA\, 01262\, United States
CATEGORIES:Prayer
ORGANIZER;CN="St. Paul's Episcopal Church":MAILTO:stpaulsstockbridge@gmail.com
END:VEVENT
BEGIN:VEVENT
DTSTART;TZID=America/New_York:20261127T083000
DTEND;TZID=America/New_York:20261127T090000
DTSTAMP:20260425T184536
CREATED:20240228T150038Z
LAST-MODIFIED:20240228T150038Z
UID:10001171-1795768200-1795770000@stpaulsstockbridge.org
SUMMARY:Intercessory Prayer in the Church
DESCRIPTION:Please join us to pray for those on our parish prayer list and others.
URL:https://stpaulsstockbridge.org/event/intercessory-prayer-in-the-church/2026-11-27/
LOCATION:St. Paul’s Episcopal Church\, 29 Main Street\, Stockbridge\, MA\, 01262\, United States
CATEGORIES:Prayer
ORGANIZER;CN="St. Paul's Episcopal Church":MAILTO:stpaulsstockbridge@gmail.com
END:VEVENT
BEGIN:VEVENT
DTSTART;TZID=America/New_York:20261127T170000
DTEND;TZID=America/New_York:20261127T173000
DTSTAMP:20260425T184536
CREATED:20250219T020137Z
LAST-MODIFIED:20250219T020137Z
UID:10002943-1795798800-1795800600@stpaulsstockbridge.org
SUMMARY:Evening Prayer
DESCRIPTION:
URL:https://stpaulsstockbridge.org/event/evening-prayer-4/2026-11-27/
LOCATION:St. Paul’s Episcopal Church\, 29 Main Street\, Stockbridge\, MA\, 01262\, United States
CATEGORIES:Prayer
ORGANIZER;CN="St. Paul's Episcopal Church":MAILTO:stpaulsstockbridge@gmail.com
END:VEVENT
BEGIN:VEVENT
DTSTART;TZID=America/New_York:20261201T080000
DTEND;TZID=America/New_York:20261201T083000
DTSTAMP:20260425T184536
CREATED:20250218T211535Z
LAST-MODIFIED:20250218T211535Z
UID:10001636-1796112000-1796113800@stpaulsstockbridge.org
SUMMARY:Morning Prayer
DESCRIPTION:
URL:https://stpaulsstockbridge.org/event/morning-prayer/2026-12-01/
LOCATION:St. Paul’s Episcopal Church\, 29 Main Street\, Stockbridge\, MA\, 01262\, United States
CATEGORIES:Prayer
ORGANIZER;CN="St. Paul's Episcopal Church":MAILTO:stpaulsstockbridge@gmail.com
END:VEVENT
BEGIN:VEVENT
DTSTART;TZID=America/New_York:20261201T170000
DTEND;TZID=America/New_York:20261201T173000
DTSTAMP:20260425T184536
CREATED:20250219T015939Z
LAST-MODIFIED:20250219T015939Z
UID:10002421-1796144400-1796146200@stpaulsstockbridge.org
SUMMARY:Evening Prayer
DESCRIPTION:
URL:https://stpaulsstockbridge.org/event/evening-prayer/2026-12-01/
LOCATION:MA
CATEGORIES:Prayer
ORGANIZER;CN="St. Paul's Episcopal Church":MAILTO:stpaulsstockbridge@gmail.com
END:VEVENT
BEGIN:VEVENT
DTSTART;TZID=America/New_York:20261202T080000
DTEND;TZID=America/New_York:20261202T083000
DTSTAMP:20260425T184536
CREATED:20250218T211611Z
LAST-MODIFIED:20250218T211626Z
UID:10001897-1796198400-1796200200@stpaulsstockbridge.org
SUMMARY:Morning Prayer
DESCRIPTION:
URL:https://stpaulsstockbridge.org/event/morning-prayer-2/2026-12-02/
LOCATION:St. Paul’s Episcopal Church\, 29 Main Street\, Stockbridge\, MA\, 01262\, United States
CATEGORIES:Prayer
ORGANIZER;CN="St. Paul's Episcopal Church":MAILTO:stpaulsstockbridge@gmail.com
END:VEVENT
BEGIN:VEVENT
DTSTART;TZID=America/New_York:20261202T180000
DTEND;TZID=America/New_York:20261202T193000
DTSTAMP:20260425T184536
CREATED:20260305T002042Z
LAST-MODIFIED:20260305T004733Z
UID:10003454-1796234400-1796239800@stpaulsstockbridge.org
SUMMARY:Lenten Supper in the Rectory
DESCRIPTION:
URL:https://stpaulsstockbridge.org/event/lenten-supper-in-the-rectory/2026-12-02/
LOCATION:St. Paul’s Rectory\, 29 Main Street\, Stockbridge\, United States
CATEGORIES:Community,Food
ORGANIZER;CN="St. Paul's Episcopal Church":MAILTO:stpaulsstockbridge@gmail.com
END:VEVENT
BEGIN:VEVENT
DTSTART;TZID=America/New_York:20261203T080000
DTEND;TZID=America/New_York:20261203T083000
DTSTAMP:20260425T184536
CREATED:20250218T211705Z
LAST-MODIFIED:20250219T020339Z
UID:10003204-1796284800-1796286600@stpaulsstockbridge.org
SUMMARY:Morning Prayer
DESCRIPTION:
URL:https://stpaulsstockbridge.org/event/morning-prayer-3/2026-12-03/
LOCATION:St. Paul’s Episcopal Church\, 29 Main Street\, Stockbridge\, MA\, 01262\, United States
CATEGORIES:Prayer
ORGANIZER;CN="St. Paul's Episcopal Church":MAILTO:stpaulsstockbridge@gmail.com
END:VEVENT
BEGIN:VEVENT
DTSTART;TZID=America/New_York:20261203T170000
DTEND;TZID=America/New_York:20261203T173000
DTSTAMP:20260425T184536
CREATED:20250219T020057Z
LAST-MODIFIED:20250219T020057Z
UID:10002683-1796317200-1796319000@stpaulsstockbridge.org
SUMMARY:Evening Prayer
DESCRIPTION:
URL:https://stpaulsstockbridge.org/event/evening-prayer-3/2026-12-03/
LOCATION:MA
CATEGORIES:Prayer
ORGANIZER;CN="St. Paul's Episcopal Church":MAILTO:stpaulsstockbridge@gmail.com
END:VEVENT
BEGIN:VEVENT
DTSTART;TZID=America/New_York:20261204T080000
DTEND;TZID=America/New_York:20261204T083000
DTSTAMP:20260425T184536
CREATED:20250219T015857Z
LAST-MODIFIED:20250219T015857Z
UID:10002160-1796371200-1796373000@stpaulsstockbridge.org
SUMMARY:Morning Prayer
DESCRIPTION:
URL:https://stpaulsstockbridge.org/event/morning-prayer-4/2026-12-04/
LOCATION:St. Paul’s Episcopal Church\, 29 Main Street\, Stockbridge\, MA\, 01262\, United States
CATEGORIES:Prayer
ORGANIZER;CN="St. Paul's Episcopal Church":MAILTO:stpaulsstockbridge@gmail.com
END:VEVENT
BEGIN:VEVENT
DTSTART;TZID=America/New_York:20261204T083000
DTEND;TZID=America/New_York:20261204T090000
DTSTAMP:20260425T184536
CREATED:20240228T150038Z
LAST-MODIFIED:20240228T150038Z
UID:10001172-1796373000-1796374800@stpaulsstockbridge.org
SUMMARY:Intercessory Prayer in the Church
DESCRIPTION:Please join us to pray for those on our parish prayer list and others.
URL:https://stpaulsstockbridge.org/event/intercessory-prayer-in-the-church/2026-12-04/
LOCATION:St. Paul’s Episcopal Church\, 29 Main Street\, Stockbridge\, MA\, 01262\, United States
CATEGORIES:Prayer
ORGANIZER;CN="St. Paul's Episcopal Church":MAILTO:stpaulsstockbridge@gmail.com
END:VEVENT
BEGIN:VEVENT
DTSTART;TZID=America/New_York:20261204T170000
DTEND;TZID=America/New_York:20261204T173000
DTSTAMP:20260425T184536
CREATED:20250219T020137Z
LAST-MODIFIED:20250219T020137Z
UID:10002944-1796403600-1796405400@stpaulsstockbridge.org
SUMMARY:Evening Prayer
DESCRIPTION:
URL:https://stpaulsstockbridge.org/event/evening-prayer-4/2026-12-04/
LOCATION:St. Paul’s Episcopal Church\, 29 Main Street\, Stockbridge\, MA\, 01262\, United States
CATEGORIES:Prayer
ORGANIZER;CN="St. Paul's Episcopal Church":MAILTO:stpaulsstockbridge@gmail.com
END:VEVENT
BEGIN:VEVENT
DTSTART;TZID=America/New_York:20261208T080000
DTEND;TZID=America/New_York:20261208T083000
DTSTAMP:20260425T184536
CREATED:20250218T211535Z
LAST-MODIFIED:20250218T211535Z
UID:10001637-1796716800-1796718600@stpaulsstockbridge.org
SUMMARY:Morning Prayer
DESCRIPTION:
URL:https://stpaulsstockbridge.org/event/morning-prayer/2026-12-08/
LOCATION:St. Paul’s Episcopal Church\, 29 Main Street\, Stockbridge\, MA\, 01262\, United States
CATEGORIES:Prayer
ORGANIZER;CN="St. Paul's Episcopal Church":MAILTO:stpaulsstockbridge@gmail.com
END:VEVENT
BEGIN:VEVENT
DTSTART;TZID=America/New_York:20261208T170000
DTEND;TZID=America/New_York:20261208T173000
DTSTAMP:20260425T184536
CREATED:20250219T015939Z
LAST-MODIFIED:20250219T015939Z
UID:10002422-1796749200-1796751000@stpaulsstockbridge.org
SUMMARY:Evening Prayer
DESCRIPTION:
URL:https://stpaulsstockbridge.org/event/evening-prayer/2026-12-08/
LOCATION:MA
CATEGORIES:Prayer
ORGANIZER;CN="St. Paul's Episcopal Church":MAILTO:stpaulsstockbridge@gmail.com
END:VEVENT
BEGIN:VEVENT
DTSTART;TZID=America/New_York:20261209T080000
DTEND;TZID=America/New_York:20261209T083000
DTSTAMP:20260425T184536
CREATED:20250218T211611Z
LAST-MODIFIED:20250218T211626Z
UID:10001898-1796803200-1796805000@stpaulsstockbridge.org
SUMMARY:Morning Prayer
DESCRIPTION:
URL:https://stpaulsstockbridge.org/event/morning-prayer-2/2026-12-09/
LOCATION:St. Paul’s Episcopal Church\, 29 Main Street\, Stockbridge\, MA\, 01262\, United States
CATEGORIES:Prayer
ORGANIZER;CN="St. Paul's Episcopal Church":MAILTO:stpaulsstockbridge@gmail.com
END:VEVENT
BEGIN:VEVENT
DTSTART;TZID=America/New_York:20261209T180000
DTEND;TZID=America/New_York:20261209T193000
DTSTAMP:20260425T184536
CREATED:20260305T002042Z
LAST-MODIFIED:20260305T004733Z
UID:10003455-1796839200-1796844600@stpaulsstockbridge.org
SUMMARY:Lenten Supper in the Rectory
DESCRIPTION:
URL:https://stpaulsstockbridge.org/event/lenten-supper-in-the-rectory/2026-12-09/
LOCATION:St. Paul’s Rectory\, 29 Main Street\, Stockbridge\, United States
CATEGORIES:Community,Food
ORGANIZER;CN="St. Paul's Episcopal Church":MAILTO:stpaulsstockbridge@gmail.com
END:VEVENT
BEGIN:VEVENT
DTSTART;TZID=America/New_York:20261210T080000
DTEND;TZID=America/New_York:20261210T083000
DTSTAMP:20260425T184536
CREATED:20250218T211705Z
LAST-MODIFIED:20250219T020339Z
UID:10003205-1796889600-1796891400@stpaulsstockbridge.org
SUMMARY:Morning Prayer
DESCRIPTION:
URL:https://stpaulsstockbridge.org/event/morning-prayer-3/2026-12-10/
LOCATION:St. Paul’s Episcopal Church\, 29 Main Street\, Stockbridge\, MA\, 01262\, United States
CATEGORIES:Prayer
ORGANIZER;CN="St. Paul's Episcopal Church":MAILTO:stpaulsstockbridge@gmail.com
END:VEVENT
BEGIN:VEVENT
DTSTART;TZID=America/New_York:20261210T170000
DTEND;TZID=America/New_York:20261210T173000
DTSTAMP:20260425T184536
CREATED:20250219T020057Z
LAST-MODIFIED:20250219T020057Z
UID:10002684-1796922000-1796923800@stpaulsstockbridge.org
SUMMARY:Evening Prayer
DESCRIPTION:
URL:https://stpaulsstockbridge.org/event/evening-prayer-3/2026-12-10/
LOCATION:MA
CATEGORIES:Prayer
ORGANIZER;CN="St. Paul's Episcopal Church":MAILTO:stpaulsstockbridge@gmail.com
END:VEVENT
BEGIN:VEVENT
DTSTART;TZID=America/New_York:20261211T080000
DTEND;TZID=America/New_York:20261211T083000
DTSTAMP:20260425T184536
CREATED:20250219T015857Z
LAST-MODIFIED:20250219T015857Z
UID:10002161-1796976000-1796977800@stpaulsstockbridge.org
SUMMARY:Morning Prayer
DESCRIPTION:
URL:https://stpaulsstockbridge.org/event/morning-prayer-4/2026-12-11/
LOCATION:St. Paul’s Episcopal Church\, 29 Main Street\, Stockbridge\, MA\, 01262\, United States
CATEGORIES:Prayer
ORGANIZER;CN="St. Paul's Episcopal Church":MAILTO:stpaulsstockbridge@gmail.com
END:VEVENT
BEGIN:VEVENT
DTSTART;TZID=America/New_York:20261211T083000
DTEND;TZID=America/New_York:20261211T090000
DTSTAMP:20260425T184536
CREATED:20240228T150038Z
LAST-MODIFIED:20240228T150038Z
UID:10001173-1796977800-1796979600@stpaulsstockbridge.org
SUMMARY:Intercessory Prayer in the Church
DESCRIPTION:Please join us to pray for those on our parish prayer list and others.
URL:https://stpaulsstockbridge.org/event/intercessory-prayer-in-the-church/2026-12-11/
LOCATION:St. Paul’s Episcopal Church\, 29 Main Street\, Stockbridge\, MA\, 01262\, United States
CATEGORIES:Prayer
ORGANIZER;CN="St. Paul's Episcopal Church":MAILTO:stpaulsstockbridge@gmail.com
END:VEVENT
BEGIN:VEVENT
DTSTART;TZID=America/New_York:20261211T170000
DTEND;TZID=America/New_York:20261211T173000
DTSTAMP:20260425T184536
CREATED:20250219T020137Z
LAST-MODIFIED:20250219T020137Z
UID:10002945-1797008400-1797010200@stpaulsstockbridge.org
SUMMARY:Evening Prayer
DESCRIPTION:
URL:https://stpaulsstockbridge.org/event/evening-prayer-4/2026-12-11/
LOCATION:St. Paul’s Episcopal Church\, 29 Main Street\, Stockbridge\, MA\, 01262\, United States
CATEGORIES:Prayer
ORGANIZER;CN="St. Paul's Episcopal Church":MAILTO:stpaulsstockbridge@gmail.com
END:VEVENT
BEGIN:VEVENT
DTSTART;TZID=America/New_York:20261212T093000
DTEND;TZID=America/New_York:20261212T120000
DTSTAMP:20260425T184536
CREATED:20240228T150508Z
LAST-MODIFIED:20240228T152442Z
UID:10001341-1797067800-1797076800@stpaulsstockbridge.org
SUMMARY:St. Pauls' team serves at the Lee Food Pantry
DESCRIPTION:Located at 45 Railroad Street in Lee.
URL:https://stpaulsstockbridge.org/event/st-pauls-team-serves-at-the-lee-food-pantry-3/2026-12-12/
LOCATION:MA
CATEGORIES:Outreach
ORGANIZER;CN="St. Paul's Episcopal Church":MAILTO:stpaulsstockbridge@gmail.com
END:VEVENT
END:VCALENDAR