BEGIN:VCALENDAR
VERSION:2.0
PRODID:-//St Paul&#039;s Episcopal Church in Stockbridge - ECPv6.15.20//NONSGML v1.0//EN
CALSCALE:GREGORIAN
METHOD:PUBLISH
X-WR-CALNAME:St Paul&#039;s Episcopal Church in Stockbridge
X-ORIGINAL-URL:https://stpaulsstockbridge.org
X-WR-CALDESC:Events for St Paul&#039;s Episcopal Church in Stockbridge
REFRESH-INTERVAL;VALUE=DURATION:PT1H
X-Robots-Tag:noindex
X-PUBLISHED-TTL:PT1H
BEGIN:VTIMEZONE
TZID:America/New_York
BEGIN:DAYLIGHT
TZOFFSETFROM:-0500
TZOFFSETTO:-0400
TZNAME:EDT
DTSTART:20240310T070000
END:DAYLIGHT
BEGIN:STANDARD
TZOFFSETFROM:-0400
TZOFFSETTO:-0500
TZNAME:EST
DTSTART:20241103T060000
END:STANDARD
BEGIN:DAYLIGHT
TZOFFSETFROM:-0500
TZOFFSETTO:-0400
TZNAME:EDT
DTSTART:20250309T070000
END:DAYLIGHT
BEGIN:STANDARD
TZOFFSETFROM:-0400
TZOFFSETTO:-0500
TZNAME:EST
DTSTART:20251102T060000
END:STANDARD
BEGIN:DAYLIGHT
TZOFFSETFROM:-0500
TZOFFSETTO:-0400
TZNAME:EDT
DTSTART:20260308T070000
END:DAYLIGHT
BEGIN:STANDARD
TZOFFSETFROM:-0400
TZOFFSETTO:-0500
TZNAME:EST
DTSTART:20261101T060000
END:STANDARD
END:VTIMEZONE
BEGIN:VEVENT
DTSTART;TZID=America/New_York:20250319T180000
DTEND;TZID=America/New_York:20250319T190000
DTSTAMP:20260424T163650
CREATED:20250304T153404Z
LAST-MODIFIED:20250304T153404Z
UID:10003375-1742407200-1742410800@stpaulsstockbridge.org
SUMMARY:Lenten Formation Series: "In The Garden"
DESCRIPTION:March 12: Life Began in a Garden (Creation) \nMarch 19: Trees by Streams of Water (Life in Christ) \nMarch 26: Laborers in the Vineyard (The Kingdom of God) \nApril 2: The Garden of Gethsemane (Suffering and Death) \nApril 9: An Empty Tomb in a Garden (New Creation) \n  \nAll sessions will be at 6:00 p.m. in the Rectory. A simple supper of soup and bread will be served.
URL:https://stpaulsstockbridge.org/event/lenten-formation-series-in-the-garden/2025-03-19/
LOCATION:St. Paul’s Rectory\, 29 Main Street\, Stockbridge\, United States
ORGANIZER;CN="St. Paul's Episcopal Church":MAILTO:stpaulsstockbridge@gmail.com
END:VEVENT
BEGIN:VEVENT
DTSTART;TZID=America/New_York:20250312T180000
DTEND;TZID=America/New_York:20250312T190000
DTSTAMP:20260424T163650
CREATED:20250304T153404Z
LAST-MODIFIED:20250304T153404Z
UID:10003374-1741802400-1741806000@stpaulsstockbridge.org
SUMMARY:Lenten Formation Series: "In The Garden"
DESCRIPTION:March 12: Life Began in a Garden (Creation) \nMarch 19: Trees by Streams of Water (Life in Christ) \nMarch 26: Laborers in the Vineyard (The Kingdom of God) \nApril 2: The Garden of Gethsemane (Suffering and Death) \nApril 9: An Empty Tomb in a Garden (New Creation) \n  \nAll sessions will be at 6:00 p.m. in the Rectory. A simple supper of soup and bread will be served.
URL:https://stpaulsstockbridge.org/event/lenten-formation-series-in-the-garden/2025-03-12/
LOCATION:St. Paul’s Rectory\, 29 Main Street\, Stockbridge\, United States
ORGANIZER;CN="St. Paul's Episcopal Church":MAILTO:stpaulsstockbridge@gmail.com
END:VEVENT
END:VCALENDAR