BEGIN:VCALENDAR
VERSION:2.0
PRODID:-//St Paul&#039;s Episcopal Church in Stockbridge - ECPv6.15.20//NONSGML v1.0//EN
CALSCALE:GREGORIAN
METHOD:PUBLISH
X-WR-CALNAME:St Paul&#039;s Episcopal Church in Stockbridge
X-ORIGINAL-URL:https://stpaulsstockbridge.org
X-WR-CALDESC:Events for St Paul&#039;s Episcopal Church in Stockbridge
REFRESH-INTERVAL;VALUE=DURATION:PT1H
X-Robots-Tag:noindex
X-PUBLISHED-TTL:PT1H
BEGIN:VTIMEZONE
TZID:America/New_York
BEGIN:DAYLIGHT
TZOFFSETFROM:-0500
TZOFFSETTO:-0400
TZNAME:EDT
DTSTART:20240310T070000
END:DAYLIGHT
BEGIN:STANDARD
TZOFFSETFROM:-0400
TZOFFSETTO:-0500
TZNAME:EST
DTSTART:20241103T060000
END:STANDARD
BEGIN:DAYLIGHT
TZOFFSETFROM:-0500
TZOFFSETTO:-0400
TZNAME:EDT
DTSTART:20250309T070000
END:DAYLIGHT
BEGIN:STANDARD
TZOFFSETFROM:-0400
TZOFFSETTO:-0500
TZNAME:EST
DTSTART:20251102T060000
END:STANDARD
BEGIN:DAYLIGHT
TZOFFSETFROM:-0500
TZOFFSETTO:-0400
TZNAME:EDT
DTSTART:20260308T070000
END:DAYLIGHT
BEGIN:STANDARD
TZOFFSETFROM:-0400
TZOFFSETTO:-0500
TZNAME:EST
DTSTART:20261101T060000
END:STANDARD
END:VTIMEZONE
BEGIN:VEVENT
DTSTART;TZID=America/New_York:20250604T083000
DTEND;TZID=America/New_York:20250604T093000
DTSTAMP:20260424T150541
CREATED:20230617T130236Z
LAST-MODIFIED:20240626T134733Z
UID:10001471-1749025800-1749029400@stpaulsstockbridge.org
SUMMARY:Wednesday Morning Prayer (online)
DESCRIPTION:Wednesdays at 8:30 a.m. \nLay Worship Leader–Darryl Lafferty \nA simple service of Morning Prayers with the St. Paul’s Community.\nJoin us online\nMeeting ID: 86581638808 Passcode: 173902\nor call +1 646 558 8656  Meeting ID: 923 2506 4055
URL:https://stpaulsstockbridge.org/event/wednesday-morning-prayer-online/2025-06-04/
LOCATION:Zoom
CATEGORIES:Online Prayer,Prayer
ATTACH;FMTTYPE=image/jpeg:https://stpaulsstockbridge.org/wp-content/uploads/2023/06/CoffeeMeme.jpg
ORGANIZER;CN="St. Paul's Episcopal Church":MAILTO:stpaulsstockbridge@gmail.com
END:VEVENT
BEGIN:VEVENT
DTSTART;TZID=America/New_York:20250528T083000
DTEND;TZID=America/New_York:20250528T093000
DTSTAMP:20260424T150541
CREATED:20230617T130236Z
LAST-MODIFIED:20240626T134733Z
UID:10001470-1748421000-1748424600@stpaulsstockbridge.org
SUMMARY:Wednesday Morning Prayer (online)
DESCRIPTION:Wednesdays at 8:30 a.m. \nLay Worship Leader–Darryl Lafferty \nA simple service of Morning Prayers with the St. Paul’s Community.\nJoin us online\nMeeting ID: 86581638808 Passcode: 173902\nor call +1 646 558 8656  Meeting ID: 923 2506 4055
URL:https://stpaulsstockbridge.org/event/wednesday-morning-prayer-online/2025-05-28/
LOCATION:Zoom
CATEGORIES:Online Prayer,Prayer
ATTACH;FMTTYPE=image/jpeg:https://stpaulsstockbridge.org/wp-content/uploads/2023/06/CoffeeMeme.jpg
ORGANIZER;CN="St. Paul's Episcopal Church":MAILTO:stpaulsstockbridge@gmail.com
END:VEVENT
BEGIN:VEVENT
DTSTART;TZID=America/New_York:20250521T083000
DTEND;TZID=America/New_York:20250521T093000
DTSTAMP:20260424T150541
CREATED:20230617T130236Z
LAST-MODIFIED:20240626T134733Z
UID:10001469-1747816200-1747819800@stpaulsstockbridge.org
SUMMARY:Wednesday Morning Prayer (online)
DESCRIPTION:Wednesdays at 8:30 a.m. \nLay Worship Leader–Darryl Lafferty \nA simple service of Morning Prayers with the St. Paul’s Community.\nJoin us online\nMeeting ID: 86581638808 Passcode: 173902\nor call +1 646 558 8656  Meeting ID: 923 2506 4055
URL:https://stpaulsstockbridge.org/event/wednesday-morning-prayer-online/2025-05-21/
LOCATION:Zoom
CATEGORIES:Online Prayer,Prayer
ATTACH;FMTTYPE=image/jpeg:https://stpaulsstockbridge.org/wp-content/uploads/2023/06/CoffeeMeme.jpg
ORGANIZER;CN="St. Paul's Episcopal Church":MAILTO:stpaulsstockbridge@gmail.com
END:VEVENT
BEGIN:VEVENT
DTSTART;TZID=America/New_York:20250514T083000
DTEND;TZID=America/New_York:20250514T093000
DTSTAMP:20260424T150541
CREATED:20230617T130236Z
LAST-MODIFIED:20240626T134733Z
UID:10001468-1747211400-1747215000@stpaulsstockbridge.org
SUMMARY:Wednesday Morning Prayer (online)
DESCRIPTION:Wednesdays at 8:30 a.m. \nLay Worship Leader–Darryl Lafferty \nA simple service of Morning Prayers with the St. Paul’s Community.\nJoin us online\nMeeting ID: 86581638808 Passcode: 173902\nor call +1 646 558 8656  Meeting ID: 923 2506 4055
URL:https://stpaulsstockbridge.org/event/wednesday-morning-prayer-online/2025-05-14/
LOCATION:Zoom
CATEGORIES:Online Prayer,Prayer
ATTACH;FMTTYPE=image/jpeg:https://stpaulsstockbridge.org/wp-content/uploads/2023/06/CoffeeMeme.jpg
ORGANIZER;CN="St. Paul's Episcopal Church":MAILTO:stpaulsstockbridge@gmail.com
END:VEVENT
BEGIN:VEVENT
DTSTART;TZID=America/New_York:20250507T083000
DTEND;TZID=America/New_York:20250507T093000
DTSTAMP:20260424T150541
CREATED:20230617T130236Z
LAST-MODIFIED:20240626T134733Z
UID:10001467-1746606600-1746610200@stpaulsstockbridge.org
SUMMARY:Wednesday Morning Prayer (online)
DESCRIPTION:Wednesdays at 8:30 a.m. \nLay Worship Leader–Darryl Lafferty \nA simple service of Morning Prayers with the St. Paul’s Community.\nJoin us online\nMeeting ID: 86581638808 Passcode: 173902\nor call +1 646 558 8656  Meeting ID: 923 2506 4055
URL:https://stpaulsstockbridge.org/event/wednesday-morning-prayer-online/2025-05-07/
LOCATION:Zoom
CATEGORIES:Online Prayer,Prayer
ATTACH;FMTTYPE=image/jpeg:https://stpaulsstockbridge.org/wp-content/uploads/2023/06/CoffeeMeme.jpg
ORGANIZER;CN="St. Paul's Episcopal Church":MAILTO:stpaulsstockbridge@gmail.com
END:VEVENT
BEGIN:VEVENT
DTSTART;TZID=America/New_York:20250430T083000
DTEND;TZID=America/New_York:20250430T093000
DTSTAMP:20260424T150541
CREATED:20230617T130236Z
LAST-MODIFIED:20240626T134733Z
UID:10001466-1746001800-1746005400@stpaulsstockbridge.org
SUMMARY:Wednesday Morning Prayer (online)
DESCRIPTION:Wednesdays at 8:30 a.m. \nLay Worship Leader–Darryl Lafferty \nA simple service of Morning Prayers with the St. Paul’s Community.\nJoin us online\nMeeting ID: 86581638808 Passcode: 173902\nor call +1 646 558 8656  Meeting ID: 923 2506 4055
URL:https://stpaulsstockbridge.org/event/wednesday-morning-prayer-online/2025-04-30/
LOCATION:Zoom
CATEGORIES:Online Prayer,Prayer
ATTACH;FMTTYPE=image/jpeg:https://stpaulsstockbridge.org/wp-content/uploads/2023/06/CoffeeMeme.jpg
ORGANIZER;CN="St. Paul's Episcopal Church":MAILTO:stpaulsstockbridge@gmail.com
END:VEVENT
BEGIN:VEVENT
DTSTART;TZID=America/New_York:20250423T083000
DTEND;TZID=America/New_York:20250423T093000
DTSTAMP:20260424T150541
CREATED:20230617T130236Z
LAST-MODIFIED:20240626T134733Z
UID:10001465-1745397000-1745400600@stpaulsstockbridge.org
SUMMARY:Wednesday Morning Prayer (online)
DESCRIPTION:Wednesdays at 8:30 a.m. \nLay Worship Leader–Darryl Lafferty \nA simple service of Morning Prayers with the St. Paul’s Community.\nJoin us online\nMeeting ID: 86581638808 Passcode: 173902\nor call +1 646 558 8656  Meeting ID: 923 2506 4055
URL:https://stpaulsstockbridge.org/event/wednesday-morning-prayer-online/2025-04-23/
LOCATION:Zoom
CATEGORIES:Online Prayer,Prayer
ATTACH;FMTTYPE=image/jpeg:https://stpaulsstockbridge.org/wp-content/uploads/2023/06/CoffeeMeme.jpg
ORGANIZER;CN="St. Paul's Episcopal Church":MAILTO:stpaulsstockbridge@gmail.com
END:VEVENT
BEGIN:VEVENT
DTSTART;TZID=America/New_York:20250416T083000
DTEND;TZID=America/New_York:20250416T093000
DTSTAMP:20260424T150541
CREATED:20230617T130236Z
LAST-MODIFIED:20240626T134733Z
UID:10001464-1744792200-1744795800@stpaulsstockbridge.org
SUMMARY:Wednesday Morning Prayer (online)
DESCRIPTION:Wednesdays at 8:30 a.m. \nLay Worship Leader–Darryl Lafferty \nA simple service of Morning Prayers with the St. Paul’s Community.\nJoin us online\nMeeting ID: 86581638808 Passcode: 173902\nor call +1 646 558 8656  Meeting ID: 923 2506 4055
URL:https://stpaulsstockbridge.org/event/wednesday-morning-prayer-online/2025-04-16/
LOCATION:Zoom
CATEGORIES:Online Prayer,Prayer
ATTACH;FMTTYPE=image/jpeg:https://stpaulsstockbridge.org/wp-content/uploads/2023/06/CoffeeMeme.jpg
ORGANIZER;CN="St. Paul's Episcopal Church":MAILTO:stpaulsstockbridge@gmail.com
END:VEVENT
BEGIN:VEVENT
DTSTART;TZID=America/New_York:20250409T083000
DTEND;TZID=America/New_York:20250409T093000
DTSTAMP:20260424T150541
CREATED:20230617T130236Z
LAST-MODIFIED:20240626T134733Z
UID:10001463-1744187400-1744191000@stpaulsstockbridge.org
SUMMARY:Wednesday Morning Prayer (online)
DESCRIPTION:Wednesdays at 8:30 a.m. \nLay Worship Leader–Darryl Lafferty \nA simple service of Morning Prayers with the St. Paul’s Community.\nJoin us online\nMeeting ID: 86581638808 Passcode: 173902\nor call +1 646 558 8656  Meeting ID: 923 2506 4055
URL:https://stpaulsstockbridge.org/event/wednesday-morning-prayer-online/2025-04-09/
LOCATION:Zoom
CATEGORIES:Online Prayer,Prayer
ATTACH;FMTTYPE=image/jpeg:https://stpaulsstockbridge.org/wp-content/uploads/2023/06/CoffeeMeme.jpg
ORGANIZER;CN="St. Paul's Episcopal Church":MAILTO:stpaulsstockbridge@gmail.com
END:VEVENT
BEGIN:VEVENT
DTSTART;TZID=America/New_York:20250402T083000
DTEND;TZID=America/New_York:20250402T093000
DTSTAMP:20260424T150541
CREATED:20230617T130236Z
LAST-MODIFIED:20240626T134733Z
UID:10001462-1743582600-1743586200@stpaulsstockbridge.org
SUMMARY:Wednesday Morning Prayer (online)
DESCRIPTION:Wednesdays at 8:30 a.m. \nLay Worship Leader–Darryl Lafferty \nA simple service of Morning Prayers with the St. Paul’s Community.\nJoin us online\nMeeting ID: 86581638808 Passcode: 173902\nor call +1 646 558 8656  Meeting ID: 923 2506 4055
URL:https://stpaulsstockbridge.org/event/wednesday-morning-prayer-online/2025-04-02/
LOCATION:Zoom
CATEGORIES:Online Prayer,Prayer
ATTACH;FMTTYPE=image/jpeg:https://stpaulsstockbridge.org/wp-content/uploads/2023/06/CoffeeMeme.jpg
ORGANIZER;CN="St. Paul's Episcopal Church":MAILTO:stpaulsstockbridge@gmail.com
END:VEVENT
BEGIN:VEVENT
DTSTART;TZID=America/New_York:20250326T083000
DTEND;TZID=America/New_York:20250326T093000
DTSTAMP:20260424T150541
CREATED:20230617T130236Z
LAST-MODIFIED:20240626T134733Z
UID:10001461-1742977800-1742981400@stpaulsstockbridge.org
SUMMARY:Wednesday Morning Prayer (online)
DESCRIPTION:Wednesdays at 8:30 a.m. \nLay Worship Leader–Darryl Lafferty \nA simple service of Morning Prayers with the St. Paul’s Community.\nJoin us online\nMeeting ID: 86581638808 Passcode: 173902\nor call +1 646 558 8656  Meeting ID: 923 2506 4055
URL:https://stpaulsstockbridge.org/event/wednesday-morning-prayer-online/2025-03-26/
LOCATION:Zoom
CATEGORIES:Online Prayer,Prayer
ATTACH;FMTTYPE=image/jpeg:https://stpaulsstockbridge.org/wp-content/uploads/2023/06/CoffeeMeme.jpg
ORGANIZER;CN="St. Paul's Episcopal Church":MAILTO:stpaulsstockbridge@gmail.com
END:VEVENT
BEGIN:VEVENT
DTSTART;TZID=America/New_York:20250319T083000
DTEND;TZID=America/New_York:20250319T093000
DTSTAMP:20260424T150541
CREATED:20230617T130236Z
LAST-MODIFIED:20240626T134733Z
UID:10001460-1742373000-1742376600@stpaulsstockbridge.org
SUMMARY:Wednesday Morning Prayer (online)
DESCRIPTION:Wednesdays at 8:30 a.m. \nLay Worship Leader–Darryl Lafferty \nA simple service of Morning Prayers with the St. Paul’s Community.\nJoin us online\nMeeting ID: 86581638808 Passcode: 173902\nor call +1 646 558 8656  Meeting ID: 923 2506 4055
URL:https://stpaulsstockbridge.org/event/wednesday-morning-prayer-online/2025-03-19/
LOCATION:Zoom
CATEGORIES:Online Prayer,Prayer
ATTACH;FMTTYPE=image/jpeg:https://stpaulsstockbridge.org/wp-content/uploads/2023/06/CoffeeMeme.jpg
ORGANIZER;CN="St. Paul's Episcopal Church":MAILTO:stpaulsstockbridge@gmail.com
END:VEVENT
BEGIN:VEVENT
DTSTART;TZID=America/New_York:20250312T083000
DTEND;TZID=America/New_York:20250312T093000
DTSTAMP:20260424T150541
CREATED:20230617T130236Z
LAST-MODIFIED:20240626T134733Z
UID:10001459-1741768200-1741771800@stpaulsstockbridge.org
SUMMARY:Wednesday Morning Prayer (online)
DESCRIPTION:Wednesdays at 8:30 a.m. \nLay Worship Leader–Darryl Lafferty \nA simple service of Morning Prayers with the St. Paul’s Community.\nJoin us online\nMeeting ID: 86581638808 Passcode: 173902\nor call +1 646 558 8656  Meeting ID: 923 2506 4055
URL:https://stpaulsstockbridge.org/event/wednesday-morning-prayer-online/2025-03-12/
LOCATION:Zoom
CATEGORIES:Online Prayer,Prayer
ATTACH;FMTTYPE=image/jpeg:https://stpaulsstockbridge.org/wp-content/uploads/2023/06/CoffeeMeme.jpg
ORGANIZER;CN="St. Paul's Episcopal Church":MAILTO:stpaulsstockbridge@gmail.com
END:VEVENT
BEGIN:VEVENT
DTSTART;TZID=America/New_York:20250305T083000
DTEND;TZID=America/New_York:20250305T093000
DTSTAMP:20260424T150541
CREATED:20230617T130236Z
LAST-MODIFIED:20240626T134733Z
UID:10001458-1741163400-1741167000@stpaulsstockbridge.org
SUMMARY:Wednesday Morning Prayer (online)
DESCRIPTION:Wednesdays at 8:30 a.m. \nLay Worship Leader–Darryl Lafferty \nA simple service of Morning Prayers with the St. Paul’s Community.\nJoin us online\nMeeting ID: 86581638808 Passcode: 173902\nor call +1 646 558 8656  Meeting ID: 923 2506 4055
URL:https://stpaulsstockbridge.org/event/wednesday-morning-prayer-online/2025-03-05/
LOCATION:Zoom
CATEGORIES:Online Prayer,Prayer
ATTACH;FMTTYPE=image/jpeg:https://stpaulsstockbridge.org/wp-content/uploads/2023/06/CoffeeMeme.jpg
ORGANIZER;CN="St. Paul's Episcopal Church":MAILTO:stpaulsstockbridge@gmail.com
END:VEVENT
BEGIN:VEVENT
DTSTART;TZID=America/New_York:20250227T180000
DTEND;TZID=America/New_York:20250227T190000
DTSTAMP:20260424T150541
CREATED:20250129T181510Z
LAST-MODIFIED:20250218T211414Z
UID:10001536-1740679200-1740682800@stpaulsstockbridge.org
SUMMARY:"St. Paul and the Galatians" Winter Formation on Zoom
DESCRIPTION:
URL:https://stpaulsstockbridge.org/event/st-paul-and-the-galatians-winter-formation-on-zoom/2025-02-27/
LOCATION:Zoom
ORGANIZER;CN="St. Paul's Episcopal Church":MAILTO:stpaulsstockbridge@gmail.com
END:VEVENT
BEGIN:VEVENT
DTSTART;TZID=America/New_York:20250226T083000
DTEND;TZID=America/New_York:20250226T093000
DTSTAMP:20260424T150541
CREATED:20230617T130236Z
LAST-MODIFIED:20240626T134733Z
UID:10001457-1740558600-1740562200@stpaulsstockbridge.org
SUMMARY:Wednesday Morning Prayer (online)
DESCRIPTION:Wednesdays at 8:30 a.m. \nLay Worship Leader–Darryl Lafferty \nA simple service of Morning Prayers with the St. Paul’s Community.\nJoin us online\nMeeting ID: 86581638808 Passcode: 173902\nor call +1 646 558 8656  Meeting ID: 923 2506 4055
URL:https://stpaulsstockbridge.org/event/wednesday-morning-prayer-online/2025-02-26/
LOCATION:Zoom
CATEGORIES:Online Prayer,Prayer
ATTACH;FMTTYPE=image/jpeg:https://stpaulsstockbridge.org/wp-content/uploads/2023/06/CoffeeMeme.jpg
ORGANIZER;CN="St. Paul's Episcopal Church":MAILTO:stpaulsstockbridge@gmail.com
END:VEVENT
BEGIN:VEVENT
DTSTART;TZID=America/New_York:20250220T180000
DTEND;TZID=America/New_York:20250220T190000
DTSTAMP:20260424T150541
CREATED:20250129T181510Z
LAST-MODIFIED:20250218T211414Z
UID:10001535-1740074400-1740078000@stpaulsstockbridge.org
SUMMARY:"St. Paul and the Galatians" Winter Formation on Zoom
DESCRIPTION:
URL:https://stpaulsstockbridge.org/event/st-paul-and-the-galatians-winter-formation-on-zoom/2025-02-20/
LOCATION:Zoom
ORGANIZER;CN="St. Paul's Episcopal Church":MAILTO:stpaulsstockbridge@gmail.com
END:VEVENT
BEGIN:VEVENT
DTSTART;TZID=America/New_York:20250219T083000
DTEND;TZID=America/New_York:20250219T093000
DTSTAMP:20260424T150541
CREATED:20230617T130236Z
LAST-MODIFIED:20240626T134733Z
UID:10001456-1739953800-1739957400@stpaulsstockbridge.org
SUMMARY:Wednesday Morning Prayer (online)
DESCRIPTION:Wednesdays at 8:30 a.m. \nLay Worship Leader–Darryl Lafferty \nA simple service of Morning Prayers with the St. Paul’s Community.\nJoin us online\nMeeting ID: 86581638808 Passcode: 173902\nor call +1 646 558 8656  Meeting ID: 923 2506 4055
URL:https://stpaulsstockbridge.org/event/wednesday-morning-prayer-online/2025-02-19/
LOCATION:Zoom
CATEGORIES:Online Prayer,Prayer
ATTACH;FMTTYPE=image/jpeg:https://stpaulsstockbridge.org/wp-content/uploads/2023/06/CoffeeMeme.jpg
ORGANIZER;CN="St. Paul's Episcopal Church":MAILTO:stpaulsstockbridge@gmail.com
END:VEVENT
BEGIN:VEVENT
DTSTART;TZID=America/New_York:20250213T180000
DTEND;TZID=America/New_York:20250213T190000
DTSTAMP:20260424T150541
CREATED:20250129T181510Z
LAST-MODIFIED:20250218T211414Z
UID:10001534-1739469600-1739473200@stpaulsstockbridge.org
SUMMARY:"St. Paul and the Galatians" Winter Formation on Zoom
DESCRIPTION:
URL:https://stpaulsstockbridge.org/event/st-paul-and-the-galatians-winter-formation-on-zoom/2025-02-13/
LOCATION:Zoom
ORGANIZER;CN="St. Paul's Episcopal Church":MAILTO:stpaulsstockbridge@gmail.com
END:VEVENT
BEGIN:VEVENT
DTSTART;TZID=America/New_York:20250212T083000
DTEND;TZID=America/New_York:20250212T093000
DTSTAMP:20260424T150541
CREATED:20230617T130236Z
LAST-MODIFIED:20240626T134733Z
UID:10001455-1739349000-1739352600@stpaulsstockbridge.org
SUMMARY:Wednesday Morning Prayer (online)
DESCRIPTION:Wednesdays at 8:30 a.m. \nLay Worship Leader–Darryl Lafferty \nA simple service of Morning Prayers with the St. Paul’s Community.\nJoin us online\nMeeting ID: 86581638808 Passcode: 173902\nor call +1 646 558 8656  Meeting ID: 923 2506 4055
URL:https://stpaulsstockbridge.org/event/wednesday-morning-prayer-online/2025-02-12/
LOCATION:Zoom
CATEGORIES:Online Prayer,Prayer
ATTACH;FMTTYPE=image/jpeg:https://stpaulsstockbridge.org/wp-content/uploads/2023/06/CoffeeMeme.jpg
ORGANIZER;CN="St. Paul's Episcopal Church":MAILTO:stpaulsstockbridge@gmail.com
END:VEVENT
BEGIN:VEVENT
DTSTART;TZID=America/New_York:20250206T180000
DTEND;TZID=America/New_York:20250206T190000
DTSTAMP:20260424T150541
CREATED:20250129T181510Z
LAST-MODIFIED:20250218T211414Z
UID:10001533-1738864800-1738868400@stpaulsstockbridge.org
SUMMARY:"St. Paul and the Galatians" Winter Formation on Zoom
DESCRIPTION:
URL:https://stpaulsstockbridge.org/event/st-paul-and-the-galatians-winter-formation-on-zoom/2025-02-06/
LOCATION:Zoom
ORGANIZER;CN="St. Paul's Episcopal Church":MAILTO:stpaulsstockbridge@gmail.com
END:VEVENT
BEGIN:VEVENT
DTSTART;TZID=America/New_York:20250205T083000
DTEND;TZID=America/New_York:20250205T093000
DTSTAMP:20260424T150541
CREATED:20230617T130236Z
LAST-MODIFIED:20240626T134733Z
UID:10001454-1738744200-1738747800@stpaulsstockbridge.org
SUMMARY:Wednesday Morning Prayer (online)
DESCRIPTION:Wednesdays at 8:30 a.m. \nLay Worship Leader–Darryl Lafferty \nA simple service of Morning Prayers with the St. Paul’s Community.\nJoin us online\nMeeting ID: 86581638808 Passcode: 173902\nor call +1 646 558 8656  Meeting ID: 923 2506 4055
URL:https://stpaulsstockbridge.org/event/wednesday-morning-prayer-online/2025-02-05/
LOCATION:Zoom
CATEGORIES:Online Prayer,Prayer
ATTACH;FMTTYPE=image/jpeg:https://stpaulsstockbridge.org/wp-content/uploads/2023/06/CoffeeMeme.jpg
ORGANIZER;CN="St. Paul's Episcopal Church":MAILTO:stpaulsstockbridge@gmail.com
END:VEVENT
BEGIN:VEVENT
DTSTART;TZID=America/New_York:20250130T180000
DTEND;TZID=America/New_York:20250130T190000
DTSTAMP:20260424T150541
CREATED:20250129T181510Z
LAST-MODIFIED:20250218T211414Z
UID:10001532-1738260000-1738263600@stpaulsstockbridge.org
SUMMARY:"St. Paul and the Galatians" Winter Formation on Zoom
DESCRIPTION:
URL:https://stpaulsstockbridge.org/event/st-paul-and-the-galatians-winter-formation-on-zoom/2025-01-30/
LOCATION:Zoom
ORGANIZER;CN="St. Paul's Episcopal Church":MAILTO:stpaulsstockbridge@gmail.com
END:VEVENT
BEGIN:VEVENT
DTSTART;TZID=America/New_York:20250129T083000
DTEND;TZID=America/New_York:20250129T093000
DTSTAMP:20260424T150541
CREATED:20230617T130236Z
LAST-MODIFIED:20240626T134733Z
UID:10001453-1738139400-1738143000@stpaulsstockbridge.org
SUMMARY:Wednesday Morning Prayer (online)
DESCRIPTION:Wednesdays at 8:30 a.m. \nLay Worship Leader–Darryl Lafferty \nA simple service of Morning Prayers with the St. Paul’s Community.\nJoin us online\nMeeting ID: 86581638808 Passcode: 173902\nor call +1 646 558 8656  Meeting ID: 923 2506 4055
URL:https://stpaulsstockbridge.org/event/wednesday-morning-prayer-online/2025-01-29/
LOCATION:Zoom
CATEGORIES:Online Prayer,Prayer
ATTACH;FMTTYPE=image/jpeg:https://stpaulsstockbridge.org/wp-content/uploads/2023/06/CoffeeMeme.jpg
ORGANIZER;CN="St. Paul's Episcopal Church":MAILTO:stpaulsstockbridge@gmail.com
END:VEVENT
BEGIN:VEVENT
DTSTART;TZID=America/New_York:20250123T180000
DTEND;TZID=America/New_York:20250123T190000
DTSTAMP:20260424T150541
CREATED:20250129T181510Z
LAST-MODIFIED:20250218T211414Z
UID:10001531-1737655200-1737658800@stpaulsstockbridge.org
SUMMARY:"St. Paul and the Galatians" Winter Formation on Zoom
DESCRIPTION:
URL:https://stpaulsstockbridge.org/event/st-paul-and-the-galatians-winter-formation-on-zoom/2025-01-23/
LOCATION:Zoom
ORGANIZER;CN="St. Paul's Episcopal Church":MAILTO:stpaulsstockbridge@gmail.com
END:VEVENT
BEGIN:VEVENT
DTSTART;TZID=America/New_York:20250122T083000
DTEND;TZID=America/New_York:20250122T093000
DTSTAMP:20260424T150541
CREATED:20230617T130236Z
LAST-MODIFIED:20240626T134733Z
UID:10001452-1737534600-1737538200@stpaulsstockbridge.org
SUMMARY:Wednesday Morning Prayer (online)
DESCRIPTION:Wednesdays at 8:30 a.m. \nLay Worship Leader–Darryl Lafferty \nA simple service of Morning Prayers with the St. Paul’s Community.\nJoin us online\nMeeting ID: 86581638808 Passcode: 173902\nor call +1 646 558 8656  Meeting ID: 923 2506 4055
URL:https://stpaulsstockbridge.org/event/wednesday-morning-prayer-online/2025-01-22/
LOCATION:Zoom
CATEGORIES:Online Prayer,Prayer
ATTACH;FMTTYPE=image/jpeg:https://stpaulsstockbridge.org/wp-content/uploads/2023/06/CoffeeMeme.jpg
ORGANIZER;CN="St. Paul's Episcopal Church":MAILTO:stpaulsstockbridge@gmail.com
END:VEVENT
BEGIN:VEVENT
DTSTART;TZID=America/New_York:20250116T180000
DTEND;TZID=America/New_York:20250116T190000
DTSTAMP:20260424T150541
CREATED:20250129T181510Z
LAST-MODIFIED:20250218T211414Z
UID:10001530-1737050400-1737054000@stpaulsstockbridge.org
SUMMARY:"St. Paul and the Galatians" Winter Formation on Zoom
DESCRIPTION:
URL:https://stpaulsstockbridge.org/event/st-paul-and-the-galatians-winter-formation-on-zoom/2025-01-16/
LOCATION:Zoom
ORGANIZER;CN="St. Paul's Episcopal Church":MAILTO:stpaulsstockbridge@gmail.com
END:VEVENT
BEGIN:VEVENT
DTSTART;TZID=America/New_York:20250115T083000
DTEND;TZID=America/New_York:20250115T093000
DTSTAMP:20260424T150541
CREATED:20230617T130236Z
LAST-MODIFIED:20240626T134733Z
UID:10001451-1736929800-1736933400@stpaulsstockbridge.org
SUMMARY:Wednesday Morning Prayer (online)
DESCRIPTION:Wednesdays at 8:30 a.m. \nLay Worship Leader–Darryl Lafferty \nA simple service of Morning Prayers with the St. Paul’s Community.\nJoin us online\nMeeting ID: 86581638808 Passcode: 173902\nor call +1 646 558 8656  Meeting ID: 923 2506 4055
URL:https://stpaulsstockbridge.org/event/wednesday-morning-prayer-online/2025-01-15/
LOCATION:Zoom
CATEGORIES:Online Prayer,Prayer
ATTACH;FMTTYPE=image/jpeg:https://stpaulsstockbridge.org/wp-content/uploads/2023/06/CoffeeMeme.jpg
ORGANIZER;CN="St. Paul's Episcopal Church":MAILTO:stpaulsstockbridge@gmail.com
END:VEVENT
BEGIN:VEVENT
DTSTART;TZID=America/New_York:20250108T083000
DTEND;TZID=America/New_York:20250108T093000
DTSTAMP:20260424T150541
CREATED:20230617T130236Z
LAST-MODIFIED:20240626T134733Z
UID:10001450-1736325000-1736328600@stpaulsstockbridge.org
SUMMARY:Wednesday Morning Prayer (online)
DESCRIPTION:Wednesdays at 8:30 a.m. \nLay Worship Leader–Darryl Lafferty \nA simple service of Morning Prayers with the St. Paul’s Community.\nJoin us online\nMeeting ID: 86581638808 Passcode: 173902\nor call +1 646 558 8656  Meeting ID: 923 2506 4055
URL:https://stpaulsstockbridge.org/event/wednesday-morning-prayer-online/2025-01-08/
LOCATION:Zoom
CATEGORIES:Online Prayer,Prayer
ATTACH;FMTTYPE=image/jpeg:https://stpaulsstockbridge.org/wp-content/uploads/2023/06/CoffeeMeme.jpg
ORGANIZER;CN="St. Paul's Episcopal Church":MAILTO:stpaulsstockbridge@gmail.com
END:VEVENT
BEGIN:VEVENT
DTSTART;TZID=America/New_York:20250101T083000
DTEND;TZID=America/New_York:20250101T093000
DTSTAMP:20260424T150541
CREATED:20230617T130236Z
LAST-MODIFIED:20240626T134733Z
UID:10001449-1735720200-1735723800@stpaulsstockbridge.org
SUMMARY:Wednesday Morning Prayer (online)
DESCRIPTION:Wednesdays at 8:30 a.m. \nLay Worship Leader–Darryl Lafferty \nA simple service of Morning Prayers with the St. Paul’s Community.\nJoin us online\nMeeting ID: 86581638808 Passcode: 173902\nor call +1 646 558 8656  Meeting ID: 923 2506 4055
URL:https://stpaulsstockbridge.org/event/wednesday-morning-prayer-online/2025-01-01/
LOCATION:Zoom
CATEGORIES:Online Prayer,Prayer
ATTACH;FMTTYPE=image/jpeg:https://stpaulsstockbridge.org/wp-content/uploads/2023/06/CoffeeMeme.jpg
ORGANIZER;CN="St. Paul's Episcopal Church":MAILTO:stpaulsstockbridge@gmail.com
END:VEVENT
END:VCALENDAR