BEGIN:VCALENDAR
VERSION:2.0
PRODID:-//St Paul&#039;s Episcopal Church in Stockbridge - ECPv6.15.20//NONSGML v1.0//EN
CALSCALE:GREGORIAN
METHOD:PUBLISH
X-WR-CALNAME:St Paul&#039;s Episcopal Church in Stockbridge
X-ORIGINAL-URL:https://stpaulsstockbridge.org
X-WR-CALDESC:Events for St Paul&#039;s Episcopal Church in Stockbridge
REFRESH-INTERVAL;VALUE=DURATION:PT1H
X-Robots-Tag:noindex
X-PUBLISHED-TTL:PT1H
BEGIN:VTIMEZONE
TZID:America/New_York
BEGIN:DAYLIGHT
TZOFFSETFROM:-0500
TZOFFSETTO:-0400
TZNAME:EDT
DTSTART:20220313T070000
END:DAYLIGHT
BEGIN:STANDARD
TZOFFSETFROM:-0400
TZOFFSETTO:-0500
TZNAME:EST
DTSTART:20221106T060000
END:STANDARD
BEGIN:DAYLIGHT
TZOFFSETFROM:-0500
TZOFFSETTO:-0400
TZNAME:EDT
DTSTART:20230312T070000
END:DAYLIGHT
BEGIN:STANDARD
TZOFFSETFROM:-0400
TZOFFSETTO:-0500
TZNAME:EST
DTSTART:20231105T060000
END:STANDARD
BEGIN:DAYLIGHT
TZOFFSETFROM:-0500
TZOFFSETTO:-0400
TZNAME:EDT
DTSTART:20240310T070000
END:DAYLIGHT
BEGIN:STANDARD
TZOFFSETFROM:-0400
TZOFFSETTO:-0500
TZNAME:EST
DTSTART:20241103T060000
END:STANDARD
BEGIN:DAYLIGHT
TZOFFSETFROM:-0500
TZOFFSETTO:-0400
TZNAME:EDT
DTSTART:20250309T070000
END:DAYLIGHT
BEGIN:STANDARD
TZOFFSETFROM:-0400
TZOFFSETTO:-0500
TZNAME:EST
DTSTART:20251102T060000
END:STANDARD
END:VTIMEZONE
BEGIN:VEVENT
DTSTART;TZID=America/New_York:20240529T083000
DTEND;TZID=America/New_York:20240529T093000
DTSTAMP:20260424T215231
CREATED:20230617T130236Z
LAST-MODIFIED:20240626T134733Z
UID:10000062-1716971400-1716975000@stpaulsstockbridge.org
SUMMARY:Wednesday Morning Prayer (online)
DESCRIPTION:Wednesdays at 8:30 a.m. \nLay Worship Leader–Darryl Lafferty \nA simple service of Morning Prayers with the St. Paul’s Community.\nJoin us online\nMeeting ID: 86581638808 Passcode: 173902\nor call +1 646 558 8656  Meeting ID: 923 2506 4055
URL:https://stpaulsstockbridge.org/event/wednesday-morning-prayer-online/2024-05-29/
LOCATION:Zoom
CATEGORIES:Online Prayer,Prayer
ATTACH;FMTTYPE=image/jpeg:https://stpaulsstockbridge.org/wp-content/uploads/2023/06/CoffeeMeme.jpg
ORGANIZER;CN="St. Paul's Episcopal Church":MAILTO:stpaulsstockbridge@gmail.com
END:VEVENT
BEGIN:VEVENT
DTSTART;TZID=America/New_York:20240522T083000
DTEND;TZID=America/New_York:20240522T093000
DTSTAMP:20260424T215231
CREATED:20230617T130236Z
LAST-MODIFIED:20240626T134733Z
UID:10000061-1716366600-1716370200@stpaulsstockbridge.org
SUMMARY:Wednesday Morning Prayer (online)
DESCRIPTION:Wednesdays at 8:30 a.m. \nLay Worship Leader–Darryl Lafferty \nA simple service of Morning Prayers with the St. Paul’s Community.\nJoin us online\nMeeting ID: 86581638808 Passcode: 173902\nor call +1 646 558 8656  Meeting ID: 923 2506 4055
URL:https://stpaulsstockbridge.org/event/wednesday-morning-prayer-online/2024-05-22/
LOCATION:Zoom
CATEGORIES:Online Prayer,Prayer
ATTACH;FMTTYPE=image/jpeg:https://stpaulsstockbridge.org/wp-content/uploads/2023/06/CoffeeMeme.jpg
ORGANIZER;CN="St. Paul's Episcopal Church":MAILTO:stpaulsstockbridge@gmail.com
END:VEVENT
BEGIN:VEVENT
DTSTART;TZID=America/New_York:20240515T083000
DTEND;TZID=America/New_York:20240515T093000
DTSTAMP:20260424T215231
CREATED:20230617T130236Z
LAST-MODIFIED:20240626T134733Z
UID:10000060-1715761800-1715765400@stpaulsstockbridge.org
SUMMARY:Wednesday Morning Prayer (online)
DESCRIPTION:Wednesdays at 8:30 a.m. \nLay Worship Leader–Darryl Lafferty \nA simple service of Morning Prayers with the St. Paul’s Community.\nJoin us online\nMeeting ID: 86581638808 Passcode: 173902\nor call +1 646 558 8656  Meeting ID: 923 2506 4055
URL:https://stpaulsstockbridge.org/event/wednesday-morning-prayer-online/2024-05-15/
LOCATION:Zoom
CATEGORIES:Online Prayer,Prayer
ATTACH;FMTTYPE=image/jpeg:https://stpaulsstockbridge.org/wp-content/uploads/2023/06/CoffeeMeme.jpg
ORGANIZER;CN="St. Paul's Episcopal Church":MAILTO:stpaulsstockbridge@gmail.com
END:VEVENT
BEGIN:VEVENT
DTSTART;TZID=America/New_York:20240508T083000
DTEND;TZID=America/New_York:20240508T093000
DTSTAMP:20260424T215231
CREATED:20230617T130236Z
LAST-MODIFIED:20240626T134733Z
UID:10000059-1715157000-1715160600@stpaulsstockbridge.org
SUMMARY:Wednesday Morning Prayer (online)
DESCRIPTION:Wednesdays at 8:30 a.m. \nLay Worship Leader–Darryl Lafferty \nA simple service of Morning Prayers with the St. Paul’s Community.\nJoin us online\nMeeting ID: 86581638808 Passcode: 173902\nor call +1 646 558 8656  Meeting ID: 923 2506 4055
URL:https://stpaulsstockbridge.org/event/wednesday-morning-prayer-online/2024-05-08/
LOCATION:Zoom
CATEGORIES:Online Prayer,Prayer
ATTACH;FMTTYPE=image/jpeg:https://stpaulsstockbridge.org/wp-content/uploads/2023/06/CoffeeMeme.jpg
ORGANIZER;CN="St. Paul's Episcopal Church":MAILTO:stpaulsstockbridge@gmail.com
END:VEVENT
BEGIN:VEVENT
DTSTART;TZID=America/New_York:20240501T083000
DTEND;TZID=America/New_York:20240501T093000
DTSTAMP:20260424T215231
CREATED:20230617T130236Z
LAST-MODIFIED:20240626T134733Z
UID:10000058-1714552200-1714555800@stpaulsstockbridge.org
SUMMARY:Wednesday Morning Prayer (online)
DESCRIPTION:Wednesdays at 8:30 a.m. \nLay Worship Leader–Darryl Lafferty \nA simple service of Morning Prayers with the St. Paul’s Community.\nJoin us online\nMeeting ID: 86581638808 Passcode: 173902\nor call +1 646 558 8656  Meeting ID: 923 2506 4055
URL:https://stpaulsstockbridge.org/event/wednesday-morning-prayer-online/2024-05-01/
LOCATION:Zoom
CATEGORIES:Online Prayer,Prayer
ATTACH;FMTTYPE=image/jpeg:https://stpaulsstockbridge.org/wp-content/uploads/2023/06/CoffeeMeme.jpg
ORGANIZER;CN="St. Paul's Episcopal Church":MAILTO:stpaulsstockbridge@gmail.com
END:VEVENT
BEGIN:VEVENT
DTSTART;TZID=America/New_York:20240424T083000
DTEND;TZID=America/New_York:20240424T093000
DTSTAMP:20260424T215231
CREATED:20230617T130236Z
LAST-MODIFIED:20240626T134733Z
UID:10000057-1713947400-1713951000@stpaulsstockbridge.org
SUMMARY:Wednesday Morning Prayer (online)
DESCRIPTION:Wednesdays at 8:30 a.m. \nLay Worship Leader–Darryl Lafferty \nA simple service of Morning Prayers with the St. Paul’s Community.\nJoin us online\nMeeting ID: 86581638808 Passcode: 173902\nor call +1 646 558 8656  Meeting ID: 923 2506 4055
URL:https://stpaulsstockbridge.org/event/wednesday-morning-prayer-online/2024-04-24/
LOCATION:Zoom
CATEGORIES:Online Prayer,Prayer
ATTACH;FMTTYPE=image/jpeg:https://stpaulsstockbridge.org/wp-content/uploads/2023/06/CoffeeMeme.jpg
ORGANIZER;CN="St. Paul's Episcopal Church":MAILTO:stpaulsstockbridge@gmail.com
END:VEVENT
BEGIN:VEVENT
DTSTART;TZID=America/New_York:20240417T083000
DTEND;TZID=America/New_York:20240417T093000
DTSTAMP:20260424T215231
CREATED:20230617T130236Z
LAST-MODIFIED:20240626T134733Z
UID:10000056-1713342600-1713346200@stpaulsstockbridge.org
SUMMARY:Wednesday Morning Prayer (online)
DESCRIPTION:Wednesdays at 8:30 a.m. \nLay Worship Leader–Darryl Lafferty \nA simple service of Morning Prayers with the St. Paul’s Community.\nJoin us online\nMeeting ID: 86581638808 Passcode: 173902\nor call +1 646 558 8656  Meeting ID: 923 2506 4055
URL:https://stpaulsstockbridge.org/event/wednesday-morning-prayer-online/2024-04-17/
LOCATION:Zoom
CATEGORIES:Online Prayer,Prayer
ATTACH;FMTTYPE=image/jpeg:https://stpaulsstockbridge.org/wp-content/uploads/2023/06/CoffeeMeme.jpg
ORGANIZER;CN="St. Paul's Episcopal Church":MAILTO:stpaulsstockbridge@gmail.com
END:VEVENT
BEGIN:VEVENT
DTSTART;TZID=America/New_York:20240410T083000
DTEND;TZID=America/New_York:20240410T093000
DTSTAMP:20260424T215231
CREATED:20230617T130236Z
LAST-MODIFIED:20240626T134733Z
UID:10000055-1712737800-1712741400@stpaulsstockbridge.org
SUMMARY:Wednesday Morning Prayer (online)
DESCRIPTION:Wednesdays at 8:30 a.m. \nLay Worship Leader–Darryl Lafferty \nA simple service of Morning Prayers with the St. Paul’s Community.\nJoin us online\nMeeting ID: 86581638808 Passcode: 173902\nor call +1 646 558 8656  Meeting ID: 923 2506 4055
URL:https://stpaulsstockbridge.org/event/wednesday-morning-prayer-online/2024-04-10/
LOCATION:Zoom
CATEGORIES:Online Prayer,Prayer
ATTACH;FMTTYPE=image/jpeg:https://stpaulsstockbridge.org/wp-content/uploads/2023/06/CoffeeMeme.jpg
ORGANIZER;CN="St. Paul's Episcopal Church":MAILTO:stpaulsstockbridge@gmail.com
END:VEVENT
BEGIN:VEVENT
DTSTART;TZID=America/New_York:20240403T083000
DTEND;TZID=America/New_York:20240403T093000
DTSTAMP:20260424T215231
CREATED:20230617T130236Z
LAST-MODIFIED:20240626T134733Z
UID:10000054-1712133000-1712136600@stpaulsstockbridge.org
SUMMARY:Wednesday Morning Prayer (online)
DESCRIPTION:Wednesdays at 8:30 a.m. \nLay Worship Leader–Darryl Lafferty \nA simple service of Morning Prayers with the St. Paul’s Community.\nJoin us online\nMeeting ID: 86581638808 Passcode: 173902\nor call +1 646 558 8656  Meeting ID: 923 2506 4055
URL:https://stpaulsstockbridge.org/event/wednesday-morning-prayer-online/2024-04-03/
LOCATION:Zoom
CATEGORIES:Online Prayer,Prayer
ATTACH;FMTTYPE=image/jpeg:https://stpaulsstockbridge.org/wp-content/uploads/2023/06/CoffeeMeme.jpg
ORGANIZER;CN="St. Paul's Episcopal Church":MAILTO:stpaulsstockbridge@gmail.com
END:VEVENT
BEGIN:VEVENT
DTSTART;TZID=America/New_York:20240327T083000
DTEND;TZID=America/New_York:20240327T093000
DTSTAMP:20260424T215231
CREATED:20230617T130236Z
LAST-MODIFIED:20240626T134733Z
UID:10000053-1711528200-1711531800@stpaulsstockbridge.org
SUMMARY:Wednesday Morning Prayer (online)
DESCRIPTION:Wednesdays at 8:30 a.m. \nLay Worship Leader–Darryl Lafferty \nA simple service of Morning Prayers with the St. Paul’s Community.\nJoin us online\nMeeting ID: 86581638808 Passcode: 173902\nor call +1 646 558 8656  Meeting ID: 923 2506 4055
URL:https://stpaulsstockbridge.org/event/wednesday-morning-prayer-online/2024-03-27/
LOCATION:Zoom
CATEGORIES:Online Prayer,Prayer
ATTACH;FMTTYPE=image/jpeg:https://stpaulsstockbridge.org/wp-content/uploads/2023/06/CoffeeMeme.jpg
ORGANIZER;CN="St. Paul's Episcopal Church":MAILTO:stpaulsstockbridge@gmail.com
END:VEVENT
BEGIN:VEVENT
DTSTART;TZID=America/New_York:20240320T083000
DTEND;TZID=America/New_York:20240320T093000
DTSTAMP:20260424T215231
CREATED:20230617T130236Z
LAST-MODIFIED:20240626T134733Z
UID:10000052-1710923400-1710927000@stpaulsstockbridge.org
SUMMARY:Wednesday Morning Prayer (online)
DESCRIPTION:Wednesdays at 8:30 a.m. \nLay Worship Leader–Darryl Lafferty \nA simple service of Morning Prayers with the St. Paul’s Community.\nJoin us online\nMeeting ID: 86581638808 Passcode: 173902\nor call +1 646 558 8656  Meeting ID: 923 2506 4055
URL:https://stpaulsstockbridge.org/event/wednesday-morning-prayer-online/2024-03-20/
LOCATION:Zoom
CATEGORIES:Online Prayer,Prayer
ATTACH;FMTTYPE=image/jpeg:https://stpaulsstockbridge.org/wp-content/uploads/2023/06/CoffeeMeme.jpg
ORGANIZER;CN="St. Paul's Episcopal Church":MAILTO:stpaulsstockbridge@gmail.com
END:VEVENT
BEGIN:VEVENT
DTSTART;TZID=America/New_York:20240313T083000
DTEND;TZID=America/New_York:20240313T093000
DTSTAMP:20260424T215231
CREATED:20230617T130236Z
LAST-MODIFIED:20240626T134733Z
UID:10000051-1710318600-1710322200@stpaulsstockbridge.org
SUMMARY:Wednesday Morning Prayer (online)
DESCRIPTION:Wednesdays at 8:30 a.m. \nLay Worship Leader–Darryl Lafferty \nA simple service of Morning Prayers with the St. Paul’s Community.\nJoin us online\nMeeting ID: 86581638808 Passcode: 173902\nor call +1 646 558 8656  Meeting ID: 923 2506 4055
URL:https://stpaulsstockbridge.org/event/wednesday-morning-prayer-online/2024-03-13/
LOCATION:Zoom
CATEGORIES:Online Prayer,Prayer
ATTACH;FMTTYPE=image/jpeg:https://stpaulsstockbridge.org/wp-content/uploads/2023/06/CoffeeMeme.jpg
ORGANIZER;CN="St. Paul's Episcopal Church":MAILTO:stpaulsstockbridge@gmail.com
END:VEVENT
BEGIN:VEVENT
DTSTART;TZID=America/New_York:20240306T083000
DTEND;TZID=America/New_York:20240306T093000
DTSTAMP:20260424T215231
CREATED:20230617T130236Z
LAST-MODIFIED:20240626T134733Z
UID:10000050-1709713800-1709717400@stpaulsstockbridge.org
SUMMARY:Wednesday Morning Prayer (online)
DESCRIPTION:Wednesdays at 8:30 a.m. \nLay Worship Leader–Darryl Lafferty \nA simple service of Morning Prayers with the St. Paul’s Community.\nJoin us online\nMeeting ID: 86581638808 Passcode: 173902\nor call +1 646 558 8656  Meeting ID: 923 2506 4055
URL:https://stpaulsstockbridge.org/event/wednesday-morning-prayer-online/2024-03-06/
LOCATION:Zoom
CATEGORIES:Online Prayer,Prayer
ATTACH;FMTTYPE=image/jpeg:https://stpaulsstockbridge.org/wp-content/uploads/2023/06/CoffeeMeme.jpg
ORGANIZER;CN="St. Paul's Episcopal Church":MAILTO:stpaulsstockbridge@gmail.com
END:VEVENT
BEGIN:VEVENT
DTSTART;TZID=America/New_York:20240228T083000
DTEND;TZID=America/New_York:20240228T093000
DTSTAMP:20260424T215231
CREATED:20230617T130236Z
LAST-MODIFIED:20240626T134733Z
UID:10000049-1709109000-1709112600@stpaulsstockbridge.org
SUMMARY:Wednesday Morning Prayer (online)
DESCRIPTION:Wednesdays at 8:30 a.m. \nLay Worship Leader–Darryl Lafferty \nA simple service of Morning Prayers with the St. Paul’s Community.\nJoin us online\nMeeting ID: 86581638808 Passcode: 173902\nor call +1 646 558 8656  Meeting ID: 923 2506 4055
URL:https://stpaulsstockbridge.org/event/wednesday-morning-prayer-online/2024-02-28/
LOCATION:Zoom
CATEGORIES:Online Prayer,Prayer
ATTACH;FMTTYPE=image/jpeg:https://stpaulsstockbridge.org/wp-content/uploads/2023/06/CoffeeMeme.jpg
ORGANIZER;CN="St. Paul's Episcopal Church":MAILTO:stpaulsstockbridge@gmail.com
END:VEVENT
BEGIN:VEVENT
DTSTART;TZID=America/New_York:20240221T083000
DTEND;TZID=America/New_York:20240221T093000
DTSTAMP:20260424T215231
CREATED:20230617T130236Z
LAST-MODIFIED:20240626T134733Z
UID:10000048-1708504200-1708507800@stpaulsstockbridge.org
SUMMARY:Wednesday Morning Prayer (online)
DESCRIPTION:Wednesdays at 8:30 a.m. \nLay Worship Leader–Darryl Lafferty \nA simple service of Morning Prayers with the St. Paul’s Community.\nJoin us online\nMeeting ID: 86581638808 Passcode: 173902\nor call +1 646 558 8656  Meeting ID: 923 2506 4055
URL:https://stpaulsstockbridge.org/event/wednesday-morning-prayer-online/2024-02-21/
LOCATION:Zoom
CATEGORIES:Online Prayer,Prayer
ATTACH;FMTTYPE=image/jpeg:https://stpaulsstockbridge.org/wp-content/uploads/2023/06/CoffeeMeme.jpg
ORGANIZER;CN="St. Paul's Episcopal Church":MAILTO:stpaulsstockbridge@gmail.com
END:VEVENT
BEGIN:VEVENT
DTSTART;TZID=America/New_York:20240214T083000
DTEND;TZID=America/New_York:20240214T093000
DTSTAMP:20260424T215231
CREATED:20230617T130236Z
LAST-MODIFIED:20240626T134733Z
UID:10000047-1707899400-1707903000@stpaulsstockbridge.org
SUMMARY:Wednesday Morning Prayer (online)
DESCRIPTION:Wednesdays at 8:30 a.m. \nLay Worship Leader–Darryl Lafferty \nA simple service of Morning Prayers with the St. Paul’s Community.\nJoin us online\nMeeting ID: 86581638808 Passcode: 173902\nor call +1 646 558 8656  Meeting ID: 923 2506 4055
URL:https://stpaulsstockbridge.org/event/wednesday-morning-prayer-online/2024-02-14/
LOCATION:Zoom
CATEGORIES:Online Prayer,Prayer
ATTACH;FMTTYPE=image/jpeg:https://stpaulsstockbridge.org/wp-content/uploads/2023/06/CoffeeMeme.jpg
ORGANIZER;CN="St. Paul's Episcopal Church":MAILTO:stpaulsstockbridge@gmail.com
END:VEVENT
BEGIN:VEVENT
DTSTART;TZID=America/New_York:20240207T083000
DTEND;TZID=America/New_York:20240207T093000
DTSTAMP:20260424T215231
CREATED:20230617T130236Z
LAST-MODIFIED:20240626T134733Z
UID:10000046-1707294600-1707298200@stpaulsstockbridge.org
SUMMARY:Wednesday Morning Prayer (online)
DESCRIPTION:Wednesdays at 8:30 a.m. \nLay Worship Leader–Darryl Lafferty \nA simple service of Morning Prayers with the St. Paul’s Community.\nJoin us online\nMeeting ID: 86581638808 Passcode: 173902\nor call +1 646 558 8656  Meeting ID: 923 2506 4055
URL:https://stpaulsstockbridge.org/event/wednesday-morning-prayer-online/2024-02-07/
LOCATION:Zoom
CATEGORIES:Online Prayer,Prayer
ATTACH;FMTTYPE=image/jpeg:https://stpaulsstockbridge.org/wp-content/uploads/2023/06/CoffeeMeme.jpg
ORGANIZER;CN="St. Paul's Episcopal Church":MAILTO:stpaulsstockbridge@gmail.com
END:VEVENT
BEGIN:VEVENT
DTSTART;TZID=America/New_York:20240131T083000
DTEND;TZID=America/New_York:20240131T093000
DTSTAMP:20260424T215231
CREATED:20230617T130236Z
LAST-MODIFIED:20240626T134733Z
UID:10000045-1706689800-1706693400@stpaulsstockbridge.org
SUMMARY:Wednesday Morning Prayer (online)
DESCRIPTION:Wednesdays at 8:30 a.m. \nLay Worship Leader–Darryl Lafferty \nA simple service of Morning Prayers with the St. Paul’s Community.\nJoin us online\nMeeting ID: 86581638808 Passcode: 173902\nor call +1 646 558 8656  Meeting ID: 923 2506 4055
URL:https://stpaulsstockbridge.org/event/wednesday-morning-prayer-online/2024-01-31/
LOCATION:Zoom
CATEGORIES:Online Prayer,Prayer
ATTACH;FMTTYPE=image/jpeg:https://stpaulsstockbridge.org/wp-content/uploads/2023/06/CoffeeMeme.jpg
ORGANIZER;CN="St. Paul's Episcopal Church":MAILTO:stpaulsstockbridge@gmail.com
END:VEVENT
BEGIN:VEVENT
DTSTART;TZID=America/New_York:20240124T083000
DTEND;TZID=America/New_York:20240124T093000
DTSTAMP:20260424T215231
CREATED:20230617T130236Z
LAST-MODIFIED:20240626T134733Z
UID:10000044-1706085000-1706088600@stpaulsstockbridge.org
SUMMARY:Wednesday Morning Prayer (online)
DESCRIPTION:Wednesdays at 8:30 a.m. \nLay Worship Leader–Darryl Lafferty \nA simple service of Morning Prayers with the St. Paul’s Community.\nJoin us online\nMeeting ID: 86581638808 Passcode: 173902\nor call +1 646 558 8656  Meeting ID: 923 2506 4055
URL:https://stpaulsstockbridge.org/event/wednesday-morning-prayer-online/2024-01-24/
LOCATION:Zoom
CATEGORIES:Online Prayer,Prayer
ATTACH;FMTTYPE=image/jpeg:https://stpaulsstockbridge.org/wp-content/uploads/2023/06/CoffeeMeme.jpg
ORGANIZER;CN="St. Paul's Episcopal Church":MAILTO:stpaulsstockbridge@gmail.com
END:VEVENT
BEGIN:VEVENT
DTSTART;TZID=America/New_York:20240117T083000
DTEND;TZID=America/New_York:20240117T093000
DTSTAMP:20260424T215231
CREATED:20230617T130236Z
LAST-MODIFIED:20240626T134733Z
UID:10000043-1705480200-1705483800@stpaulsstockbridge.org
SUMMARY:Wednesday Morning Prayer (online)
DESCRIPTION:Wednesdays at 8:30 a.m. \nLay Worship Leader–Darryl Lafferty \nA simple service of Morning Prayers with the St. Paul’s Community.\nJoin us online\nMeeting ID: 86581638808 Passcode: 173902\nor call +1 646 558 8656  Meeting ID: 923 2506 4055
URL:https://stpaulsstockbridge.org/event/wednesday-morning-prayer-online/2024-01-17/
LOCATION:Zoom
CATEGORIES:Online Prayer,Prayer
ATTACH;FMTTYPE=image/jpeg:https://stpaulsstockbridge.org/wp-content/uploads/2023/06/CoffeeMeme.jpg
ORGANIZER;CN="St. Paul's Episcopal Church":MAILTO:stpaulsstockbridge@gmail.com
END:VEVENT
BEGIN:VEVENT
DTSTART;TZID=America/New_York:20240110T083000
DTEND;TZID=America/New_York:20240110T093000
DTSTAMP:20260424T215231
CREATED:20230617T130236Z
LAST-MODIFIED:20240626T134733Z
UID:10000042-1704875400-1704879000@stpaulsstockbridge.org
SUMMARY:Wednesday Morning Prayer (online)
DESCRIPTION:Wednesdays at 8:30 a.m. \nLay Worship Leader–Darryl Lafferty \nA simple service of Morning Prayers with the St. Paul’s Community.\nJoin us online\nMeeting ID: 86581638808 Passcode: 173902\nor call +1 646 558 8656  Meeting ID: 923 2506 4055
URL:https://stpaulsstockbridge.org/event/wednesday-morning-prayer-online/2024-01-10/
LOCATION:Zoom
CATEGORIES:Online Prayer,Prayer
ATTACH;FMTTYPE=image/jpeg:https://stpaulsstockbridge.org/wp-content/uploads/2023/06/CoffeeMeme.jpg
ORGANIZER;CN="St. Paul's Episcopal Church":MAILTO:stpaulsstockbridge@gmail.com
END:VEVENT
BEGIN:VEVENT
DTSTART;TZID=America/New_York:20240103T083000
DTEND;TZID=America/New_York:20240103T093000
DTSTAMP:20260424T215231
CREATED:20230617T130236Z
LAST-MODIFIED:20240626T134733Z
UID:10000041-1704270600-1704274200@stpaulsstockbridge.org
SUMMARY:Wednesday Morning Prayer (online)
DESCRIPTION:Wednesdays at 8:30 a.m. \nLay Worship Leader–Darryl Lafferty \nA simple service of Morning Prayers with the St. Paul’s Community.\nJoin us online\nMeeting ID: 86581638808 Passcode: 173902\nor call +1 646 558 8656  Meeting ID: 923 2506 4055
URL:https://stpaulsstockbridge.org/event/wednesday-morning-prayer-online/2024-01-03/
LOCATION:Zoom
CATEGORIES:Online Prayer,Prayer
ATTACH;FMTTYPE=image/jpeg:https://stpaulsstockbridge.org/wp-content/uploads/2023/06/CoffeeMeme.jpg
ORGANIZER;CN="St. Paul's Episcopal Church":MAILTO:stpaulsstockbridge@gmail.com
END:VEVENT
BEGIN:VEVENT
DTSTART;TZID=America/New_York:20231227T083000
DTEND;TZID=America/New_York:20231227T093000
DTSTAMP:20260424T215231
CREATED:20230617T130236Z
LAST-MODIFIED:20240626T134733Z
UID:10000040-1703665800-1703669400@stpaulsstockbridge.org
SUMMARY:Wednesday Morning Prayer (online)
DESCRIPTION:Wednesdays at 8:30 a.m. \nLay Worship Leader–Darryl Lafferty \nA simple service of Morning Prayers with the St. Paul’s Community.\nJoin us online\nMeeting ID: 86581638808 Passcode: 173902\nor call +1 646 558 8656  Meeting ID: 923 2506 4055
URL:https://stpaulsstockbridge.org/event/wednesday-morning-prayer-online/2023-12-27/
LOCATION:Zoom
CATEGORIES:Online Prayer,Prayer
ATTACH;FMTTYPE=image/jpeg:https://stpaulsstockbridge.org/wp-content/uploads/2023/06/CoffeeMeme.jpg
ORGANIZER;CN="St. Paul's Episcopal Church":MAILTO:stpaulsstockbridge@gmail.com
END:VEVENT
BEGIN:VEVENT
DTSTART;TZID=America/New_York:20231220T083000
DTEND;TZID=America/New_York:20231220T093000
DTSTAMP:20260424T215231
CREATED:20230617T130236Z
LAST-MODIFIED:20240626T134733Z
UID:10000039-1703061000-1703064600@stpaulsstockbridge.org
SUMMARY:Wednesday Morning Prayer (online)
DESCRIPTION:Wednesdays at 8:30 a.m. \nLay Worship Leader–Darryl Lafferty \nA simple service of Morning Prayers with the St. Paul’s Community.\nJoin us online\nMeeting ID: 86581638808 Passcode: 173902\nor call +1 646 558 8656  Meeting ID: 923 2506 4055
URL:https://stpaulsstockbridge.org/event/wednesday-morning-prayer-online/2023-12-20/
LOCATION:Zoom
CATEGORIES:Online Prayer,Prayer
ATTACH;FMTTYPE=image/jpeg:https://stpaulsstockbridge.org/wp-content/uploads/2023/06/CoffeeMeme.jpg
ORGANIZER;CN="St. Paul's Episcopal Church":MAILTO:stpaulsstockbridge@gmail.com
END:VEVENT
BEGIN:VEVENT
DTSTART;TZID=America/New_York:20231213T083000
DTEND;TZID=America/New_York:20231213T093000
DTSTAMP:20260424T215231
CREATED:20230617T130236Z
LAST-MODIFIED:20240626T134733Z
UID:10000038-1702456200-1702459800@stpaulsstockbridge.org
SUMMARY:Wednesday Morning Prayer (online)
DESCRIPTION:Wednesdays at 8:30 a.m. \nLay Worship Leader–Darryl Lafferty \nA simple service of Morning Prayers with the St. Paul’s Community.\nJoin us online\nMeeting ID: 86581638808 Passcode: 173902\nor call +1 646 558 8656  Meeting ID: 923 2506 4055
URL:https://stpaulsstockbridge.org/event/wednesday-morning-prayer-online/2023-12-13/
LOCATION:Zoom
CATEGORIES:Online Prayer,Prayer
ATTACH;FMTTYPE=image/jpeg:https://stpaulsstockbridge.org/wp-content/uploads/2023/06/CoffeeMeme.jpg
ORGANIZER;CN="St. Paul's Episcopal Church":MAILTO:stpaulsstockbridge@gmail.com
END:VEVENT
BEGIN:VEVENT
DTSTART;TZID=America/New_York:20231206T083000
DTEND;TZID=America/New_York:20231206T093000
DTSTAMP:20260424T215231
CREATED:20230617T130236Z
LAST-MODIFIED:20240626T134733Z
UID:10000037-1701851400-1701855000@stpaulsstockbridge.org
SUMMARY:Wednesday Morning Prayer (online)
DESCRIPTION:Wednesdays at 8:30 a.m. \nLay Worship Leader–Darryl Lafferty \nA simple service of Morning Prayers with the St. Paul’s Community.\nJoin us online\nMeeting ID: 86581638808 Passcode: 173902\nor call +1 646 558 8656  Meeting ID: 923 2506 4055
URL:https://stpaulsstockbridge.org/event/wednesday-morning-prayer-online/2023-12-06/
LOCATION:Zoom
CATEGORIES:Online Prayer,Prayer
ATTACH;FMTTYPE=image/jpeg:https://stpaulsstockbridge.org/wp-content/uploads/2023/06/CoffeeMeme.jpg
ORGANIZER;CN="St. Paul's Episcopal Church":MAILTO:stpaulsstockbridge@gmail.com
END:VEVENT
BEGIN:VEVENT
DTSTART;TZID=America/New_York:20231129T083000
DTEND;TZID=America/New_York:20231129T093000
DTSTAMP:20260424T215231
CREATED:20230617T130236Z
LAST-MODIFIED:20240626T134733Z
UID:10000036-1701246600-1701250200@stpaulsstockbridge.org
SUMMARY:Wednesday Morning Prayer (online)
DESCRIPTION:Wednesdays at 8:30 a.m. \nLay Worship Leader–Darryl Lafferty \nA simple service of Morning Prayers with the St. Paul’s Community.\nJoin us online\nMeeting ID: 86581638808 Passcode: 173902\nor call +1 646 558 8656  Meeting ID: 923 2506 4055
URL:https://stpaulsstockbridge.org/event/wednesday-morning-prayer-online/2023-11-29/
LOCATION:Zoom
CATEGORIES:Online Prayer,Prayer
ATTACH;FMTTYPE=image/jpeg:https://stpaulsstockbridge.org/wp-content/uploads/2023/06/CoffeeMeme.jpg
ORGANIZER;CN="St. Paul's Episcopal Church":MAILTO:stpaulsstockbridge@gmail.com
END:VEVENT
BEGIN:VEVENT
DTSTART;TZID=America/New_York:20231122T083000
DTEND;TZID=America/New_York:20231122T093000
DTSTAMP:20260424T215231
CREATED:20230617T130236Z
LAST-MODIFIED:20240626T134733Z
UID:10000035-1700641800-1700645400@stpaulsstockbridge.org
SUMMARY:Wednesday Morning Prayer (online)
DESCRIPTION:Wednesdays at 8:30 a.m. \nLay Worship Leader–Darryl Lafferty \nA simple service of Morning Prayers with the St. Paul’s Community.\nJoin us online\nMeeting ID: 86581638808 Passcode: 173902\nor call +1 646 558 8656  Meeting ID: 923 2506 4055
URL:https://stpaulsstockbridge.org/event/wednesday-morning-prayer-online/2023-11-22/
LOCATION:Zoom
CATEGORIES:Online Prayer,Prayer
ATTACH;FMTTYPE=image/jpeg:https://stpaulsstockbridge.org/wp-content/uploads/2023/06/CoffeeMeme.jpg
ORGANIZER;CN="St. Paul's Episcopal Church":MAILTO:stpaulsstockbridge@gmail.com
END:VEVENT
BEGIN:VEVENT
DTSTART;TZID=America/New_York:20231115T083000
DTEND;TZID=America/New_York:20231115T093000
DTSTAMP:20260424T215231
CREATED:20230617T130236Z
LAST-MODIFIED:20240626T134733Z
UID:10000034-1700037000-1700040600@stpaulsstockbridge.org
SUMMARY:Wednesday Morning Prayer (online)
DESCRIPTION:Wednesdays at 8:30 a.m. \nLay Worship Leader–Darryl Lafferty \nA simple service of Morning Prayers with the St. Paul’s Community.\nJoin us online\nMeeting ID: 86581638808 Passcode: 173902\nor call +1 646 558 8656  Meeting ID: 923 2506 4055
URL:https://stpaulsstockbridge.org/event/wednesday-morning-prayer-online/2023-11-15/
LOCATION:Zoom
CATEGORIES:Online Prayer,Prayer
ATTACH;FMTTYPE=image/jpeg:https://stpaulsstockbridge.org/wp-content/uploads/2023/06/CoffeeMeme.jpg
ORGANIZER;CN="St. Paul's Episcopal Church":MAILTO:stpaulsstockbridge@gmail.com
END:VEVENT
BEGIN:VEVENT
DTSTART;TZID=America/New_York:20231108T083000
DTEND;TZID=America/New_York:20231108T093000
DTSTAMP:20260424T215231
CREATED:20230617T130236Z
LAST-MODIFIED:20240626T134733Z
UID:10000033-1699432200-1699435800@stpaulsstockbridge.org
SUMMARY:Wednesday Morning Prayer (online)
DESCRIPTION:Wednesdays at 8:30 a.m. \nLay Worship Leader–Darryl Lafferty \nA simple service of Morning Prayers with the St. Paul’s Community.\nJoin us online\nMeeting ID: 86581638808 Passcode: 173902\nor call +1 646 558 8656  Meeting ID: 923 2506 4055
URL:https://stpaulsstockbridge.org/event/wednesday-morning-prayer-online/2023-11-08/
LOCATION:Zoom
CATEGORIES:Online Prayer,Prayer
ATTACH;FMTTYPE=image/jpeg:https://stpaulsstockbridge.org/wp-content/uploads/2023/06/CoffeeMeme.jpg
ORGANIZER;CN="St. Paul's Episcopal Church":MAILTO:stpaulsstockbridge@gmail.com
END:VEVENT
END:VCALENDAR